BEGIN:VCALENDAR
VERSION:2.0
PRODID:-//Zaraband - ECPv6.15.20//NONSGML v1.0//EN
CALSCALE:GREGORIAN
METHOD:PUBLISH
X-WR-CALNAME:Zaraband
X-ORIGINAL-URL:https://zaraband.es
X-WR-CALDESC:Eventos para Zaraband
REFRESH-INTERVAL;VALUE=DURATION:PT1H
X-Robots-Tag:noindex
X-PUBLISHED-TTL:PT1H
BEGIN:VTIMEZONE
TZID:UTC
BEGIN:STANDARD
TZOFFSETFROM:+0000
TZOFFSETTO:+0000
TZNAME:UTC
DTSTART:20240101T000000
END:STANDARD
END:VTIMEZONE
BEGIN:VEVENT
DTSTART;TZID=UTC:20251005T090000
DTEND;TZID=UTC:20251005T090000
DTSTAMP:20260425T133938
CREATED:20250921T190534Z
LAST-MODIFIED:20250921T223637Z
UID:4676-1759654800-1759654800@zaraband.es
SUMMARY:IV Trofeo Ibercaja-Ciudad de Zaragoza de tenis masculino
DESCRIPTION:
URL:https://zaraband.es/evento/iv-trofeo-ibercaja-ciudad-de-zaragoza-de-tenis-masculino-3/
LOCATION:SD Tiro del Pichon\, Av. de la Almozara\, 56\, Zaragoza\, 50003
CATEGORIES:Deporte
END:VEVENT
BEGIN:VEVENT
DTSTART;TZID=UTC:20251005T090000
DTEND;TZID=UTC:20251005T090000
DTSTAMP:20260425T133938
CREATED:20250921T190534Z
LAST-MODIFIED:20250921T190534Z
UID:4677-1759654800-1759654800@zaraband.es
SUMMARY:XXXVIII Trofeo Ibercaja Ciudad de Zaragoza de piragüismo
DESCRIPTION:
URL:https://zaraband.es/evento/xxxviii-trofeo-ibercaja-ciudad-de-zaragoza-de-piraguismo/
LOCATION:Embarcadero de Vadorrey\, Paseo de la Ribera\, s/n\, Zaragoza\, 50014
CATEGORIES:Deporte
END:VEVENT
BEGIN:VEVENT
DTSTART;TZID=UTC:20251005T080000
DTEND;TZID=UTC:20251005T080000
DTSTAMP:20260425T133938
CREATED:20250908T224539Z
LAST-MODIFIED:20250921T190520Z
UID:3567-1759651200-1759651200@zaraband.es
SUMMARY:Mañanas Vaquilleras (vaquillas)
DESCRIPTION:
URL:https://zaraband.es/evento/mananas-vaquilleras-vaquillas/
LOCATION:Plaza de toros de la Misericordia\, C. de Ramón Pignatelli 120\, Zaragoza\, 50004
CATEGORIES:Tauromaquia
END:VEVENT
BEGIN:VEVENT
DTSTART;TZID=UTC:20251004T235900
DTEND;TZID=UTC:20251004T235900
DTSTAMP:20260425T133938
CREATED:20250921T190520Z
LAST-MODIFIED:20250921T190520Z
UID:4674-1759622340-1759622340@zaraband.es
SUMMARY:Alma Bakala
DESCRIPTION:
URL:https://zaraband.es/evento/alma-bakala-4/
LOCATION:Espacio Zity\, Recinto ferial de valdespartera de zaragoza - zona atracciones\, Zaragoza\, 50019
CATEGORIES:Música
END:VEVENT
BEGIN:VEVENT
DTSTART;TZID=UTC:20251004T235900
DTEND;TZID=UTC:20251004T235900
DTSTAMP:20260425T133938
CREATED:20250921T190520Z
LAST-MODIFIED:20250921T190520Z
UID:4675-1759622340-1759622340@zaraband.es
SUMMARY:Food Trucks: Dj Eduesteb
DESCRIPTION:
URL:https://zaraband.es/evento/food-trucks-dj-eduesteb/
LOCATION:Ebro Food Festival\, P. Echegaray y Caballero\, 12\, Zaragoza\, 50003
CATEGORIES:Música
END:VEVENT
BEGIN:VEVENT
DTSTART;TZID=UTC:20251004T230000
DTEND;TZID=UTC:20251004T230000
DTSTAMP:20260425T133938
CREATED:20250921T190519Z
LAST-MODIFIED:20250921T190519Z
UID:4673-1759618800-1759618800@zaraband.es
SUMMARY:Rondas joteras: El Cachirulo
DESCRIPTION:
URL:https://zaraband.es/evento/rondas-joteras-el-cachirulo/
LOCATION:Plaza de San Miguel\, Plaza de San Miguel\, s/n\, Zaragoza\, 50001
CATEGORIES:Tradicional
END:VEVENT
BEGIN:VEVENT
DTSTART;TZID=UTC:20251004T220000
DTEND;TZID=UTC:20251004T220000
DTSTAMP:20260425T133938
CREATED:20250921T190519Z
LAST-MODIFIED:20250921T190519Z
UID:4672-1759615200-1759615200@zaraband.es
SUMMARY:Espacio Zity: Melendi
DESCRIPTION:
URL:https://zaraband.es/evento/espacio-zity-melendi/
LOCATION:Espacio Zity\, Recinto ferial de valdespartera de zaragoza - zona atracciones\, Zaragoza\, 50019
CATEGORIES:Música
END:VEVENT
BEGIN:VEVENT
DTSTART;TZID=UTC:20251004T220000
DTEND;TZID=UTC:20251004T220000
DTSTAMP:20260425T133938
CREATED:20250921T190505Z
LAST-MODIFIED:20250921T190505Z
UID:4671-1759615200-1759615200@zaraband.es
SUMMARY:Food Trucks: Hombres B
DESCRIPTION:
URL:https://zaraband.es/evento/food-trucks-hombres-b/
LOCATION:Ebro Food Festival\, P. Echegaray y Caballero\, 12\, Zaragoza\, 50003
CATEGORIES:Música
END:VEVENT
BEGIN:VEVENT
DTSTART;TZID=UTC:20251004T220000
DTEND;TZID=UTC:20251004T220000
DTSTAMP:20260425T133938
CREATED:20250908T222931Z
LAST-MODIFIED:20250921T190505Z
UID:3527-1759615200-1759615200@zaraband.es
SUMMARY:Circo del miedo
DESCRIPTION:
URL:https://zaraband.es/evento/circo-del-miedo-12/
LOCATION:Recinto Ferial Valdespartera\, Recinto ferial de valdespartera de zaragoza - zona atracciones\, Zaragoza\, 50019
CATEGORIES:Magia y circo
END:VEVENT
BEGIN:VEVENT
DTSTART;TZID=UTC:20251004T213000
DTEND;TZID=UTC:20251004T213000
DTSTAMP:20260425T133938
CREATED:20250921T190505Z
LAST-MODIFIED:20250921T190505Z
UID:4670-1759613400-1759613400@zaraband.es
SUMMARY:Bonebreaker
DESCRIPTION:
URL:https://zaraband.es/evento/bonebreaker/
LOCATION:Sala Z\, Calle Félix Latassa\, 14\, Zaragoza\, 50006
CATEGORIES:Música
END:VEVENT
BEGIN:VEVENT
DTSTART;TZID=UTC:20251004T213000
DTEND;TZID=UTC:20251004T213000
DTSTAMP:20260425T133938
CREATED:20250921T190505Z
LAST-MODIFIED:20250921T190505Z
UID:4669-1759613400-1759613400@zaraband.es
SUMMARY:Europa FM presenta Pablo López
DESCRIPTION:
URL:https://zaraband.es/evento/europa-fm-presenta-pablo-lopez/
LOCATION:Ayuntamiento de Zaragoza\, Pl. de Ntra. Sra. del Pilar\, 18\, Zaragoza\, 50003
CATEGORIES:Música
END:VEVENT
BEGIN:VEVENT
DTSTART;TZID=UTC:20251004T213000
DTEND;TZID=UTC:20251004T213000
DTSTAMP:20260425T133938
CREATED:20250908T225544Z
LAST-MODIFIED:20250921T190505Z
UID:3595-1759613400-1759613400@zaraband.es
SUMMARY:David Civera
DESCRIPTION:
URL:https://zaraband.es/evento/david-civera/
LOCATION:Sala Campus\, C. del Maestro Luna\, 7\, Zaragoza\, 50003
CATEGORIES:Música
END:VEVENT
BEGIN:VEVENT
DTSTART;TZID=UTC:20251004T212000
DTEND;TZID=UTC:20251004T212000
DTSTAMP:20260425T133938
CREATED:20250921T190450Z
LAST-MODIFIED:20250921T190450Z
UID:4668-1759612800-1759612800@zaraband.es
SUMMARY:Ritmos & Barras
DESCRIPTION:
URL:https://zaraband.es/evento/ritmos-barras/
LOCATION:Estación del Norte\, C/ Perdiguera\, 7\, Zaragoza\, 50014
CATEGORIES:Música
END:VEVENT
BEGIN:VEVENT
DTSTART;TZID=UTC:20251004T210000
DTEND;TZID=UTC:20251004T210000
DTSTAMP:20260425T133938
CREATED:20250921T190450Z
LAST-MODIFIED:20250921T190450Z
UID:4667-1759611600-1759611600@zaraband.es
SUMMARY:Lectura del pregón de fiestas 2025
DESCRIPTION:
URL:https://zaraband.es/evento/lectura-del-pregon-de-fiestas-2025/
LOCATION:Ayuntamiento de Zaragoza\, Pl. de Ntra. Sra. del Pilar\, 18\, Zaragoza\, 50003
CATEGORIES:Tradicional
END:VEVENT
BEGIN:VEVENT
DTSTART;TZID=UTC:20251004T210000
DTEND;TZID=UTC:20251004T210000
DTSTAMP:20260425T133938
CREATED:20250921T190449Z
LAST-MODIFIED:20250921T190449Z
UID:4666-1759611600-1759611600@zaraband.es
SUMMARY:La Séptima Farola
DESCRIPTION:
URL:https://zaraband.es/evento/la-septima-farola/
LOCATION:La Ley Seca\, Calle Sevilla\, 2\, Zaragoza\, 50014
CATEGORIES:Música
END:VEVENT
BEGIN:VEVENT
DTSTART;TZID=UTC:20251004T210000
DTEND;TZID=UTC:20251004T210000
DTSTAMP:20260425T133938
CREATED:20250921T190435Z
LAST-MODIFIED:20250921T190435Z
UID:4665-1759611600-1759611600@zaraband.es
SUMMARY:Party Sixty
DESCRIPTION:
URL:https://zaraband.es/evento/party-sixty/
LOCATION:Sala Creedence\, Plaza San Lamberto\, 3\, Zaragoza\, 50004
CATEGORIES:Música
END:VEVENT
BEGIN:VEVENT
DTSTART;TZID=UTC:20251004T210000
DTEND;TZID=UTC:20251004T210000
DTSTAMP:20260425T133938
CREATED:20250908T225544Z
LAST-MODIFIED:20250921T190435Z
UID:3594-1759611600-1759611600@zaraband.es
SUMMARY:Los Coringas: Latin Rockin' Zaragozano
DESCRIPTION:
URL:https://zaraband.es/evento/los-coringas-latin-rockin-zaragozano/
LOCATION:La casa del Loco\, Cl. Mayor\, 10\, Zaragoza\, 50001
CATEGORIES:Música
END:VEVENT
BEGIN:VEVENT
DTSTART;TZID=UTC:20251004T210000
DTEND;TZID=UTC:20251004T210000
DTSTAMP:20260425T133938
CREATED:20250908T221323Z
LAST-MODIFIED:20251003T211432Z
UID:3487-1759611600-1759611600@zaraband.es
SUMMARY:MAMMA MIA! Musical
DESCRIPTION:
URL:https://zaraband.es/evento/mamma-mia-musical-16/
LOCATION:Palacio de Congresos de Zaragoza\, Plaza Lucas Miret Rodriguez\, 1\, Zaragoza\, 50018
CATEGORIES:Teatro
END:VEVENT
BEGIN:VEVENT
DTSTART;TZID=UTC:20251004T210000
DTEND;TZID=UTC:20251004T210000
DTSTAMP:20260425T133938
CREATED:20250908T220519Z
LAST-MODIFIED:20250921T190450Z
UID:3467-1759611600-1759611600@zaraband.es
SUMMARY:¡¡Madre mia!! (Marisol Aznar)
DESCRIPTION:
URL:https://zaraband.es/evento/madre-mia-marisol-aznar-12/
LOCATION:Teatro de las Esquinas\, Vía Univérsitas\, 30\, Zaragoza\, 50017
CATEGORIES:Teatro
END:VEVENT
BEGIN:VEVENT
DTSTART;TZID=UTC:20251004T203000
DTEND;TZID=UTC:20251004T203000
DTSTAMP:20260425T133938
CREATED:20250921T190435Z
LAST-MODIFIED:20250921T190435Z
UID:4664-1759609800-1759609800@zaraband.es
SUMMARY:La Prohibida + Kika Lorace
DESCRIPTION:
URL:https://zaraband.es/evento/la-prohibida-kika-lorace/
LOCATION:Sala Oasis\, Calle Boggiero\, 28\, Zaragoza\, 50003
CATEGORIES:Música
END:VEVENT
BEGIN:VEVENT
DTSTART;TZID=UTC:20251004T203000
DTEND;TZID=UTC:20251004T203000
DTSTAMP:20260425T133938
CREATED:20250921T190434Z
LAST-MODIFIED:20250921T190434Z
UID:4663-1759609800-1759609800@zaraband.es
SUMMARY:Mago Vituco
DESCRIPTION:
URL:https://zaraband.es/evento/mago-vituco-3/
LOCATION:El Sótano Mágico\, Calle San Pablo\, 43\, Zaragoza\, 50003
CATEGORIES:Magia y circo
END:VEVENT
BEGIN:VEVENT
DTSTART;TZID=UTC:20251004T203000
DTEND;TZID=UTC:20251004T203000
DTSTAMP:20260425T133938
CREATED:20250921T190235Z
LAST-MODIFIED:20251003T154000Z
UID:4632-1759609800-1759609800@zaraband.es
SUMMARY:La barraca de los títeres
DESCRIPTION:
URL:https://zaraband.es/evento/la-barraca-de-los-titeres-7/
LOCATION:C/Moret\, C/Moret\, Zaragoza\, Zaragoza\, 50001\, Spain
CATEGORIES:Teatro
END:VEVENT
BEGIN:VEVENT
DTSTART;TZID=UTC:20251004T200000
DTEND;TZID=UTC:20251004T200000
DTSTAMP:20260425T133938
CREATED:20250921T190434Z
LAST-MODIFIED:20250921T190434Z
UID:4662-1759608000-1759608000@zaraband.es
SUMMARY:2 kinder güenos\, Especial Pilares\, monologos
DESCRIPTION:
URL:https://zaraband.es/evento/2-kinder-guenos-especial-pilares-monologos/
LOCATION:El Refugio del Crápula\, Calle Mayor\, 56\, Zaragoza\, 50001
CATEGORIES:Teatro
END:VEVENT
BEGIN:VEVENT
DTSTART;TZID=UTC:20251004T200000
DTEND;TZID=UTC:20251004T200000
DTSTAMP:20260425T133938
CREATED:20250921T190420Z
LAST-MODIFIED:20250921T190420Z
UID:4661-1759608000-1759608000@zaraband.es
SUMMARY:Sarao con Javier Segarra\, Lola Moreno\, Silvia Fox y el Ballet Internacional
DESCRIPTION:
URL:https://zaraband.es/evento/sarao-con-javier-segarra-lola-moreno-silvia-fox-y-el-ballet-internacional-2/
LOCATION:Auditorio WTCZ\, Calle María Zambrano\, 31\, Zaragoza\, 50018
CATEGORIES:Teatro
END:VEVENT
BEGIN:VEVENT
DTSTART;TZID=UTC:20251004T200000
DTEND;TZID=UTC:20251004T200000
DTSTAMP:20260425T133938
CREATED:20250921T190419Z
LAST-MODIFIED:20250921T190419Z
UID:4660-1759608000-1759608000@zaraband.es
SUMMARY:IX Rally Internacional Hospederías de Aragón Slow Driving
DESCRIPTION:
URL:https://zaraband.es/evento/ix-rally-internacional-hospederias-de-aragon-slow-driving/
CATEGORIES:Deporte
END:VEVENT
BEGIN:VEVENT
DTSTART;TZID=UTC:20251004T200000
DTEND;TZID=UTC:20251004T200000
DTSTAMP:20260425T133938
CREATED:20250921T190406Z
LAST-MODIFIED:20250921T190406Z
UID:4659-1759608000-1759608000@zaraband.es
SUMMARY:Food Trucks: Copacabana
DESCRIPTION:
URL:https://zaraband.es/evento/food-trucks-copacabana/
LOCATION:Ebro Food Festival\, P. Echegaray y Caballero\, 12\, Zaragoza\, 50003
CATEGORIES:Música
END:VEVENT
BEGIN:VEVENT
DTSTART;TZID=UTC:20251004T200000
DTEND;TZID=UTC:20251004T200000
DTSTAMP:20260425T133938
CREATED:20250911T193059Z
LAST-MODIFIED:20250921T190419Z
UID:4106-1759608000-1759608000@zaraband.es
SUMMARY:Los pilares de la tierra\, el musical
DESCRIPTION:
URL:https://zaraband.es/evento/los-pilares-de-la-tierra-el-musical-40/
LOCATION:Teatro Principal\, Pl. de José Sinués Urbiola\, 2\, Zaragoza\, 50001
CATEGORIES:Teatro
END:VEVENT
BEGIN:VEVENT
DTSTART;TZID=UTC:20251004T200000
DTEND;TZID=UTC:20251004T200000
DTSTAMP:20260425T133938
CREATED:20250908T220117Z
LAST-MODIFIED:20250921T190420Z
UID:3458-1759608000-1759608000@zaraband.es
SUMMARY:Comisaria en fiestas: El reality
DESCRIPTION:
URL:https://zaraband.es/evento/comisaria-en-fiestas-el-reality-16/
LOCATION:Teatro del Mercado\, Pl. de Santo Domingo\, 27\, Zaragoza\, 50003
CATEGORIES:Teatro
END:VEVENT
BEGIN:VEVENT
DTSTART;TZID=UTC:20251004T200000
DTEND;TZID=UTC:20251004T200000
DTSTAMP:20260425T133938
CREATED:20250908T215715Z
LAST-MODIFIED:20250921T190419Z
UID:3448-1759608000-1759608000@zaraband.es
SUMMARY:El show de Ignatius Farray
DESCRIPTION:
URL:https://zaraband.es/evento/el-show-de-ignatius-farray-4/
LOCATION:Teatro Arbolé\, Parque del Agua Luis Buñuel\, Pl Fluvi\, Zaragoza\, 50018
CATEGORIES:Teatro
END:VEVENT
BEGIN:VEVENT
DTSTART;TZID=UTC:20251004T193000
DTEND;TZID=UTC:20251004T193000
DTSTAMP:20260425T133938
CREATED:20250921T190406Z
LAST-MODIFIED:20250921T190406Z
UID:4658-1759606200-1759606200@zaraband.es
SUMMARY:Los dos pilares de la magia: Pepe Lirrojo y Sergio Cisneros
DESCRIPTION:
URL:https://zaraband.es/evento/los-dos-pilares-de-la-magia-pepe-lirrojo-y-sergio-cisneros/
LOCATION:C.C. Valdefierro\, Pl. de la Inmaculada\, s/n\, Zaragoza\, 50012
CATEGORIES:Teatro
END:VEVENT
END:VCALENDAR