BEGIN:VCALENDAR
VERSION:2.0
PRODID:-//Zaraband - ECPv6.15.20//NONSGML v1.0//EN
CALSCALE:GREGORIAN
METHOD:PUBLISH
X-WR-CALNAME:Zaraband
X-ORIGINAL-URL:https://zaraband.es
X-WR-CALDESC:Eventos para Zaraband
REFRESH-INTERVAL;VALUE=DURATION:PT1H
X-Robots-Tag:noindex
X-PUBLISHED-TTL:PT1H
BEGIN:VTIMEZONE
TZID:UTC
BEGIN:STANDARD
TZOFFSETFROM:+0000
TZOFFSETTO:+0000
TZNAME:UTC
DTSTART:20240101T000000
END:STANDARD
END:VTIMEZONE
BEGIN:VEVENT
DTSTART;TZID=UTC:20251005T173000
DTEND;TZID=UTC:20251005T173000
DTSTAMP:20260425T022850
CREATED:20250921T190947Z
LAST-MODIFIED:20250921T190947Z
UID:4724-1759685400-1759685400@zaraband.es
SUMMARY:Mal… pero bien con Nasú Teatro
DESCRIPTION:
URL:https://zaraband.es/evento/mal-pero-bien-con-nasu-teatro/
LOCATION:C.C. Almozara\, Av. de la Puerta de Sancho\, 30\, Zaragoza\, 50003
CATEGORIES:Teatro
END:VEVENT
BEGIN:VEVENT
DTSTART;TZID=UTC:20251005T173000
DTEND;TZID=UTC:20251005T173000
DTSTAMP:20260425T022850
CREATED:20250921T190947Z
LAST-MODIFIED:20250921T190947Z
UID:4723-1759685400-1759685400@zaraband.es
SUMMARY:Río y juego
DESCRIPTION:
URL:https://zaraband.es/evento/rio-y-juego/
LOCATION:Frente fluvial Expo\, Pabellon de España\, Zaragoza\, 50018
CATEGORIES:Infantil
END:VEVENT
BEGIN:VEVENT
DTSTART;TZID=UTC:20251005T173000
DTEND;TZID=UTC:20251005T173000
DTSTAMP:20260425T022850
CREATED:20250921T190946Z
LAST-MODIFIED:20250921T190946Z
UID:4722-1759685400-1759685400@zaraband.es
SUMMARY:Danza contemporánea: Aquí el desierto ya no tiene principio ni fin
DESCRIPTION:
URL:https://zaraband.es/evento/danza-contemporanea-aqui-el-desierto-ya-no-tiene-principio-ni-fin/
LOCATION:Anfiteatro Residencia Xior\, Calle de la Madre Rafols\, 4\, Zaragoza\, 50004
CATEGORIES:Danza
END:VEVENT
BEGIN:VEVENT
DTSTART;TZID=UTC:20251005T173000
DTEND;TZID=UTC:20251005T173000
DTSTAMP:20260425T022850
CREATED:20250921T190846Z
LAST-MODIFIED:20251003T154028Z
UID:4705-1759685400-1759685400@zaraband.es
SUMMARY:La barraca de los títeres
DESCRIPTION:
URL:https://zaraband.es/evento/la-barraca-de-los-titeres-10/
LOCATION:C/Moret\, C/Moret\, Zaragoza\, Zaragoza\, 50001\, Spain
CATEGORIES:Teatro
END:VEVENT
BEGIN:VEVENT
DTSTART;TZID=UTC:20251005T170000
DTEND;TZID=UTC:20251005T170000
DTSTAMP:20260425T022850
CREATED:20250921T190946Z
LAST-MODIFIED:20250921T190946Z
UID:4720-1759683600-1759683600@zaraband.es
SUMMARY:Food Trucks: Taller infantil diseña tu  propia carpa de circo
DESCRIPTION:
URL:https://zaraband.es/evento/food-trucks-taller-infantil-disena-tu-propia-carpa-de-circo-2/
LOCATION:Ebro Food Festival\, P. Echegaray y Caballero\, 12\, Zaragoza\, 50003
CATEGORIES:Infantil
END:VEVENT
BEGIN:VEVENT
DTSTART;TZID=UTC:20251005T170000
DTEND;TZID=UTC:20251005T170000
DTSTAMP:20260425T022850
CREATED:20250921T190946Z
LAST-MODIFIED:20250921T190946Z
UID:4721-1759683600-1759683600@zaraband.es
SUMMARY:Helena Perdomo y Pepin Banzo (Zaragoza) MaJia con Jota
DESCRIPTION:
URL:https://zaraband.es/evento/helena-perdomo-y-pepin-banzo-zaragoza-majia-con-jota-2/
LOCATION:El Sótano Mágico\, Calle San Pablo\, 43\, Zaragoza\, 50003
CATEGORIES:Infantil
END:VEVENT
BEGIN:VEVENT
DTSTART;TZID=UTC:20251005T170000
DTEND;TZID=UTC:20251005T170000
DTSTAMP:20260425T022850
CREATED:20250921T190932Z
LAST-MODIFIED:20250921T190932Z
UID:4719-1759683600-1759683600@zaraband.es
SUMMARY:Denominación de Origen: La Fiera (FFAMA)
DESCRIPTION:
URL:https://zaraband.es/evento/denominacion-de-origen-la-fiera-ffama/
LOCATION:Escenario Fuente de La Hispanidad\, Plaza del Pilar\, Zaragoza\, 50003
CATEGORIES:Tradicional
END:VEVENT
BEGIN:VEVENT
DTSTART;TZID=UTC:20251005T170000
DTEND;TZID=UTC:20251005T170000
DTSTAMP:20260425T022850
CREATED:20250921T190931Z
LAST-MODIFIED:20250921T190931Z
UID:4718-1759683600-1759683600@zaraband.es
SUMMARY:Planeta Jurásico – Carpa blanca Valdespartera
DESCRIPTION:
URL:https://zaraband.es/evento/planeta-jurasico-carpa-blanca-valdespartera-5/
LOCATION:Recinto Ferial Valdespartera\, Recinto ferial de valdespartera de zaragoza - zona atracciones\, Zaragoza\, 50019
CATEGORIES:Infantil
END:VEVENT
BEGIN:VEVENT
DTSTART;TZID=UTC:20251005T170000
DTEND;TZID=UTC:20251005T170000
DTSTAMP:20260425T022850
CREATED:20250921T190931Z
LAST-MODIFIED:20250921T190931Z
UID:4717-1759683600-1759683600@zaraband.es
SUMMARY:Las Tribus del Parque. Magicus Zaragoza
DESCRIPTION:
URL:https://zaraband.es/evento/las-tribus-del-parque-magicus-zaragoza-2/
LOCATION:Parque Grande J.A. Labordeta\, Pº Isabel la Católica\, s/n\, Zaragoza\, 50006
CATEGORIES:Infantil
END:VEVENT
BEGIN:VEVENT
DTSTART;TZID=UTC:20251005T170000
DTEND;TZID=UTC:20251005T170000
DTSTAMP:20260425T022850
CREATED:20250908T222328Z
LAST-MODIFIED:20250921T190931Z
UID:3514-1759683600-1759683600@zaraband.es
SUMMARY:PICA-PICA "Hola Caracola"
DESCRIPTION:
URL:https://zaraband.es/evento/pica-pica-hola-caracola-2/
LOCATION:Espacio Zity\, Recinto ferial de valdespartera de zaragoza - zona atracciones\, Zaragoza\, 50019
CATEGORIES:Teatro
END:VEVENT
BEGIN:VEVENT
DTSTART;TZID=UTC:20251005T163000
DTEND;TZID=UTC:20251005T163000
DTSTAMP:20260425T022850
CREATED:20250921T190917Z
LAST-MODIFIED:20250921T190917Z
UID:4716-1759681800-1759681800@zaraband.es
SUMMARY:Pilar Joven: ZGamer
DESCRIPTION:
URL:https://zaraband.es/evento/pilar-joven-zgamer-5/
LOCATION:Auditorio de Zaragoza – Princesa Leonor\, C. de Eduardo Ibarra\, 3\, Zaragoza\, 50009
CATEGORIES:Actividades
END:VEVENT
BEGIN:VEVENT
DTSTART;TZID=UTC:20251005T163000
DTEND;TZID=UTC:20251005T163000
DTSTAMP:20260425T022850
CREATED:20250908T223334Z
LAST-MODIFIED:20250921T190931Z
UID:3538-1759681800-1759681800@zaraband.es
SUMMARY:2do Festival Internacional de Circo de Zaragoza
DESCRIPTION:
URL:https://zaraband.es/evento/2do-festival-internacional-de-circo-de-zaragoza-10/
LOCATION:Recinto Ferial Valdespartera\, Recinto ferial de valdespartera de zaragoza - zona atracciones\, Zaragoza\, 50019
CATEGORIES:Magia y circo
END:VEVENT
BEGIN:VEVENT
DTSTART;TZID=UTC:20251005T163000
DTEND;TZID=UTC:20251005T163000
DTSTAMP:20260425T022850
CREATED:20250908T221323Z
LAST-MODIFIED:20251003T211421Z
UID:3488-1759681800-1759681800@zaraband.es
SUMMARY:MAMMA MIA! Musical
DESCRIPTION:
URL:https://zaraband.es/evento/mamma-mia-musical-17/
LOCATION:Palacio de Congresos de Zaragoza\, Plaza Lucas Miret Rodriguez\, 1\, Zaragoza\, 50018
CATEGORIES:Teatro
END:VEVENT
BEGIN:VEVENT
DTSTART;TZID=UTC:20251005T160000
DTEND;TZID=UTC:20251005T160000
DTSTAMP:20260425T022850
CREATED:20250921T190917Z
LAST-MODIFIED:20250921T190917Z
UID:4714-1759680000-1759680000@zaraband.es
SUMMARY:Food Trucks: Alex Curreya\, Saroline\,  Luis Domper
DESCRIPTION:
URL:https://zaraband.es/evento/food-trucks-alex-curreya-saroline-luis-domper/
LOCATION:Ebro Food Festival\, P. Echegaray y Caballero\, 12\, Zaragoza\, 50003
CATEGORIES:Infantil
END:VEVENT
BEGIN:VEVENT
DTSTART;TZID=UTC:20251005T160000
DTEND;TZID=UTC:20251005T160000
DTSTAMP:20260425T022850
CREATED:20250921T190917Z
LAST-MODIFIED:20250921T190917Z
UID:4715-1759680000-1759680000@zaraband.es
SUMMARY:El Pilar en el centro. Tragachicos y León Garganchón
DESCRIPTION:
URL:https://zaraband.es/evento/el-pilar-en-el-centro-tragachicos-y-leon-garganchon-2/
LOCATION:Plaza de Delegación de Gobierno\, Plaza de Delegación de Gobierno\, s/n\, Zaragoza\, 50003
CATEGORIES:Infantil
END:VEVENT
BEGIN:VEVENT
DTSTART;TZID=UTC:20251005T130000
DTEND;TZID=UTC:20251005T130000
DTSTAMP:20260425T022850
CREATED:20250921T190917Z
LAST-MODIFIED:20250921T190917Z
UID:4713-1759669200-1759669200@zaraband.es
SUMMARY:Food Trucks: Valiente Club con Chus  Palacios
DESCRIPTION:
URL:https://zaraband.es/evento/food-trucks-valiente-club-con-chus-palacios/
LOCATION:Ebro Food Festival\, P. Echegaray y Caballero\, 12\, Zaragoza\, 50003
CATEGORIES:Infantil
END:VEVENT
BEGIN:VEVENT
DTSTART;TZID=UTC:20251005T130000
DTEND;TZID=UTC:20251005T130000
DTSTAMP:20260425T022850
CREATED:20250921T190902Z
LAST-MODIFIED:20250921T190902Z
UID:4711-1759669200-1759669200@zaraband.es
SUMMARY:Food Trucks: Historias de circo
DESCRIPTION:
URL:https://zaraband.es/evento/food-trucks-historias-de-circo/
LOCATION:Ebro Food Festival\, P. Echegaray y Caballero\, 12\, Zaragoza\, 50003
CATEGORIES:Infantil
END:VEVENT
BEGIN:VEVENT
DTSTART;TZID=UTC:20251005T130000
DTEND;TZID=UTC:20251005T130000
DTSTAMP:20260425T022850
CREATED:20250921T190902Z
LAST-MODIFIED:20250921T190902Z
UID:4712-1759669200-1759669200@zaraband.es
SUMMARY:Vermut musical con Ale d'Vo Banda
DESCRIPTION:
URL:https://zaraband.es/evento/vermut-musical-con-ale-dvo-banda/
LOCATION:Moliner 7 Sala\, Calle María Moliner\, 7\, Zaragoza\, 50007
CATEGORIES:Música
END:VEVENT
BEGIN:VEVENT
DTSTART;TZID=UTC:20251005T130000
DTEND;TZID=UTC:20251005T130000
DTSTAMP:20260425T022850
CREATED:20250921T190832Z
LAST-MODIFIED:20251003T154017Z
UID:4704-1759669200-1759669200@zaraband.es
SUMMARY:La barraca de los títeres
DESCRIPTION:
URL:https://zaraband.es/evento/la-barraca-de-los-titeres-9/
LOCATION:C/Moret\, C/Moret\, Zaragoza\, Zaragoza\, 50001\, Spain
CATEGORIES:Teatro
END:VEVENT
BEGIN:VEVENT
DTSTART;TZID=UTC:20251005T120000
DTEND;TZID=UTC:20251005T120000
DTSTAMP:20260425T022850
CREATED:20250921T190902Z
LAST-MODIFIED:20250921T190902Z
UID:4710-1759665600-1759665600@zaraband.es
SUMMARY:Planeta Jurásico – Carpa blanca Valdespartera
DESCRIPTION:
URL:https://zaraband.es/evento/planeta-jurasico-carpa-blanca-valdespartera-4/
LOCATION:Recinto Ferial Valdespartera\, Recinto ferial de valdespartera de zaragoza - zona atracciones\, Zaragoza\, 50019
CATEGORIES:Infantil
END:VEVENT
BEGIN:VEVENT
DTSTART;TZID=UTC:20251005T120000
DTEND;TZID=UTC:20251005T120000
DTSTAMP:20260425T022850
CREATED:20250921T190901Z
LAST-MODIFIED:20250921T190901Z
UID:4709-1759665600-1759665600@zaraband.es
SUMMARY:Talleres de iniciación a la papiroflexia
DESCRIPTION:
URL:https://zaraband.es/evento/talleres-de-iniciacion-a-la-papiroflexia/
LOCATION:Emoz – Museo del Origami\, Plaza San Agustín\, 2\, Zaragoza\, 50002
CATEGORIES:Actividades
END:VEVENT
BEGIN:VEVENT
DTSTART;TZID=UTC:20251005T120000
DTEND;TZID=UTC:20251005T120000
DTSTAMP:20260425T022850
CREATED:20250921T190847Z
LAST-MODIFIED:20250921T190847Z
UID:4708-1759665600-1759665600@zaraband.es
SUMMARY:Migrantes\, con Títeres de la tía Elena
DESCRIPTION:
URL:https://zaraband.es/evento/migrantes-con-titeres-de-la-tia-elena/
LOCATION:C.C. Teodoro Sánchez Punter\, Calle Raquel Meller\, 2\, Zaragoza\, 50008
CATEGORIES:Infantil
END:VEVENT
BEGIN:VEVENT
DTSTART;TZID=UTC:20251005T120000
DTEND;TZID=UTC:20251005T120000
DTSTAMP:20260425T022850
CREATED:20250921T190832Z
LAST-MODIFIED:20250921T190832Z
UID:4702-1759665600-1759665600@zaraband.es
SUMMARY:Taller familiar Notas de ciencia
DESCRIPTION:
URL:https://zaraband.es/evento/taller-familiar-notas-de-ciencia-2/
LOCATION:CaixaForum Zaragoza\, Avenida Anselmo Clavé\, 4\, Zaragoza\, 50004
CATEGORIES:Infantil
END:VEVENT
BEGIN:VEVENT
DTSTART;TZID=UTC:20251005T120000
DTEND;TZID=UTC:20251005T120000
DTSTAMP:20260425T022850
CREATED:20250921T190832Z
LAST-MODIFIED:20250921T190832Z
UID:4703-1759665600-1759665600@zaraband.es
SUMMARY:La barraca de los títeres
DESCRIPTION:
URL:https://zaraband.es/evento/la-barraca-de-los-titeres-8/
LOCATION:Teatro Arbolé\, Parque del Agua Luis Buñuel\, Pl Fluvi\, Zaragoza\, 50018
CATEGORIES:Teatro
END:VEVENT
BEGIN:VEVENT
DTSTART;TZID=UTC:20251005T120000
DTEND;TZID=UTC:20251005T120000
DTSTAMP:20260425T022850
CREATED:20250921T190832Z
LAST-MODIFIED:20250921T190832Z
UID:4701-1759665600-1759665600@zaraband.es
SUMMARY:Food Trucks: Taller infantil diseña   tu propia carpa de circo
DESCRIPTION:
URL:https://zaraband.es/evento/food-trucks-taller-infantil-disena-tu-propia-carpa-de-circo/
LOCATION:Ebro Food Festival\, P. Echegaray y Caballero\, 12\, Zaragoza\, 50003
CATEGORIES:Infantil
END:VEVENT
BEGIN:VEVENT
DTSTART;TZID=UTC:20251005T120000
DTEND;TZID=UTC:20251005T120000
DTSTAMP:20260425T022850
CREATED:20250921T190817Z
LAST-MODIFIED:20250921T190817Z
UID:4698-1759665600-1759665600@zaraband.es
SUMMARY:Humor en Xior: Teatro Indigesto (Aragón) presenta Joteros Kombat
DESCRIPTION:
URL:https://zaraband.es/evento/humor-en-xior-teatro-indigesto-aragon-presenta-joteros-kombat/
CATEGORIES:Teatro
END:VEVENT
BEGIN:VEVENT
DTSTART;TZID=UTC:20251005T120000
DTEND;TZID=UTC:20251005T120000
DTSTAMP:20260425T022850
CREATED:20250921T190817Z
LAST-MODIFIED:20250921T190817Z
UID:4699-1759665600-1759665600@zaraband.es
SUMMARY:El Pilar en la Cartuja Baja: Coscorrón presenta Superbichos
DESCRIPTION:
URL:https://zaraband.es/evento/el-pilar-en-la-cartuja-baja-coscorron-presenta-superbichos/
CATEGORIES:Infantil
END:VEVENT
BEGIN:VEVENT
DTSTART;TZID=UTC:20251005T120000
DTEND;TZID=UTC:20251005T120000
DTSTAMP:20260425T022850
CREATED:20250921T190817Z
LAST-MODIFIED:20250921T190817Z
UID:4700-1759665600-1759665600@zaraband.es
SUMMARY:El Pilar en Casablanca. Circo Maravilla presenta El círculo de Casandra
DESCRIPTION:
URL:https://zaraband.es/evento/el-pilar-en-casablanca-circo-maravilla-presenta-el-circulo-de-casandra/
CATEGORIES:Infantil
END:VEVENT
BEGIN:VEVENT
DTSTART;TZID=UTC:20251005T120000
DTEND;TZID=UTC:20251005T120000
DTSTAMP:20260425T022850
CREATED:20250921T190816Z
LAST-MODIFIED:20250921T190816Z
UID:4697-1759665600-1759665600@zaraband.es
SUMMARY:El Pilar en el centro: Comparsa de Gigantes y Cabezudos de Zaragoza
DESCRIPTION:
URL:https://zaraband.es/evento/el-pilar-en-el-centro-comparsa-de-gigantes-y-cabezudos-de-zaragoza/
LOCATION:Plaza del Pilar\, Plaza del Pilar\, Zaragoza\, 50003
CATEGORIES:Infantil
END:VEVENT
BEGIN:VEVENT
DTSTART;TZID=UTC:20251005T120000
DTEND;TZID=UTC:20251005T120000
DTSTAMP:20260425T022850
CREATED:20250908T223334Z
LAST-MODIFIED:20250921T190902Z
UID:3537-1759665600-1759665600@zaraband.es
SUMMARY:2do Festival Internacional de Circo de Zaragoza
DESCRIPTION:
URL:https://zaraband.es/evento/2do-festival-internacional-de-circo-de-zaragoza-9/
LOCATION:Recinto Ferial Valdespartera\, Recinto ferial de valdespartera de zaragoza - zona atracciones\, Zaragoza\, 50019
CATEGORIES:Magia y circo
END:VEVENT
END:VCALENDAR