BEGIN:VCALENDAR
VERSION:2.0
PRODID:-//Zaraband - ECPv6.15.14//NONSGML v1.0//EN
CALSCALE:GREGORIAN
METHOD:PUBLISH
X-WR-CALNAME:Zaraband
X-ORIGINAL-URL:https://zaraband.es
X-WR-CALDESC:Eventos para Zaraband
REFRESH-INTERVAL;VALUE=DURATION:PT1H
X-Robots-Tag:noindex
X-PUBLISHED-TTL:PT1H
BEGIN:VTIMEZONE
TZID:UTC
BEGIN:STANDARD
TZOFFSETFROM:+0000
TZOFFSETTO:+0000
TZNAME:UTC
DTSTART:20240101T000000
END:STANDARD
END:VTIMEZONE
BEGIN:VEVENT
DTSTART;TZID=UTC:20251007T190000
DTEND;TZID=UTC:20251007T190000
DTSTAMP:20260424T021022
CREATED:20250921T193840Z
LAST-MODIFIED:20250921T193840Z
UID:4826-1759863600-1759863600@zaraband.es
SUMMARY:Off de calle: Markeliñe (País Vasco) presenta Andante
DESCRIPTION:
URL:https://zaraband.es/evento/off-de-calle-markeline-pais-vasco-presenta-andante/
LOCATION:Plaza Salamero\, Plaza Salamero\, s/n\, Zaragoza\, 50004
CATEGORIES:Danza
END:VEVENT
BEGIN:VEVENT
DTSTART;TZID=UTC:20251007T190000
DTEND;TZID=UTC:20251007T190000
DTSTAMP:20260424T021022
CREATED:20250921T193840Z
LAST-MODIFIED:20250921T194041Z
UID:4827-1759863600-1759863600@zaraband.es
SUMMARY:El Pilar con nuestros mayores: El Pilar es una fiesta
DESCRIPTION:
URL:https://zaraband.es/evento/el-pilar-con-nuestros-mayores-el-pilar-es-una-fiesta-3/
LOCATION:Auditorio de Zaragoza – Princesa Leonor\, C. de Eduardo Ibarra\, 3\, Zaragoza\, 50009
CATEGORIES:Música
END:VEVENT
BEGIN:VEVENT
DTSTART;TZID=UTC:20251007T190000
DTEND;TZID=UTC:20251007T190000
DTSTAMP:20260424T021022
CREATED:20250908T223334Z
LAST-MODIFIED:20250921T194242Z
UID:3540-1759863600-1759863600@zaraband.es
SUMMARY:2do Festival Internacional de Circo de Zaragoza
DESCRIPTION:
URL:https://zaraband.es/evento/2do-festival-internacional-de-circo-de-zaragoza-12/
LOCATION:Recinto Ferial Valdespartera\, Recinto ferial de valdespartera de zaragoza - zona atracciones\, Zaragoza\, 50019
CATEGORIES:Magia y circo
END:VEVENT
BEGIN:VEVENT
DTSTART;TZID=UTC:20251007T183000
DTEND;TZID=UTC:20251007T183000
DTSTAMP:20260424T021022
CREATED:20250921T193155Z
LAST-MODIFIED:20250921T193155Z
UID:4817-1759861800-1759861800@zaraband.es
SUMMARY:Bandas en La Granja: Unión Musical Torrero
DESCRIPTION:
URL:https://zaraband.es/evento/bandas-en-la-granja-union-musical-torrero/
LOCATION:Parque La Granja\, Cam. Cabaldós\, 25\, Zaragoza\, 50013
CATEGORIES:Música
END:VEVENT
BEGIN:VEVENT
DTSTART;TZID=UTC:20251007T183000
DTEND;TZID=UTC:20251007T183000
DTSTAMP:20260424T021022
CREATED:20250921T192955Z
LAST-MODIFIED:20251003T154201Z
UID:4813-1759861800-1759861800@zaraband.es
SUMMARY:La barraca de los títeres
DESCRIPTION:
URL:https://zaraband.es/evento/la-barraca-de-los-titeres-19/
LOCATION:C/Moret\, C/Moret\, Zaragoza\, Zaragoza\, 50001\, Spain
CATEGORIES:Teatro
END:VEVENT
BEGIN:VEVENT
DTSTART;TZID=UTC:20251007T180000
DTEND;TZID=UTC:20251007T180000
DTSTAMP:20260424T021022
CREATED:20250921T193840Z
LAST-MODIFIED:20250921T193840Z
UID:4825-1759860000-1759860000@zaraband.es
SUMMARY:Off de calle: Maf Battle (Aragón) presenta Batalla de danza urbana
DESCRIPTION:
URL:https://zaraband.es/evento/off-de-calle-maf-battle-aragon-presenta-batalla-de-danza-urbana/
LOCATION:Plaza Aragon\, Plaza Aragón\, s/n\, Zaragoza\, 50004
CATEGORIES:Danza
END:VEVENT
BEGIN:VEVENT
DTSTART;TZID=UTC:20251007T180000
DTEND;TZID=UTC:20251007T180000
DTSTAMP:20260424T021022
CREATED:20250921T193641Z
LAST-MODIFIED:20250921T193641Z
UID:4820-1759860000-1759860000@zaraband.es
SUMMARY:El Pilar en Romareda: Comparsa de Gigantes y Cabezudos
DESCRIPTION:
URL:https://zaraband.es/evento/el-pilar-en-romareda-comparsa-de-gigantes-y-cabezudos/
LOCATION:C.P. Doctor Azúa\, C. Pedro III El Grande\, 4\, Zaragoza\, 50009
CATEGORIES:Infantil
END:VEVENT
BEGIN:VEVENT
DTSTART;TZID=UTC:20251007T180000
DTEND;TZID=UTC:20251007T180000
DTSTAMP:20260424T021022
CREATED:20250921T193641Z
LAST-MODIFIED:20250921T193641Z
UID:4821-1759860000-1759860000@zaraband.es
SUMMARY:El Pilar en Peñaflor: Teatro Arbolé  presenta Caperucita Roja
DESCRIPTION:
URL:https://zaraband.es/evento/el-pilar-en-penaflor-teatro-arbole-presenta-caperucita-roja/
LOCATION:Plaza del Centro Cívico\, Plaza del Pilar\, 18\, Zaragoza\, 50001
CATEGORIES:Infantil
END:VEVENT
BEGIN:VEVENT
DTSTART;TZID=UTC:20251007T180000
DTEND;TZID=UTC:20251007T180000
DTSTAMP:20260424T021022
CREATED:20250921T193641Z
LAST-MODIFIED:20250921T193641Z
UID:4822-1759860000-1759860000@zaraband.es
SUMMARY:El Pilar en San Juan de Mozarrifar: Passabarret
DESCRIPTION:
URL:https://zaraband.es/evento/el-pilar-en-san-juan-de-mozarrifar-passabarret/
LOCATION:Patio CEIP Andrés Oliván\, Calle Dr. Palomar\, 21\, Zaragoza\, 50820
CATEGORIES:Infantil
END:VEVENT
BEGIN:VEVENT
DTSTART;TZID=UTC:20251007T180000
DTEND;TZID=UTC:20251007T180000
DTSTAMP:20260424T021022
CREATED:20250921T193641Z
LAST-MODIFIED:20250921T193641Z
UID:4823-1759860000-1759860000@zaraband.es
SUMMARY:The Cortos con Diego Peña y Juako Malavirgen
DESCRIPTION:
URL:https://zaraband.es/evento/the-cortos-con-diego-pena-y-juako-malavirgen-3/
LOCATION:C.C. Río Ebro\, Calle María Zambrano\, 56\, Zaragoza\, 50018
CATEGORIES:Teatro
END:VEVENT
BEGIN:VEVENT
DTSTART;TZID=UTC:20251007T180000
DTEND;TZID=UTC:20251007T180000
DTSTAMP:20260424T021022
CREATED:20250921T193641Z
LAST-MODIFIED:20250921T193641Z
UID:4824-1759860000-1759860000@zaraband.es
SUMMARY:Conferencia Caos: de la teoría a la música
DESCRIPTION:
URL:https://zaraband.es/evento/conferencia-caos-de-la-teoria-a-la-musica/
LOCATION:CaixaForum Zaragoza\, Avenida Anselmo Clavé\, 4\, Zaragoza\, 50004
CATEGORIES:Música
END:VEVENT
BEGIN:VEVENT
DTSTART;TZID=UTC:20251007T180000
DTEND;TZID=UTC:20251007T180000
DTSTAMP:20260424T021022
CREATED:20250921T193155Z
LAST-MODIFIED:20250921T193155Z
UID:4818-1759860000-1759860000@zaraband.es
SUMMARY:Pilarfolk: Vegetal Jam
DESCRIPTION:
URL:https://zaraband.es/evento/pilarfolk-vegetal-jam/
LOCATION:Plaza del Pilar\, Plaza del Pilar\, Zaragoza\, 50003
CATEGORIES:Música
END:VEVENT
BEGIN:VEVENT
DTSTART;TZID=UTC:20251007T180000
DTEND;TZID=UTC:20251007T180000
DTSTAMP:20260424T021022
CREATED:20250921T193155Z
LAST-MODIFIED:20250921T193155Z
UID:4819-1759860000-1759860000@zaraband.es
SUMMARY:Humor en Xior: III Gala solidaria de Payasos sin fronteras
DESCRIPTION:
URL:https://zaraband.es/evento/humor-en-xior-iii-gala-solidaria-de-payasos-sin-fronteras/
LOCATION:Anfiteatro Residencia Xior\, Calle de la Madre Rafols\, 4\, Zaragoza\, 50004
CATEGORIES:Magia y circo
END:VEVENT
BEGIN:VEVENT
DTSTART;TZID=UTC:20251007T173000
DTEND;TZID=UTC:20251007T173000
DTSTAMP:20260424T021022
CREATED:20250921T193155Z
LAST-MODIFIED:20250921T193155Z
UID:4815-1759858200-1759858200@zaraband.es
SUMMARY:Río y juego
DESCRIPTION:
URL:https://zaraband.es/evento/rio-y-juego-2/
LOCATION:Frente fluvial Expo\, Pabellon de España\, Zaragoza\, 50018
CATEGORIES:Infantil
END:VEVENT
BEGIN:VEVENT
DTSTART;TZID=UTC:20251007T173000
DTEND;TZID=UTC:20251007T173000
DTSTAMP:20260424T021022
CREATED:20250921T193155Z
LAST-MODIFIED:20250921T193155Z
UID:4816-1759858200-1759858200@zaraband.es
SUMMARY:Novillada con Picadores
DESCRIPTION:
URL:https://zaraband.es/evento/novillada-con-picadores/
LOCATION:Plaza de toros de la Misericordia\, C. de Ramón Pignatelli 120\, Zaragoza\, 50004
CATEGORIES:Tauromaquia
END:VEVENT
BEGIN:VEVENT
DTSTART;TZID=UTC:20251007T173000
DTEND;TZID=UTC:20251007T173000
DTSTAMP:20260424T021022
CREATED:20250921T192955Z
LAST-MODIFIED:20251003T154152Z
UID:4812-1759858200-1759858200@zaraband.es
SUMMARY:La barraca de los títeres
DESCRIPTION:
URL:https://zaraband.es/evento/la-barraca-de-los-titeres-18/
LOCATION:C/Moret\, C/Moret\, Zaragoza\, Zaragoza\, 50001\, Spain
CATEGORIES:Teatro
END:VEVENT
BEGIN:VEVENT
DTSTART;TZID=UTC:20251007T170000
DTEND;TZID=UTC:20251007T170000
DTSTAMP:20260424T021022
CREATED:20250921T192955Z
LAST-MODIFIED:20250921T192955Z
UID:4810-1759856400-1759856400@zaraband.es
SUMMARY:Planeta Jurásico – Carpa blanca Valdespartera
DESCRIPTION:
URL:https://zaraband.es/evento/planeta-jurasico-carpa-blanca-valdespartera-7/
LOCATION:Recinto Ferial Valdespartera\, Recinto ferial de valdespartera de zaragoza - zona atracciones\, Zaragoza\, 50019
CATEGORIES:Infantil
END:VEVENT
BEGIN:VEVENT
DTSTART;TZID=UTC:20251007T170000
DTEND;TZID=UTC:20251007T170000
DTSTAMP:20260424T021022
CREATED:20250921T192955Z
LAST-MODIFIED:20250921T192955Z
UID:4811-1759856400-1759856400@zaraband.es
SUMMARY:Food Trucks: Compañía Chéchare
DESCRIPTION:
URL:https://zaraband.es/evento/food-trucks-compania-chechare/
LOCATION:Ebro Food Festival\, P. Echegaray y Caballero\, 12\, Zaragoza\, 50003
CATEGORIES:Infantil
END:VEVENT
BEGIN:VEVENT
DTSTART;TZID=UTC:20251007T170000
DTEND;TZID=UTC:20251007T170000
DTSTAMP:20260424T021022
CREATED:20250921T192756Z
LAST-MODIFIED:20250921T192756Z
UID:4809-1759856400-1759856400@zaraband.es
SUMMARY:Food Trucks: Taller infantil diseña tu propio acróbata
DESCRIPTION:
URL:https://zaraband.es/evento/food-trucks-taller-infantil-disena-tu-propio-acrobata/
LOCATION:Ebro Food Festival\, P. Echegaray y Caballero\, 12\, Zaragoza\, 50003
CATEGORIES:Música
END:VEVENT
BEGIN:VEVENT
DTSTART;TZID=UTC:20251007T170000
DTEND;TZID=UTC:20251007T170000
DTSTAMP:20260424T021022
CREATED:20250921T192755Z
LAST-MODIFIED:20250921T193841Z
UID:4807-1759856400-1759856400@zaraband.es
SUMMARY:El Pilar con nuestros mayores: El Pilar es una fiesta
DESCRIPTION:
URL:https://zaraband.es/evento/el-pilar-con-nuestros-mayores-el-pilar-es-una-fiesta-2/
LOCATION:Auditorio de Zaragoza – Princesa Leonor\, C. de Eduardo Ibarra\, 3\, Zaragoza\, 50009
CATEGORIES:Música
END:VEVENT
BEGIN:VEVENT
DTSTART;TZID=UTC:20251007T170000
DTEND;TZID=UTC:20251007T170000
DTSTAMP:20260424T021022
CREATED:20250921T192755Z
LAST-MODIFIED:20250921T192755Z
UID:4808-1759856400-1759856400@zaraband.es
SUMMARY:Pilarfolk: Araboas
DESCRIPTION:
URL:https://zaraband.es/evento/pilarfolk-araboas/
LOCATION:Plaza del Pilar\, Plaza del Pilar\, Zaragoza\, 50003
CATEGORIES:Música
END:VEVENT
BEGIN:VEVENT
DTSTART;TZID=UTC:20251007T160000
DTEND;TZID=UTC:20251007T160000
DTSTAMP:20260424T021022
CREATED:20250921T192755Z
LAST-MODIFIED:20250921T192755Z
UID:4805-1759852800-1759852800@zaraband.es
SUMMARY:El Pilar en Las Fuentes: León Garganchón
DESCRIPTION:
URL:https://zaraband.es/evento/el-pilar-en-las-fuentes-leon-garganchon/
LOCATION:Paseo Vicente Cazcarra\, Paseo Vicente Cazcarra\, Zaragoza\, 50013
CATEGORIES:Infantil
END:VEVENT
BEGIN:VEVENT
DTSTART;TZID=UTC:20251007T160000
DTEND;TZID=UTC:20251007T160000
DTSTAMP:20260424T021022
CREATED:20250921T192755Z
LAST-MODIFIED:20250921T192755Z
UID:4806-1759852800-1759852800@zaraband.es
SUMMARY:Food Trucks: Tardeo valiente con Dj  Sopelana
DESCRIPTION:
URL:https://zaraband.es/evento/food-trucks-tardeo-valiente-con-dj-sopelana/
LOCATION:Ebro Food Festival\, P. Echegaray y Caballero\, 12\, Zaragoza\, 50003
CATEGORIES:Música
END:VEVENT
BEGIN:VEVENT
DTSTART;TZID=UTC:20251007T160000
DTEND;TZID=UTC:20251007T160000
DTSTAMP:20260424T021022
CREATED:20250921T192556Z
LAST-MODIFIED:20250921T222221Z
UID:4804-1759852800-1759852800@zaraband.es
SUMMARY:El Pilar en Rosales del Canal: Tragachicos
DESCRIPTION:
URL:https://zaraband.es/evento/el-pilar-en-rosales-del-canal-tragachicos/
LOCATION:Calle Enrique Granados\, Calle Enrique Granados\, Zaragoza\, 50012
CATEGORIES:Infantil
END:VEVENT
BEGIN:VEVENT
DTSTART;TZID=UTC:20251007T130000
DTEND;TZID=UTC:20251007T130000
DTSTAMP:20260424T021022
CREATED:20250921T192556Z
LAST-MODIFIED:20250921T192556Z
UID:4803-1759842000-1759842000@zaraband.es
SUMMARY:Food Trucks: Valiente Club con Alex Curreya
DESCRIPTION:
URL:https://zaraband.es/evento/food-trucks-valiente-club-con-alex-curreya/
LOCATION:Ebro Food Festival\, P. Echegaray y Caballero\, 12\, Zaragoza\, 50003
CATEGORIES:Música
END:VEVENT
BEGIN:VEVENT
DTSTART;TZID=UTC:20251007T120000
DTEND;TZID=UTC:20251007T120000
DTSTAMP:20260424T021022
CREATED:20250921T192556Z
LAST-MODIFIED:20250921T193841Z
UID:4800-1759838400-1759838400@zaraband.es
SUMMARY:El Pilar con nuestros mayores: El Pilar es una fiesta
DESCRIPTION:
URL:https://zaraband.es/evento/el-pilar-con-nuestros-mayores-el-pilar-es-una-fiesta/
LOCATION:Auditorio de Zaragoza – Princesa Leonor\, C. de Eduardo Ibarra\, 3\, Zaragoza\, 50009
CATEGORIES:Música
END:VEVENT
BEGIN:VEVENT
DTSTART;TZID=UTC:20251007T120000
DTEND;TZID=UTC:20251007T120000
DTSTAMP:20260424T021022
CREATED:20250921T192556Z
LAST-MODIFIED:20250921T192556Z
UID:4801-1759838400-1759838400@zaraband.es
SUMMARY:Food Trucks: Vermut jotero y ronda  con grupo folklórico Zierzo
DESCRIPTION:
URL:https://zaraband.es/evento/food-trucks-vermut-jotero-y-ronda-con-grupo-folklorico-zierzo-2/
LOCATION:Ebro Food Festival\, P. Echegaray y Caballero\, 12\, Zaragoza\, 50003
CATEGORIES:Ferias y mercados
END:VEVENT
BEGIN:VEVENT
DTSTART;TZID=UTC:20251007T120000
DTEND;TZID=UTC:20251007T120000
DTSTAMP:20260424T021022
CREATED:20250921T192556Z
LAST-MODIFIED:20250921T192556Z
UID:4802-1759838400-1759838400@zaraband.es
SUMMARY:Presentación del libro Gitanas
DESCRIPTION:
URL:https://zaraband.es/evento/presentacion-del-libro-gitanas/
LOCATION:Casa de las Culturas y de la Solidaridad\, C/ Palafox 29\, Zaragoza\, 50001
CATEGORIES:Actividades
END:VEVENT
BEGIN:VEVENT
DTSTART;TZID=UTC:20251007T110000
DTEND;TZID=UTC:20251007T110000
DTSTAMP:20260424T021022
CREATED:20250921T192356Z
LAST-MODIFIED:20250921T192356Z
UID:4799-1759834800-1759834800@zaraband.es
SUMMARY:Muestra de artesanía y agroalimentaria aragonesa
DESCRIPTION:
URL:https://zaraband.es/evento/muestra-de-artesania-y-agroalimentaria-aragonesa-5/
LOCATION:Plaza de los Sitios\, Plaza de los Sitios\, Zaragoza\, 50001
CATEGORIES:Ferias y mercados
END:VEVENT
BEGIN:VEVENT
DTSTART;TZID=UTC:20251007T080000
DTEND;TZID=UTC:20251007T080000
DTSTAMP:20260424T021022
CREATED:20250908T224539Z
LAST-MODIFIED:20250921T192355Z
UID:3569-1759824000-1759824000@zaraband.es
SUMMARY:Mañanas Vaquilleras (vaquillas)
DESCRIPTION:
URL:https://zaraband.es/evento/mananas-vaquilleras-vaquillas-3/
LOCATION:Plaza de toros de la Misericordia\, C. de Ramón Pignatelli 120\, Zaragoza\, 50004
CATEGORIES:Tauromaquia
END:VEVENT
END:VCALENDAR