BEGIN:VCALENDAR
VERSION:2.0
PRODID:-//Zaraband - ECPv6.15.14//NONSGML v1.0//EN
CALSCALE:GREGORIAN
METHOD:PUBLISH
X-WR-CALNAME:Zaraband
X-ORIGINAL-URL:https://zaraband.es
X-WR-CALDESC:Eventos para Zaraband
REFRESH-INTERVAL;VALUE=DURATION:PT1H
X-Robots-Tag:noindex
X-PUBLISHED-TTL:PT1H
BEGIN:VTIMEZONE
TZID:UTC
BEGIN:STANDARD
TZOFFSETFROM:+0000
TZOFFSETTO:+0000
TZNAME:UTC
DTSTART:20240101T000000
END:STANDARD
END:VTIMEZONE
BEGIN:VEVENT
DTSTART;TZID=UTC:20251008T193000
DTEND;TZID=UTC:20251008T193000
DTSTAMP:20260423T163501
CREATED:20250921T195816Z
LAST-MODIFIED:20250921T195816Z
UID:4878-1759951800-1759951800@zaraband.es
SUMMARY:Los dos pilares de la magia: Pepe Lirrojo y Sergio Cisneros
DESCRIPTION:
URL:https://zaraband.es/evento/los-dos-pilares-de-la-magia-pepe-lirrojo-y-sergio-cisneros-5/
LOCATION:C.C. Valdefierro\, Pl. de la Inmaculada\, s/n\, Zaragoza\, 50012
CATEGORIES:Magia y circo
END:VEVENT
BEGIN:VEVENT
DTSTART;TZID=UTC:20251008T193000
DTEND;TZID=UTC:20251008T193000
DTSTAMP:20260423T163501
CREATED:20250921T195802Z
LAST-MODIFIED:20250921T195802Z
UID:4877-1759951800-1759951800@zaraband.es
SUMMARY:Tiga b2b Cora Novoa + Mirallo
DESCRIPTION:
URL:https://zaraband.es/evento/tiga-b2b-cora-novoa-mirallo/
LOCATION:Estación del Norte\, C/ Perdiguera\, 7\, Zaragoza\, 50014
CATEGORIES:Música
END:VEVENT
BEGIN:VEVENT
DTSTART;TZID=UTC:20251008T193000
DTEND;TZID=UTC:20251008T193000
DTSTAMP:20260423T163501
CREATED:20250921T195716Z
LAST-MODIFIED:20251003T154242Z
UID:4862-1759951800-1759951800@zaraband.es
SUMMARY:La barraca de los títeres
DESCRIPTION:
URL:https://zaraband.es/evento/la-barraca-de-los-titeres-23/
LOCATION:C/Moret\, C/Moret\, Zaragoza\, Zaragoza\, 50001\, Spain
CATEGORIES:Infantil
END:VEVENT
BEGIN:VEVENT
DTSTART;TZID=UTC:20251008T190000
DTEND;TZID=UTC:20251008T190000
DTSTAMP:20260423T163501
CREATED:20250921T195802Z
LAST-MODIFIED:20250921T195802Z
UID:4876-1759950000-1759950000@zaraband.es
SUMMARY:A cada paso con Pepa Plana
DESCRIPTION:
URL:https://zaraband.es/evento/a-cada-paso-con-pepa-plana/
LOCATION:C.C. Teodoro Sánchez Punter\, Calle Raquel Meller\, 2\, Zaragoza\, 50008
CATEGORIES:Teatro
END:VEVENT
BEGIN:VEVENT
DTSTART;TZID=UTC:20251008T190000
DTEND;TZID=UTC:20251008T190000
DTSTAMP:20260423T163501
CREATED:20250921T195802Z
LAST-MODIFIED:20250921T195802Z
UID:4875-1759950000-1759950000@zaraband.es
SUMMARY:Pilarfolk: Ana Alcaide
DESCRIPTION:
URL:https://zaraband.es/evento/pilarfolk-ana-alcaide/
LOCATION:Plaza del Pilar\, Plaza del Pilar\, Zaragoza\, 50003
CATEGORIES:Música
END:VEVENT
BEGIN:VEVENT
DTSTART;TZID=UTC:20251008T190000
DTEND;TZID=UTC:20251008T190000
DTSTAMP:20260423T163501
CREATED:20250921T195801Z
LAST-MODIFIED:20250921T195801Z
UID:4874-1759950000-1759950000@zaraband.es
SUMMARY:Off de calle: Binomio Teatro – Imperdibles
DESCRIPTION:
URL:https://zaraband.es/evento/off-de-calle-binomio-teatro-imperdibles/
LOCATION:Plaza San Felipe\, Plaza San Felipe\, s/n\, Zaragoza\, 50003
CATEGORIES:Infantil
END:VEVENT
BEGIN:VEVENT
DTSTART;TZID=UTC:20251008T190000
DTEND;TZID=UTC:20251008T190000
DTSTAMP:20260423T163501
CREATED:20250921T195747Z
LAST-MODIFIED:20250921T195747Z
UID:4873-1759950000-1759950000@zaraband.es
SUMMARY:Delicias de circo: Asaco Producciones
DESCRIPTION:
URL:https://zaraband.es/evento/delicias-de-circo-asaco-producciones/
LOCATION:Parque Delicias\, Av. de Navarra\, 54\, Zaragoza\, 50017
CATEGORIES:Magia y circo
END:VEVENT
BEGIN:VEVENT
DTSTART;TZID=UTC:20251008T190000
DTEND;TZID=UTC:20251008T190000
DTSTAMP:20260423T163501
CREATED:20250908T223334Z
LAST-MODIFIED:20250921T195802Z
UID:3541-1759950000-1759950000@zaraband.es
SUMMARY:2do Festival Internacional de Circo de Zaragoza
DESCRIPTION:
URL:https://zaraband.es/evento/2do-festival-internacional-de-circo-de-zaragoza-13/
LOCATION:Recinto Ferial Valdespartera\, Recinto ferial de valdespartera de zaragoza - zona atracciones\, Zaragoza\, 50019
CATEGORIES:Magia y circo
END:VEVENT
BEGIN:VEVENT
DTSTART;TZID=UTC:20251008T183000
DTEND;TZID=UTC:20251008T183000
DTSTAMP:20260423T163501
CREATED:20250921T195747Z
LAST-MODIFIED:20250921T195747Z
UID:4872-1759948200-1759948200@zaraband.es
SUMMARY:Off de calle: Ángeles de trapo
DESCRIPTION:
URL:https://zaraband.es/evento/off-de-calle-angeles-de-trapo/
LOCATION:Plaza Aragon\, Plaza Aragón\, s/n\, Zaragoza\, 50004
CATEGORIES:Infantil
END:VEVENT
BEGIN:VEVENT
DTSTART;TZID=UTC:20251008T183000
DTEND;TZID=UTC:20251008T183000
DTSTAMP:20260423T163501
CREATED:20250921T195716Z
LAST-MODIFIED:20251003T154231Z
UID:4861-1759948200-1759948200@zaraband.es
SUMMARY:La barraca de los títeres
DESCRIPTION:
URL:https://zaraband.es/evento/la-barraca-de-los-titeres-22/
LOCATION:C/Moret\, C/Moret\, Zaragoza\, Zaragoza\, 50001\, Spain
CATEGORIES:Infantil
END:VEVENT
BEGIN:VEVENT
DTSTART;TZID=UTC:20251008T183000
DTEND;TZID=UTC:20251008T183000
DTSTAMP:20260423T163501
CREATED:20250908T220921Z
LAST-MODIFIED:20250921T195747Z
UID:3478-1759948200-1759948200@zaraband.es
SUMMARY:Remátame otra vez
DESCRIPTION:
URL:https://zaraband.es/evento/rematame-otra-vez-12/
LOCATION:Teatro de las Esquinas\, Vía Univérsitas\, 30\, Zaragoza\, 50017
CATEGORIES:Teatro
END:VEVENT
BEGIN:VEVENT
DTSTART;TZID=UTC:20251008T180000
DTEND;TZID=UTC:20251008T180000
DTSTAMP:20260423T163501
CREATED:20250921T195746Z
LAST-MODIFIED:20250921T195746Z
UID:4871-1759946400-1759946400@zaraband.es
SUMMARY:Bandas en La Granja: Asociación musical Las Peñetas Miralbueno
DESCRIPTION:
URL:https://zaraband.es/evento/bandas-en-la-granja-asociacion-musical-las-penetas-miralbueno/
LOCATION:Parque La Granja\, Cam. Cabaldós\, 25\, Zaragoza\, 50013
CATEGORIES:Música
END:VEVENT
BEGIN:VEVENT
DTSTART;TZID=UTC:20251008T180000
DTEND;TZID=UTC:20251008T180000
DTSTAMP:20260423T163501
CREATED:20250921T195746Z
LAST-MODIFIED:20250921T195746Z
UID:4870-1759946400-1759946400@zaraband.es
SUMMARY:Food Trucks: Lü de Lürdes Un cuento lleno de cuentos
DESCRIPTION:
URL:https://zaraband.es/evento/food-trucks-lu-de-lurdes-un-cuento-lleno-de-cuentos/
LOCATION:Ebro Food Festival\, P. Echegaray y Caballero\, 12\, Zaragoza\, 50003
CATEGORIES:Infantil
END:VEVENT
BEGIN:VEVENT
DTSTART;TZID=UTC:20251008T180000
DTEND;TZID=UTC:20251008T180000
DTSTAMP:20260423T163501
CREATED:20250921T195732Z
LAST-MODIFIED:20250921T195732Z
UID:4868-1759946400-1759946400@zaraband.es
SUMMARY:El Pilar en La Jota: Producciones Kinser
DESCRIPTION:
URL:https://zaraband.es/evento/el-pilar-en-la-jota-producciones-kinser/
LOCATION:Plaza Albada\, Plaza de la Albada\, 3\, Zaragoza\, 50014
CATEGORIES:Infantil
END:VEVENT
BEGIN:VEVENT
DTSTART;TZID=UTC:20251008T180000
DTEND;TZID=UTC:20251008T180000
DTSTAMP:20260423T163501
CREATED:20250921T195732Z
LAST-MODIFIED:20250921T195732Z
UID:4869-1759946400-1759946400@zaraband.es
SUMMARY:The Cortos con Diego Peña y Juako Malavirgen
DESCRIPTION:
URL:https://zaraband.es/evento/the-cortos-con-diego-pena-y-juako-malavirgen-4/
LOCATION:C.C. Río Ebro\, Calle María Zambrano\, 56\, Zaragoza\, 50018
CATEGORIES:Teatro
END:VEVENT
BEGIN:VEVENT
DTSTART;TZID=UTC:20251008T180000
DTEND;TZID=UTC:20251008T180000
DTSTAMP:20260423T163501
CREATED:20250921T195731Z
LAST-MODIFIED:20250921T195731Z
UID:4865-1759946400-1759946400@zaraband.es
SUMMARY:Humor en Xior: Pepe Viyuela
DESCRIPTION:
URL:https://zaraband.es/evento/humor-en-xior-pepe-viyuela/
LOCATION:Anfiteatro Residencia Xior\, Calle de la Madre Rafols\, 4\, Zaragoza\, 50004
CATEGORIES:Teatro
END:VEVENT
BEGIN:VEVENT
DTSTART;TZID=UTC:20251008T180000
DTEND;TZID=UTC:20251008T180000
DTSTAMP:20260423T163501
CREATED:20250921T195731Z
LAST-MODIFIED:20250921T195731Z
UID:4866-1759946400-1759946400@zaraband.es
SUMMARY:El Pilar en Casetas: Comparsa de Gigantes y Cabezudos
DESCRIPTION:
URL:https://zaraband.es/evento/el-pilar-en-casetas-comparsa-de-gigantes-y-cabezudos/
LOCATION:C.C. Casetas\,  Pl. de España\, 1\, Zaragoza\, 50620
CATEGORIES:Infantil
END:VEVENT
BEGIN:VEVENT
DTSTART;TZID=UTC:20251008T180000
DTEND;TZID=UTC:20251008T180000
DTSTAMP:20260423T163501
CREATED:20250921T195731Z
LAST-MODIFIED:20250921T195731Z
UID:4867-1759946400-1759946400@zaraband.es
SUMMARY:El Pilar en Juslibol: Hugo Miró
DESCRIPTION:
URL:https://zaraband.es/evento/el-pilar-en-juslibol-hugo-miro/
LOCATION:Parque de Juslibol\, Camino de Juslibol\, s/n\, Zaragoza\, 50191
CATEGORIES:Infantil
END:VEVENT
BEGIN:VEVENT
DTSTART;TZID=UTC:20251008T180000
DTEND;TZID=UTC:20251008T180000
DTSTAMP:20260423T163501
CREATED:20250921T195717Z
LAST-MODIFIED:20250921T195717Z
UID:4864-1759946400-1759946400@zaraband.es
SUMMARY:Pilarfolk: Joaquín  Pardinilla
DESCRIPTION:
URL:https://zaraband.es/evento/pilarfolk-joaquin-pardinilla/
LOCATION:Plaza del Pilar\, Plaza del Pilar\, Zaragoza\, 50003
CATEGORIES:Música
END:VEVENT
BEGIN:VEVENT
DTSTART;TZID=UTC:20251008T173000
DTEND;TZID=UTC:20251008T173000
DTSTAMP:20260423T163501
CREATED:20250921T195716Z
LAST-MODIFIED:20250921T195716Z
UID:4863-1759944600-1759944600@zaraband.es
SUMMARY:Río y juego
DESCRIPTION:
URL:https://zaraband.es/evento/rio-y-juego-4/
LOCATION:Frente fluvial Expo\, Pabellon de España\, Zaragoza\, 50018
CATEGORIES:Infantil
END:VEVENT
BEGIN:VEVENT
DTSTART;TZID=UTC:20251008T173000
DTEND;TZID=UTC:20251008T173000
DTSTAMP:20260423T163501
CREATED:20250921T195702Z
LAST-MODIFIED:20251003T154221Z
UID:4860-1759944600-1759944600@zaraband.es
SUMMARY:La barraca de los títeres
DESCRIPTION:
URL:https://zaraband.es/evento/la-barraca-de-los-titeres-21/
LOCATION:C/Moret\, C/Moret\, Zaragoza\, Zaragoza\, 50001\, Spain
CATEGORIES:Infantil
END:VEVENT
BEGIN:VEVENT
DTSTART;TZID=UTC:20251008T173000
DTEND;TZID=UTC:20251008T173000
DTSTAMP:20260423T163501
CREATED:20250908T225142Z
LAST-MODIFIED:20250921T195716Z
UID:3583-1759944600-1759944600@zaraband.es
SUMMARY:Corrida de toros (Tomás Rufo\, Borja Jiménez\, Fernando Adrián)
DESCRIPTION:
URL:https://zaraband.es/evento/corrida-de-toros-tomas-rufo-borja-jimenez-fernando-adrian/
LOCATION:Plaza de toros de la Misericordia\, C. de Ramón Pignatelli 120\, Zaragoza\, 50004
CATEGORIES:Tauromaquia
END:VEVENT
BEGIN:VEVENT
DTSTART;TZID=UTC:20251008T170000
DTEND;TZID=UTC:20251008T170000
DTSTAMP:20260423T163501
CREATED:20250921T195702Z
LAST-MODIFIED:20250921T195702Z
UID:4857-1759942800-1759942800@zaraband.es
SUMMARY:Food Trucks: Taller infantil  Conviértete en un malabarista
DESCRIPTION:
URL:https://zaraband.es/evento/food-trucks-taller-infantil-conviertete-en-un-malabarista/
LOCATION:Ebro Food Festival\, P. Echegaray y Caballero\, 12\, Zaragoza\, 50003
CATEGORIES:Música
END:VEVENT
BEGIN:VEVENT
DTSTART;TZID=UTC:20251008T170000
DTEND;TZID=UTC:20251008T170000
DTSTAMP:20260423T163501
CREATED:20250921T195702Z
LAST-MODIFIED:20250921T195702Z
UID:4858-1759942800-1759942800@zaraband.es
SUMMARY:Planeta Jurásico – Carpa blanca Valdespartera
DESCRIPTION:
URL:https://zaraband.es/evento/planeta-jurasico-carpa-blanca-valdespartera-8/
LOCATION:Recinto Ferial Valdespartera\, Recinto ferial de valdespartera de zaragoza - zona atracciones\, Zaragoza\, 50019
CATEGORIES:Infantil
END:VEVENT
BEGIN:VEVENT
DTSTART;TZID=UTC:20251008T170000
DTEND;TZID=UTC:20251008T170000
DTSTAMP:20260423T163501
CREATED:20250921T195702Z
LAST-MODIFIED:20250921T195702Z
UID:4859-1759942800-1759942800@zaraband.es
SUMMARY:Pilarfolk: Puritani
DESCRIPTION:
URL:https://zaraband.es/evento/pilarfolk-puritani/
LOCATION:Plaza del Pilar\, Plaza del Pilar\, Zaragoza\, 50003
CATEGORIES:Música
END:VEVENT
BEGIN:VEVENT
DTSTART;TZID=UTC:20251008T160000
DTEND;TZID=UTC:20251008T160000
DTSTAMP:20260423T163501
CREATED:20250921T195701Z
LAST-MODIFIED:20250921T195701Z
UID:4856-1759939200-1759939200@zaraband.es
SUMMARY:Food Trucks: Tardeo valiente con  Dj Javi Huescar
DESCRIPTION:
URL:https://zaraband.es/evento/food-trucks-tardeo-valiente-con-dj-javi-huescar/
LOCATION:Ebro Food Festival\, P. Echegaray y Caballero\, 12\, Zaragoza\, 50003
CATEGORIES:Música
END:VEVENT
BEGIN:VEVENT
DTSTART;TZID=UTC:20251008T160000
DTEND;TZID=UTC:20251008T160000
DTSTAMP:20260423T163501
CREATED:20250921T195647Z
LAST-MODIFIED:20250921T195647Z
UID:4855-1759939200-1759939200@zaraband.es
SUMMARY:El Pilar en San José: León Garganchón
DESCRIPTION:
URL:https://zaraband.es/evento/el-pilar-en-san-jose-leon-garganchon/
LOCATION:Plaza Mayor\, Plaza Mayor\, s/n\, Zaragoza\, 50011
CATEGORIES:Infantil
END:VEVENT
BEGIN:VEVENT
DTSTART;TZID=UTC:20251008T160000
DTEND;TZID=UTC:20251008T160000
DTSTAMP:20260423T163501
CREATED:20250921T195647Z
LAST-MODIFIED:20250921T195647Z
UID:4854-1759939200-1759939200@zaraband.es
SUMMARY:El Pilar en el Parque Grande: Tragachicos
DESCRIPTION:
URL:https://zaraband.es/evento/el-pilar-en-el-parque-grande-tragachicos/
LOCATION:Puente de los Cantautores\, Avenida de San Sebastián\, Parque Grande José Antonio Labordeta\, Zaragoza\, 50007
CATEGORIES:Infantil
END:VEVENT
BEGIN:VEVENT
DTSTART;TZID=UTC:20251008T130000
DTEND;TZID=UTC:20251008T130000
DTSTAMP:20260423T163501
CREATED:20250921T195647Z
LAST-MODIFIED:20250921T195647Z
UID:4853-1759928400-1759928400@zaraband.es
SUMMARY:Food Trucks: Valiente Club con Dj  Sopelana
DESCRIPTION:
URL:https://zaraband.es/evento/food-trucks-valiente-club-con-dj-sopelana/
LOCATION:Ebro Food Festival\, P. Echegaray y Caballero\, 12\, Zaragoza\, 50003
CATEGORIES:Música
END:VEVENT
BEGIN:VEVENT
DTSTART;TZID=UTC:20251008T120000
DTEND;TZID=UTC:20251008T120000
DTSTAMP:20260423T163501
CREATED:20250921T195647Z
LAST-MODIFIED:20250921T195647Z
UID:4852-1759924800-1759924800@zaraband.es
SUMMARY:Food Trucks: Vermut jotero y ronda con Grupo Folklórico Zierzo
DESCRIPTION:
URL:https://zaraband.es/evento/food-trucks-vermut-jotero-y-ronda-con-grupo-folklorico-zierzo-3/
LOCATION:Ebro Food Festival\, P. Echegaray y Caballero\, 12\, Zaragoza\, 50003
CATEGORIES:Ferias y mercados
END:VEVENT
END:VCALENDAR