BEGIN:VCALENDAR
VERSION:2.0
PRODID:-//Zaraband - ECPv6.15.14//NONSGML v1.0//EN
CALSCALE:GREGORIAN
METHOD:PUBLISH
X-ORIGINAL-URL:https://zaraband.es
X-WR-CALDESC:Eventos para Zaraband
REFRESH-INTERVAL;VALUE=DURATION:PT1H
X-Robots-Tag:noindex
X-PUBLISHED-TTL:PT1H
BEGIN:VTIMEZONE
TZID:UTC
BEGIN:STANDARD
TZOFFSETFROM:+0000
TZOFFSETTO:+0000
TZNAME:UTC
DTSTART:20240101T000000
END:STANDARD
END:VTIMEZONE
BEGIN:VEVENT
DTSTART;TZID=UTC:20251009T183000
DTEND;TZID=UTC:20251009T183000
DTSTAMP:20260423T073816
CREATED:20250921T200349Z
LAST-MODIFIED:20251003T154301Z
UID:4907-1760034600-1760034600@zaraband.es
SUMMARY:La barraca de los títeres
DESCRIPTION:
URL:https://zaraband.es/evento/la-barraca-de-los-titeres-25/
LOCATION:C/Moret\, C/Moret\, Zaragoza\, Zaragoza\, 50001\, Spain
CATEGORIES:Teatro
END:VEVENT
BEGIN:VEVENT
DTSTART;TZID=UTC:20251009T183000
DTEND;TZID=UTC:20251009T183000
DTSTAMP:20260423T073816
CREATED:20250908T220921Z
LAST-MODIFIED:20250921T200752Z
UID:3479-1760034600-1760034600@zaraband.es
SUMMARY:Remátame otra vez
DESCRIPTION:
URL:https://zaraband.es/evento/rematame-otra-vez-13/
LOCATION:Teatro de las Esquinas\, Vía Univérsitas\, 30\, Zaragoza\, 50017
CATEGORIES:Teatro
END:VEVENT
BEGIN:VEVENT
DTSTART;TZID=UTC:20251009T181500
DTEND;TZID=UTC:20251009T181500
DTSTAMP:20260423T073816
CREATED:20250921T200752Z
LAST-MODIFIED:20250921T200752Z
UID:4917-1760033700-1760033700@zaraband.es
SUMMARY:Arrejuntamiento peñista
DESCRIPTION:
URL:https://zaraband.es/evento/arrejuntamiento-penista/
LOCATION:Plaza Santa Engracia\, Plaza Santa Engracia\, s/n\, Zaragoza\, 50001
CATEGORIES:Tradicional
END:VEVENT
BEGIN:VEVENT
DTSTART;TZID=UTC:20251009T180000
DTEND;TZID=UTC:20251009T180000
DTSTAMP:20260423T073816
CREATED:20250921T200752Z
LAST-MODIFIED:20250921T200752Z
UID:4915-1760032800-1760032800@zaraband.es
SUMMARY:Food Trucks: Daniel Tejero y Roberto Malo
DESCRIPTION:
URL:https://zaraband.es/evento/food-trucks-daniel-tejero-y-roberto-malo/
LOCATION:Ebro Food Festival\, P. Echegaray y Caballero\, 12\, Zaragoza\, 50003
CATEGORIES:Infantil
END:VEVENT
BEGIN:VEVENT
DTSTART;TZID=UTC:20251009T180000
DTEND;TZID=UTC:20251009T180000
DTSTAMP:20260423T073816
CREATED:20250921T200752Z
LAST-MODIFIED:20250921T200752Z
UID:4916-1760032800-1760032800@zaraband.es
SUMMARY:The Cortos con Diego Peña y Juako Malavirgen
DESCRIPTION:
URL:https://zaraband.es/evento/the-cortos-con-diego-pena-y-juako-malavirgen-5/
LOCATION:C.C. Río Ebro\, Calle María Zambrano\, 56\, Zaragoza\, 50018
CATEGORIES:Teatro
END:VEVENT
BEGIN:VEVENT
DTSTART;TZID=UTC:20251009T180000
DTEND;TZID=UTC:20251009T180000
DTSTAMP:20260423T073816
CREATED:20250921T200551Z
LAST-MODIFIED:20250921T200551Z
UID:4914-1760032800-1760032800@zaraband.es
SUMMARY:Denominación de Origen: Blasón Aragonés
DESCRIPTION:
URL:https://zaraband.es/evento/denominacion-de-origen-blason-aragones/
LOCATION:Plaza del Pilar\, Plaza del Pilar\, Zaragoza\, 50003
CATEGORIES:Tradicional
END:VEVENT
BEGIN:VEVENT
DTSTART;TZID=UTC:20251009T180000
DTEND;TZID=UTC:20251009T180000
DTSTAMP:20260423T073816
CREATED:20250921T200550Z
LAST-MODIFIED:20250921T200550Z
UID:4913-1760032800-1760032800@zaraband.es
SUMMARY:El Pilar en San Gregorio: Capitán Spriki
DESCRIPTION:
URL:https://zaraband.es/evento/el-pilar-en-san-gregorio-capitan-spriki/
LOCATION:Parque de San Gregorio\, Parque de San Gregorio\, s/n\, Zaragoza\, 50015
CATEGORIES:Infantil
END:VEVENT
BEGIN:VEVENT
DTSTART;TZID=UTC:20251009T180000
DTEND;TZID=UTC:20251009T180000
DTSTAMP:20260423T073816
CREATED:20250921T200550Z
LAST-MODIFIED:20250921T200550Z
UID:4910-1760032800-1760032800@zaraband.es
SUMMARY:El Pilar en Montecanal: Comparsa de Gigantes y Cabezudos
DESCRIPTION:
URL:https://zaraband.es/evento/el-pilar-en-montecanal-comparsa-de-gigantes-y-cabezudos/
LOCATION:C.P. Montecanal\, Calle Tomás de Lezaún\, 15\, Zaragoza\, 50012
CATEGORIES:Infantil
END:VEVENT
BEGIN:VEVENT
DTSTART;TZID=UTC:20251009T180000
DTEND;TZID=UTC:20251009T180000
DTSTAMP:20260423T073816
CREATED:20250921T200550Z
LAST-MODIFIED:20250921T200550Z
UID:4911-1760032800-1760032800@zaraband.es
SUMMARY:Humor en Xior: Leo Bassi
DESCRIPTION:
URL:https://zaraband.es/evento/humor-en-xior-leo-bassi/
LOCATION:Anfiteatro Residencia Xior\, Calle de la Madre Rafols\, 4\, Zaragoza\, 50004
CATEGORIES:Teatro
END:VEVENT
BEGIN:VEVENT
DTSTART;TZID=UTC:20251009T180000
DTEND;TZID=UTC:20251009T180000
DTSTAMP:20260423T073816
CREATED:20250921T200550Z
LAST-MODIFIED:20250921T200550Z
UID:4912-1760032800-1760032800@zaraband.es
SUMMARY:El Pilar en Oliver: Peliagudo Arte y Circo
DESCRIPTION:
URL:https://zaraband.es/evento/el-pilar-en-oliver-peliagudo-arte-y-circo/
LOCATION:Parque Oliver Kiosco\, Parque Oliver Kiosco\, s/n\, Zaragoza\, 50011
CATEGORIES:Infantil
END:VEVENT
BEGIN:VEVENT
DTSTART;TZID=UTC:20251009T173000
DTEND;TZID=UTC:20251009T173000
DTSTAMP:20260423T073816
CREATED:20250921T200349Z
LAST-MODIFIED:20251003T154251Z
UID:4906-1760031000-1760031000@zaraband.es
SUMMARY:La barraca de los títeres
DESCRIPTION:
URL:https://zaraband.es/evento/la-barraca-de-los-titeres-24/
LOCATION:C/Moret\, C/Moret\, Zaragoza\, Zaragoza\, 50001\, Spain
CATEGORIES:Teatro
END:VEVENT
BEGIN:VEVENT
DTSTART;TZID=UTC:20251009T173000
DTEND;TZID=UTC:20251009T173000
DTSTAMP:20260423T073816
CREATED:20250921T200149Z
LAST-MODIFIED:20250921T200149Z
UID:4905-1760031000-1760031000@zaraband.es
SUMMARY:Río y juego
DESCRIPTION:
URL:https://zaraband.es/evento/rio-y-juego-5/
LOCATION:Frente fluvial Expo\, Pabellon de España\, Zaragoza\, 50018
CATEGORIES:Infantil
END:VEVENT
BEGIN:VEVENT
DTSTART;TZID=UTC:20251009T173000
DTEND;TZID=UTC:20251009T173000
DTSTAMP:20260423T073816
CREATED:20250908T225142Z
LAST-MODIFIED:20250921T200350Z
UID:3584-1760031000-1760031000@zaraband.es
SUMMARY:Corrida de toros (Aarón Palacio\, Sebastián Castella)
DESCRIPTION:
URL:https://zaraband.es/evento/corrida-de-toros-aaron-palacio-sebastian-castella/
LOCATION:Plaza de toros de la Misericordia\, C. de Ramón Pignatelli 120\, Zaragoza\, 50004
CATEGORIES:Tauromaquia
END:VEVENT
BEGIN:VEVENT
DTSTART;TZID=UTC:20251009T170000
DTEND;TZID=UTC:20251009T170000
DTSTAMP:20260423T073816
CREATED:20250921T200149Z
LAST-MODIFIED:20250921T200149Z
UID:4903-1760029200-1760029200@zaraband.es
SUMMARY:Parque de las Marionetas: XV Festival Internacional de Teatro de Feria
DESCRIPTION:
URL:https://zaraband.es/evento/parque-de-las-marionetas-xv-festival-internacional-de-teatro-de-feria/
LOCATION:Parque Grande J.A. Labordeta\, Pº Isabel la Católica\, s/n\, Zaragoza\, 50006
CATEGORIES:Infantil
END:VEVENT
BEGIN:VEVENT
DTSTART;TZID=UTC:20251009T170000
DTEND;TZID=UTC:20251009T170000
DTSTAMP:20260423T073816
CREATED:20250921T200149Z
LAST-MODIFIED:20250921T200149Z
UID:4904-1760029200-1760029200@zaraband.es
SUMMARY:Food Trucks: Taller infantil de  marionetas de payasos
DESCRIPTION:
URL:https://zaraband.es/evento/food-trucks-taller-infantil-de-marionetas-de-payasos/
LOCATION:Ebro Food Festival\, P. Echegaray y Caballero\, 12\, Zaragoza\, 50003
CATEGORIES:Infantil
END:VEVENT
BEGIN:VEVENT
DTSTART;TZID=UTC:20251009T170000
DTEND;TZID=UTC:20251009T170000
DTSTAMP:20260423T073816
CREATED:20250921T200149Z
LAST-MODIFIED:20250921T200149Z
UID:4902-1760029200-1760029200@zaraband.es
SUMMARY:Denominación de Origen: Grupo Folklórico Zierzo
DESCRIPTION:
URL:https://zaraband.es/evento/denominacion-de-origen-grupo-folklorico-zierzo/
LOCATION:Plaza del Pilar\, Plaza del Pilar\, Zaragoza\, 50003
CATEGORIES:Tradicional
END:VEVENT
BEGIN:VEVENT
DTSTART;TZID=UTC:20251009T170000
DTEND;TZID=UTC:20251009T170000
DTSTAMP:20260423T073816
CREATED:20250921T195931Z
LAST-MODIFIED:20250921T195931Z
UID:4895-1760029200-1760029200@zaraband.es
SUMMARY:Planeta Jurásico – Carpa blanca Valdespartera
DESCRIPTION:
URL:https://zaraband.es/evento/planeta-jurasico-carpa-blanca-valdespartera-10/
LOCATION:Recinto Ferial Valdespartera\, Recinto ferial de valdespartera de zaragoza - zona atracciones\, Zaragoza\, 50019
CATEGORIES:Infantil
END:VEVENT
BEGIN:VEVENT
DTSTART;TZID=UTC:20251009T160000
DTEND;TZID=UTC:20251009T160000
DTSTAMP:20260423T073816
CREATED:20250921T195947Z
LAST-MODIFIED:20250921T195947Z
UID:4898-1760025600-1760025600@zaraband.es
SUMMARY:El Pilar en La Almozara: Tragachicos
DESCRIPTION:
URL:https://zaraband.es/evento/el-pilar-en-la-almozara-tragachicos/
LOCATION:Andador Ignacio Menaya Reinoso\, Andador Ignacio Menaya Reinoso\, Zaragoza\, 50003
CATEGORIES:Infantil
END:VEVENT
BEGIN:VEVENT
DTSTART;TZID=UTC:20251009T160000
DTEND;TZID=UTC:20251009T160000
DTSTAMP:20260423T073816
CREATED:20250921T195947Z
LAST-MODIFIED:20250921T195947Z
UID:4899-1760025600-1760025600@zaraband.es
SUMMARY:El Pilar en Valdespartera: Tragachicos
DESCRIPTION:
URL:https://zaraband.es/evento/el-pilar-en-valdespartera-tragachicos/
LOCATION:Plaza El Cantor de Jazz\, Plaza El Cantor de Jazz\, s/n\, Zaragoza\, 50019
CATEGORIES:Infantil
END:VEVENT
BEGIN:VEVENT
DTSTART;TZID=UTC:20251009T160000
DTEND;TZID=UTC:20251009T160000
DTSTAMP:20260423T073816
CREATED:20250911T194055Z
LAST-MODIFIED:20250921T195947Z
UID:4131-1760025600-1760025600@zaraband.es
SUMMARY:2do Festival Internacional de Circo de Zaragoza
DESCRIPTION:
URL:https://zaraband.es/evento/2do-festival-internacional-de-circo-de-zaragoza-36/
LOCATION:Recinto Ferial Valdespartera\, Recinto ferial de valdespartera de zaragoza - zona atracciones\, Zaragoza\, 50019
CATEGORIES:Magia y circo
END:VEVENT
BEGIN:VEVENT
DTSTART;TZID=UTC:20251009T140000
DTEND;TZID=UTC:20251009T140000
DTSTAMP:20260423T073816
CREATED:20250921T195947Z
LAST-MODIFIED:20250921T195947Z
UID:4897-1760018400-1760018400@zaraband.es
SUMMARY:Food Trucks: Vermut party con Dj  Old Barrow y Dj 2noise
DESCRIPTION:
URL:https://zaraband.es/evento/food-trucks-vermut-party-con-dj-old-barrow-y-dj-2noise/
LOCATION:Ebro Food Festival\, P. Echegaray y Caballero\, 12\, Zaragoza\, 50003
CATEGORIES:Música
END:VEVENT
BEGIN:VEVENT
DTSTART;TZID=UTC:20251009T140000
DTEND;TZID=UTC:20251009T140000
DTSTAMP:20260423T073816
CREATED:20250921T195947Z
LAST-MODIFIED:20250921T195947Z
UID:4900-1760018400-1760018400@zaraband.es
SUMMARY:Food Trucks: Tardeo valiente con Dj  Alex Curreya
DESCRIPTION:
URL:https://zaraband.es/evento/food-trucks-tardeo-valiente-con-dj-alex-curreya/
LOCATION:Ebro Food Festival\, P. Echegaray y Caballero\, 12\, Zaragoza\, 50003
CATEGORIES:Música
END:VEVENT
BEGIN:VEVENT
DTSTART;TZID=UTC:20251009T130000
DTEND;TZID=UTC:20251009T130000
DTSTAMP:20260423T073816
CREATED:20250921T195932Z
LAST-MODIFIED:20250921T195932Z
UID:4896-1760014800-1760014800@zaraband.es
SUMMARY:Food Trucks: Marga y Los Del Monte
DESCRIPTION:
URL:https://zaraband.es/evento/food-trucks-marga-y-los-del-monte/
LOCATION:Ebro Food Festival\, P. Echegaray y Caballero\, 12\, Zaragoza\, 50003
CATEGORIES:Música
END:VEVENT
BEGIN:VEVENT
DTSTART;TZID=UTC:20251009T120000
DTEND;TZID=UTC:20251009T120000
DTSTAMP:20260423T073816
CREATED:20250921T195931Z
LAST-MODIFIED:20250921T195931Z
UID:4892-1760011200-1760011200@zaraband.es
SUMMARY:Katharsis Ensemble
DESCRIPTION:
URL:https://zaraband.es/evento/katharsis-ensemble/
LOCATION:Anfiteatro Residencia Xior\, Calle de la Madre Rafols\, 4\, Zaragoza\, 50004
CATEGORIES:Música
END:VEVENT
BEGIN:VEVENT
DTSTART;TZID=UTC:20251009T120000
DTEND;TZID=UTC:20251009T120000
DTSTAMP:20260423T073816
CREATED:20250921T195931Z
LAST-MODIFIED:20250921T195931Z
UID:4893-1760011200-1760011200@zaraband.es
SUMMARY:El carro de la alegría
DESCRIPTION:
URL:https://zaraband.es/evento/el-carro-de-la-alegria/
LOCATION:Museo del Fuego y los Bomberos\, Calle Ramón y Cajal\, 32\, Zaragoza\, 50004
CATEGORIES:Infantil
END:VEVENT
BEGIN:VEVENT
DTSTART;TZID=UTC:20251009T120000
DTEND;TZID=UTC:20251009T120000
DTSTAMP:20260423T073816
CREATED:20250921T195931Z
LAST-MODIFIED:20250921T195931Z
UID:4894-1760011200-1760011200@zaraband.es
SUMMARY:Planeta Jurásico – Carpa blanca Valdespartera
DESCRIPTION:
URL:https://zaraband.es/evento/planeta-jurasico-carpa-blanca-valdespartera-9/
LOCATION:Recinto Ferial Valdespartera\, Recinto ferial de valdespartera de zaragoza - zona atracciones\, Zaragoza\, 50019
CATEGORIES:Infantil
END:VEVENT
BEGIN:VEVENT
DTSTART;TZID=UTC:20251009T110000
DTEND;TZID=UTC:20251009T110000
DTSTAMP:20260423T073816
CREATED:20250908T223936Z
LAST-MODIFIED:20250921T195917Z
UID:3555-1760007600-1760007600@zaraband.es
SUMMARY:Muestra Artesanía y Agroalimentaría
DESCRIPTION:
URL:https://zaraband.es/evento/muestra-artesania-y-agroalimentaria-6/
LOCATION:Plaza de los Sitios\, Plaza de los Sitios\, Zaragoza\, 50001
CATEGORIES:Artesanía
END:VEVENT
BEGIN:VEVENT
DTSTART;TZID=UTC:20251009T080000
DTEND;TZID=UTC:20251009T080000
DTSTAMP:20260423T073816
CREATED:20250908T224539Z
LAST-MODIFIED:20250921T195916Z
UID:3571-1759996800-1759996800@zaraband.es
SUMMARY:Mañanas Vaquilleras (vaquillas)
DESCRIPTION:
URL:https://zaraband.es/evento/mananas-vaquilleras-vaquillas-5/
LOCATION:Plaza de toros de la Misericordia\, C. de Ramón Pignatelli 120\, Zaragoza\, 50004
CATEGORIES:Tauromaquia
END:VEVENT
BEGIN:VEVENT
DTSTART;TZID=UTC:20251008T235900
DTEND;TZID=UTC:20251008T235900
DTSTAMP:20260423T073816
CREATED:20250921T195916Z
LAST-MODIFIED:20250921T195916Z
UID:4891-1759967940-1759967940@zaraband.es
SUMMARY:Sesión noche Espacio Zity
DESCRIPTION:
URL:https://zaraband.es/evento/sesion-noche-espacio-zity-19/
LOCATION:Espacio Zity\, Recinto ferial de valdespartera de zaragoza - zona atracciones\, Zaragoza\, 50019
CATEGORIES:Música
END:VEVENT
BEGIN:VEVENT
DTSTART;TZID=UTC:20251008T220000
DTEND;TZID=UTC:20251008T220000
DTSTAMP:20260423T073816
CREATED:20250921T195916Z
LAST-MODIFIED:20250921T195916Z
UID:4890-1759960800-1759960800@zaraband.es
SUMMARY:Food Trucks: Azero
DESCRIPTION:
URL:https://zaraband.es/evento/food-trucks-azero/
LOCATION:Ebro Food Festival\, P. Echegaray y Caballero\, 12\, Zaragoza\, 50003
CATEGORIES:Infantil
END:VEVENT
END:VCALENDAR