BEGIN:VCALENDAR
VERSION:2.0
PRODID:-//Zaraband - ECPv6.15.14//NONSGML v1.0//EN
CALSCALE:GREGORIAN
METHOD:PUBLISH
X-WR-CALNAME:Zaraband
X-ORIGINAL-URL:https://zaraband.es
X-WR-CALDESC:Eventos para Zaraband
REFRESH-INTERVAL;VALUE=DURATION:PT1H
X-Robots-Tag:noindex
X-PUBLISHED-TTL:PT1H
BEGIN:VTIMEZONE
TZID:UTC
BEGIN:STANDARD
TZOFFSETFROM:+0000
TZOFFSETTO:+0000
TZNAME:UTC
DTSTART:20240101T000000
END:STANDARD
END:VTIMEZONE
BEGIN:VEVENT
DTSTART;TZID=UTC:20251009T203000
DTEND;TZID=UTC:20251009T203000
DTSTAMP:20260423T025837
CREATED:20250921T202053Z
LAST-MODIFIED:20250921T202053Z
UID:4938-1760041800-1760041800@zaraband.es
SUMMARY:Mediterráneos
DESCRIPTION:
URL:https://zaraband.es/evento/mediterraneos-2/
LOCATION:C.C. Los Porches del Audiorama\, Pl. del Emperador Carlos\, 8\, Zaragoza\, 50009
CATEGORIES:Música
END:VEVENT
BEGIN:VEVENT
DTSTART;TZID=UTC:20251009T203000
DTEND;TZID=UTC:20251009T203000
DTSTAMP:20260423T025837
CREATED:20250921T202038Z
LAST-MODIFIED:20250921T202038Z
UID:4937-1760041800-1760041800@zaraband.es
SUMMARY:Juan Capilla  Indomable +18
DESCRIPTION:
URL:https://zaraband.es/evento/juan-capilla-indomable-18/
LOCATION:El Sótano Mágico\, Calle San Pablo\, 43\, Zaragoza\, 50003
CATEGORIES:Teatro
END:VEVENT
BEGIN:VEVENT
DTSTART;TZID=UTC:20251009T203000
DTEND;TZID=UTC:20251009T203000
DTSTAMP:20260423T025837
CREATED:20250921T200349Z
LAST-MODIFIED:20251003T154322Z
UID:4909-1760041800-1760041800@zaraband.es
SUMMARY:La barraca de los títeres
DESCRIPTION:
URL:https://zaraband.es/evento/la-barraca-de-los-titeres-27/
LOCATION:C/Moret\, C/Moret\, Zaragoza\, Zaragoza\, 50001\, Spain
CATEGORIES:Teatro
END:VEVENT
BEGIN:VEVENT
DTSTART;TZID=UTC:20251009T203000
DTEND;TZID=UTC:20251009T203000
DTSTAMP:20260423T025837
CREATED:20250908T221324Z
LAST-MODIFIED:20251003T211342Z
UID:3491-1760041800-1760041800@zaraband.es
SUMMARY:MAMMA MIA! Musical
DESCRIPTION:
URL:https://zaraband.es/evento/mamma-mia-musical-20/
LOCATION:Palacio de Congresos de Zaragoza\, Plaza Lucas Miret Rodriguez\, 1\, Zaragoza\, 50018
CATEGORIES:Teatro
END:VEVENT
BEGIN:VEVENT
DTSTART;TZID=UTC:20251009T203000
DTEND;TZID=UTC:20251009T203000
DTSTAMP:20260423T025837
CREATED:20250908T215514Z
LAST-MODIFIED:20250921T202038Z
UID:3443-1760041800-1760041800@zaraband.es
SUMMARY:La Zarzuela con los grande de La Jota
DESCRIPTION:
URL:https://zaraband.es/evento/la-zarzuela-con-los-grande-de-la-jota-3/
LOCATION:Auditorio de Zaragoza – Princesa Leonor\, C. de Eduardo Ibarra\, 3\, Zaragoza\, 50009
CATEGORIES:Música
END:VEVENT
BEGIN:VEVENT
DTSTART;TZID=UTC:20251009T201500
DTEND;TZID=UTC:20251009T201500
DTSTAMP:20260423T025837
CREATED:20250921T202038Z
LAST-MODIFIED:20250921T202038Z
UID:4936-1760040900-1760040900@zaraband.es
SUMMARY:Agua\, luz y sonido: grandes compositores de bandas sonoras
DESCRIPTION:
URL:https://zaraband.es/evento/agua-luz-y-sonido-grandes-compositores-de-bandas-sonoras-5/
LOCATION:Parque Grande J.A. Labordeta\, Pº Isabel la Católica\, s/n\, Zaragoza\, 50006
CATEGORIES:Música
END:VEVENT
BEGIN:VEVENT
DTSTART;TZID=UTC:20251009T200000
DTEND;TZID=UTC:20251009T200000
DTSTAMP:20260423T025837
CREATED:20250921T202038Z
LAST-MODIFIED:20250921T202038Z
UID:4935-1760040000-1760040000@zaraband.es
SUMMARY:Sarao con Javier Segarra\, Lola Moreno\, Silvia Fox y el Ballet Internacional
DESCRIPTION:
URL:https://zaraband.es/evento/sarao-con-javier-segarra-lola-moreno-silvia-fox-y-el-ballet-internacional-6/
LOCATION:Auditorio WTCZ\, Calle María Zambrano\, 31\, Zaragoza\, 50018
CATEGORIES:Teatro
END:VEVENT
BEGIN:VEVENT
DTSTART;TZID=UTC:20251009T200000
DTEND;TZID=UTC:20251009T200000
DTSTAMP:20260423T025837
CREATED:20250921T202023Z
LAST-MODIFIED:20250921T202023Z
UID:4933-1760040000-1760040000@zaraband.es
SUMMARY:Mea Culpa
DESCRIPTION:
URL:https://zaraband.es/evento/mea-culpa-4/
LOCATION:C.C. Delicias\, Avenida Navarra\, 54\, Zaragoza\, 50010
CATEGORIES:Teatro
END:VEVENT
BEGIN:VEVENT
DTSTART;TZID=UTC:20251009T200000
DTEND;TZID=UTC:20251009T200000
DTSTAMP:20260423T025837
CREATED:20250921T202023Z
LAST-MODIFIED:20250921T202023Z
UID:4934-1760040000-1760040000@zaraband.es
SUMMARY:2 kinder güenos\, Especial Pilares\, monologos
DESCRIPTION:
URL:https://zaraband.es/evento/2-kinder-guenos-especial-pilares-monologos-3/
LOCATION:El Refugio del Crápula\, Calle Mayor\, 56\, Zaragoza\, 50001
CATEGORIES:Teatro
END:VEVENT
BEGIN:VEVENT
DTSTART;TZID=UTC:20251009T200000
DTEND;TZID=UTC:20251009T200000
DTSTAMP:20260423T025837
CREATED:20250921T202008Z
LAST-MODIFIED:20250921T202008Z
UID:4929-1760040000-1760040000@zaraband.es
SUMMARY:Off de calle: Biribú Teatro
DESCRIPTION:
URL:https://zaraband.es/evento/off-de-calle-biribu-teatro/
LOCATION:Plaza Salamero\, Plaza Salamero\, s/n\, Zaragoza\, 50004
CATEGORIES:Magia y circo
END:VEVENT
BEGIN:VEVENT
DTSTART;TZID=UTC:20251009T200000
DTEND;TZID=UTC:20251009T200000
DTSTAMP:20260423T025837
CREATED:20250921T202008Z
LAST-MODIFIED:20250921T202008Z
UID:4930-1760040000-1760040000@zaraband.es
SUMMARY:The hijas & the papas en concierto
DESCRIPTION:
URL:https://zaraband.es/evento/the-hijas-the-papas-en-concierto/
LOCATION:Auditorio de Zaragoza – Princesa Leonor\, C. de Eduardo Ibarra\, 3\, Zaragoza\, 50009
CATEGORIES:Música
END:VEVENT
BEGIN:VEVENT
DTSTART;TZID=UTC:20251009T200000
DTEND;TZID=UTC:20251009T200000
DTSTAMP:20260423T025837
CREATED:20250921T202008Z
LAST-MODIFIED:20250921T202008Z
UID:4931-1760040000-1760040000@zaraband.es
SUMMARY:Xixefón Pilar 25
DESCRIPTION:
URL:https://zaraband.es/evento/xixefon-pilar-25/
LOCATION:Balcón de San Lázaro\, Av. de los Pirineos\, s/n\, Zaragoza\, 50015
CATEGORIES:Tradicional
END:VEVENT
BEGIN:VEVENT
DTSTART;TZID=UTC:20251009T200000
DTEND;TZID=UTC:20251009T200000
DTSTAMP:20260423T025837
CREATED:20250921T202008Z
LAST-MODIFIED:20250921T202008Z
UID:4932-1760040000-1760040000@zaraband.es
SUMMARY:Food Trucks: Cumbiazepam
DESCRIPTION:
URL:https://zaraband.es/evento/food-trucks-cumbiazepam/
LOCATION:Ebro Food Festival\, P. Echegaray y Caballero\, 12\, Zaragoza\, 50003
CATEGORIES:Música
END:VEVENT
BEGIN:VEVENT
DTSTART;TZID=UTC:20251009T200000
DTEND;TZID=UTC:20251009T200000
DTSTAMP:20260423T025837
CREATED:20250908T225344Z
LAST-MODIFIED:20250921T202023Z
UID:3590-1760040000-1760040000@zaraband.es
SUMMARY:Fabiolo Conecction (Rafa Maza)
DESCRIPTION:
URL:https://zaraband.es/evento/fabiolo-conecction-rafa-maza-2/
LOCATION:Patio de la Infanta. Fundación Ibercaja\, C. de San Ignacio de Loyola\, 16\, Zaragoza\, 50008
CATEGORIES:Teatro
END:VEVENT
BEGIN:VEVENT
DTSTART;TZID=UTC:20251009T200000
DTEND;TZID=UTC:20251009T200000
DTSTAMP:20260423T025837
CREATED:20250908T220318Z
LAST-MODIFIED:20250921T202023Z
UID:3462-1760040000-1760040000@zaraband.es
SUMMARY:Comisaria en fiestas: El reality
DESCRIPTION:
URL:https://zaraband.es/evento/comisaria-en-fiestas-el-reality-20/
LOCATION:Teatro del Mercado\, Pl. de Santo Domingo\, 27\, Zaragoza\, 50003
CATEGORIES:Teatro
END:VEVENT
BEGIN:VEVENT
DTSTART;TZID=UTC:20251009T200000
DTEND;TZID=UTC:20251009T200000
DTSTAMP:20260423T025837
CREATED:20250908T215916Z
LAST-MODIFIED:20250921T202023Z
UID:3452-1760040000-1760040000@zaraband.es
SUMMARY:Pepa\, No me des tormento (Beatriz Rico)
DESCRIPTION:
URL:https://zaraband.es/evento/pepa-no-me-des-tormento-beatriz-rico-3/
LOCATION:Teatro Arbolé\, Parque del Agua Luis Buñuel\, Pl Fluvi\, Zaragoza\, 50018
CATEGORIES:Teatro
END:VEVENT
BEGIN:VEVENT
DTSTART;TZID=UTC:20251009T200000
DTEND;TZID=UTC:20251009T200000
DTSTAMP:20260423T025837
CREATED:20250908T215112Z
LAST-MODIFIED:20250921T202009Z
UID:3434-1760040000-1760040000@zaraband.es
SUMMARY:Los pilares de la tierra\, el musical
DESCRIPTION:
URL:https://zaraband.es/evento/los-pilares-de-la-tierra-el-musical-21/
LOCATION:Teatro Principal\, Pl. de José Sinués Urbiola\, 2\, Zaragoza\, 50001
CATEGORIES:Teatro
END:VEVENT
BEGIN:VEVENT
DTSTART;TZID=UTC:20251009T193000
DTEND;TZID=UTC:20251009T193000
DTSTAMP:20260423T025837
CREATED:20250921T201954Z
LAST-MODIFIED:20250921T201954Z
UID:4927-1760038200-1760038200@zaraband.es
SUMMARY:OBK + Starkytch
DESCRIPTION:
URL:https://zaraband.es/evento/obk-starkytch/
LOCATION:Estación del Norte\, C/ Perdiguera\, 7\, Zaragoza\, 50014
CATEGORIES:Música
END:VEVENT
BEGIN:VEVENT
DTSTART;TZID=UTC:20251009T193000
DTEND;TZID=UTC:20251009T193000
DTSTAMP:20260423T025837
CREATED:20250921T201954Z
LAST-MODIFIED:20250921T201954Z
UID:4928-1760038200-1760038200@zaraband.es
SUMMARY:Los dos pilares de la magia: Pepe Lirrojo y Sergio Cisneros
DESCRIPTION:
URL:https://zaraband.es/evento/los-dos-pilares-de-la-magia-pepe-lirrojo-y-sergio-cisneros-6/
LOCATION:C.C. Valdefierro\, Pl. de la Inmaculada\, s/n\, Zaragoza\, 50012
CATEGORIES:Magia y circo
END:VEVENT
BEGIN:VEVENT
DTSTART;TZID=UTC:20251009T193000
DTEND;TZID=UTC:20251009T193000
DTSTAMP:20260423T025837
CREATED:20250921T200349Z
LAST-MODIFIED:20251003T154313Z
UID:4908-1760038200-1760038200@zaraband.es
SUMMARY:La barraca de los títeres
DESCRIPTION:
URL:https://zaraband.es/evento/la-barraca-de-los-titeres-26/
LOCATION:C/Moret\, C/Moret\, Zaragoza\, Zaragoza\, 50001\, Spain
CATEGORIES:Teatro
END:VEVENT
BEGIN:VEVENT
DTSTART;TZID=UTC:20251009T191500
DTEND;TZID=UTC:20251009T191500
DTSTAMP:20260423T025837
CREATED:20250921T201954Z
LAST-MODIFIED:20250921T201954Z
UID:4926-1760037300-1760037300@zaraband.es
SUMMARY:Maratón de charangas
DESCRIPTION:
URL:https://zaraband.es/evento/maraton-de-charangas/
LOCATION:Plaza Aragon\, Plaza Aragón\, s/n\, Zaragoza\, 50004
CATEGORIES:Música
END:VEVENT
BEGIN:VEVENT
DTSTART;TZID=UTC:20251009T190000
DTEND;TZID=UTC:20251009T190000
DTSTAMP:20260423T025837
CREATED:20250921T201954Z
LAST-MODIFIED:20250921T201954Z
UID:4924-1760036400-1760036400@zaraband.es
SUMMARY:Los Gandules presentan Gandulfighter.
DESCRIPTION:
URL:https://zaraband.es/evento/los-gandules-presentan-gandulfighter/
LOCATION:C.C. Almozara\, Av. de la Puerta de Sancho\, 30\, Zaragoza\, 50003
CATEGORIES:Teatro
END:VEVENT
BEGIN:VEVENT
DTSTART;TZID=UTC:20251009T190000
DTEND;TZID=UTC:20251009T190000
DTSTAMP:20260423T025837
CREATED:20250921T201954Z
LAST-MODIFIED:20250921T201954Z
UID:4925-1760036400-1760036400@zaraband.es
SUMMARY:Noche de Reyes\, con Nasú Teatro
DESCRIPTION:
URL:https://zaraband.es/evento/noche-de-reyes-con-nasu-teatro/
LOCATION:C.C. Teodoro Sánchez Punter\, Calle Raquel Meller\, 2\, Zaragoza\, 50008
CATEGORIES:Teatro
END:VEVENT
BEGIN:VEVENT
DTSTART;TZID=UTC:20251009T190000
DTEND;TZID=UTC:20251009T190000
DTSTAMP:20260423T025837
CREATED:20250921T200952Z
LAST-MODIFIED:20250921T200952Z
UID:4919-1760036400-1760036400@zaraband.es
SUMMARY:Delicias de circo: Cía. La Nördika
DESCRIPTION:
URL:https://zaraband.es/evento/delicias-de-circo-cia-la-nordika/
LOCATION:Parque Delicias\, Av. de Navarra\, 54\, Zaragoza\, 50017
CATEGORIES:Magia y circo
END:VEVENT
BEGIN:VEVENT
DTSTART;TZID=UTC:20251009T190000
DTEND;TZID=UTC:20251009T190000
DTSTAMP:20260423T025837
CREATED:20250921T200952Z
LAST-MODIFIED:20250921T200952Z
UID:4920-1760036400-1760036400@zaraband.es
SUMMARY:Denominación de Origen: Nobleza Baturra
DESCRIPTION:
URL:https://zaraband.es/evento/denominacion-de-origen-nobleza-baturra/
LOCATION:Plaza del Pilar\, Plaza del Pilar\, Zaragoza\, 50003
CATEGORIES:Tradicional
END:VEVENT
BEGIN:VEVENT
DTSTART;TZID=UTC:20251009T190000
DTEND;TZID=UTC:20251009T190000
DTSTAMP:20260423T025837
CREATED:20250921T200952Z
LAST-MODIFIED:20250921T200952Z
UID:4921-1760036400-1760036400@zaraband.es
SUMMARY:Food Trucks: Aurora Boreal
DESCRIPTION:
URL:https://zaraband.es/evento/food-trucks-aurora-boreal/
LOCATION:Ebro Food Festival\, P. Echegaray y Caballero\, 12\, Zaragoza\, 50003
CATEGORIES:Infantil
END:VEVENT
BEGIN:VEVENT
DTSTART;TZID=UTC:20251009T190000
DTEND;TZID=UTC:20251009T190000
DTSTAMP:20260423T025837
CREATED:20250921T200952Z
LAST-MODIFIED:20250921T200952Z
UID:4922-1760036400-1760036400@zaraband.es
SUMMARY:Gran Hotel Maravilla con Producciones Kinser
DESCRIPTION:
URL:https://zaraband.es/evento/gran-hotel-maravilla-con-producciones-kinser/
LOCATION:Pabellón Sociocultural Miralbueno\, C. Agustín Príncipe\, 7\, Zaragoza\, 50011
CATEGORIES:Magia y circo
END:VEVENT
BEGIN:VEVENT
DTSTART;TZID=UTC:20251009T190000
DTEND;TZID=UTC:20251009T190000
DTSTAMP:20260423T025837
CREATED:20250921T200952Z
LAST-MODIFIED:20250921T200952Z
UID:4923-1760036400-1760036400@zaraband.es
SUMMARY:La noche de Maribel Vermut
DESCRIPTION:
URL:https://zaraband.es/evento/la-noche-de-maribel-vermut/
LOCATION:Centro Cívico Salvador Allende\, C. de Florentino Ballesteros\, 8\, Zaragoza\, 50002
CATEGORIES:Teatro
END:VEVENT
BEGIN:VEVENT
DTSTART;TZID=UTC:20251009T190000
DTEND;TZID=UTC:20251009T190000
DTSTAMP:20260423T025837
CREATED:20250921T200148Z
LAST-MODIFIED:20250921T200148Z
UID:4901-1760036400-1760036400@zaraband.es
SUMMARY:2do Festival Internacional de Circo de Zaragoza
DESCRIPTION:
URL:https://zaraband.es/evento/2do-festival-internacional-de-circo-de-zaragoza-38/
LOCATION:Recinto Ferial Valdespartera\, Recinto ferial de valdespartera de zaragoza - zona atracciones\, Zaragoza\, 50019
CATEGORIES:Magia y circo
END:VEVENT
BEGIN:VEVENT
DTSTART;TZID=UTC:20251009T183000
DTEND;TZID=UTC:20251009T183000
DTSTAMP:20260423T025837
CREATED:20250921T200752Z
LAST-MODIFIED:20250921T200752Z
UID:4918-1760034600-1760034600@zaraband.es
SUMMARY:Bandas en La Granja: Asociación musical El Picarral
DESCRIPTION:
URL:https://zaraband.es/evento/bandas-en-la-granja-asociacion-musical-el-picarral/
LOCATION:Parque La Granja\, Cam. Cabaldós\, 25\, Zaragoza\, 50013
CATEGORIES:Música
END:VEVENT
END:VCALENDAR