BEGIN:VCALENDAR
VERSION:2.0
PRODID:-//Zaraband - ECPv6.15.14//NONSGML v1.0//EN
CALSCALE:GREGORIAN
METHOD:PUBLISH
X-ORIGINAL-URL:https://zaraband.es
X-WR-CALDESC:Eventos para Zaraband
REFRESH-INTERVAL;VALUE=DURATION:PT1H
X-Robots-Tag:noindex
X-PUBLISHED-TTL:PT1H
BEGIN:VTIMEZONE
TZID:UTC
BEGIN:STANDARD
TZOFFSETFROM:+0000
TZOFFSETTO:+0000
TZNAME:UTC
DTSTART:20240101T000000
END:STANDARD
END:VTIMEZONE
BEGIN:VEVENT
DTSTART;TZID=UTC:20251010T110000
DTEND;TZID=UTC:20251010T110000
DTSTAMP:20260423T000831
CREATED:20250921T202351Z
LAST-MODIFIED:20250921T202351Z
UID:4951-1760094000-1760094000@zaraband.es
SUMMARY:El Pilar en el centro: León Garganchón.
DESCRIPTION:
URL:https://zaraband.es/evento/el-pilar-en-el-centro-leon-garganchon/
LOCATION:Parque de la Expo\, Parque de la Expo\, s/n\, Zaragoza\, 50018
CATEGORIES:Infantil
END:VEVENT
BEGIN:VEVENT
DTSTART;TZID=UTC:20251010T110000
DTEND;TZID=UTC:20251010T110000
DTSTAMP:20260423T000831
CREATED:20250921T202351Z
LAST-MODIFIED:20250921T202351Z
UID:4952-1760094000-1760094000@zaraband.es
SUMMARY:Parque de las Marionetas: XV Festival Internacional de Teatro de Feria
DESCRIPTION:
URL:https://zaraband.es/evento/parque-de-las-marionetas-xv-festival-internacional-de-teatro-de-feria-2/
LOCATION:Parque Grande J.A. Labordeta\, Pº Isabel la Católica\, s/n\, Zaragoza\, 50006
CATEGORIES:Infantil
END:VEVENT
BEGIN:VEVENT
DTSTART;TZID=UTC:20251010T110000
DTEND;TZID=UTC:20251010T110000
DTSTAMP:20260423T000831
CREATED:20250921T202350Z
LAST-MODIFIED:20250921T202350Z
UID:4950-1760094000-1760094000@zaraband.es
SUMMARY:Taller infantil: Pilares
DESCRIPTION:
URL:https://zaraband.es/evento/taller-infantil-pilares/
LOCATION:Espacio Xplora Ibercaja\, Plaza Basilio Paraíso\, 2\, Zaragoza\, 50008
CATEGORIES:Infantil
END:VEVENT
BEGIN:VEVENT
DTSTART;TZID=UTC:20251010T110000
DTEND;TZID=UTC:20251010T110000
DTSTAMP:20260423T000831
CREATED:20250908T223936Z
LAST-MODIFIED:20250921T202506Z
UID:3556-1760094000-1760094000@zaraband.es
SUMMARY:Muestra Artesanía y Agroalimentaría
DESCRIPTION:
URL:https://zaraband.es/evento/muestra-artesania-y-agroalimentaria-7/
LOCATION:Plaza de los Sitios\, Plaza de los Sitios\, Zaragoza\, 50001
CATEGORIES:Artesanía
END:VEVENT
BEGIN:VEVENT
DTSTART;TZID=UTC:20251010T103000
DTEND;TZID=UTC:20251010T103000
DTSTAMP:20260423T000831
CREATED:20250921T202350Z
LAST-MODIFIED:20250921T202350Z
UID:4949-1760092200-1760092200@zaraband.es
SUMMARY:Escuelas infantiles de jota: El Pilar\, Zierzo\, Blasón Aragonés…
DESCRIPTION:
URL:https://zaraband.es/evento/escuelas-infantiles-de-jota-el-pilar-zierzo-blason-aragones/
LOCATION:Plaza del Pilar\, Plaza del Pilar\, Zaragoza\, 50003
CATEGORIES:Tradicional
END:VEVENT
BEGIN:VEVENT
DTSTART;TZID=UTC:20251010T080000
DTEND;TZID=UTC:20251010T080000
DTSTAMP:20260423T000831
CREATED:20250911T194715Z
LAST-MODIFIED:20250921T202350Z
UID:4137-1760083200-1760083200@zaraband.es
SUMMARY:Mañanas Vaquilleras (vaquillas)
DESCRIPTION:
URL:https://zaraband.es/evento/mananas-vaquilleras-vaquillas-18/
LOCATION:Plaza de toros de la Misericordia\, C. de Ramón Pignatelli 120\, Zaragoza\, 50004
CATEGORIES:Tauromaquia
END:VEVENT
BEGIN:VEVENT
DTSTART;TZID=UTC:20251009T235900
DTEND;TZID=UTC:20251009T235900
DTSTAMP:20260423T000831
CREATED:20250921T202149Z
LAST-MODIFIED:20250921T202149Z
UID:4948-1760054340-1760054340@zaraband.es
SUMMARY:Perro Negro
DESCRIPTION:
URL:https://zaraband.es/evento/perro-negro-4/
LOCATION:Espacio Zity\, Recinto ferial de valdespartera de zaragoza - zona atracciones\, Zaragoza\, 50019
CATEGORIES:Música
END:VEVENT
BEGIN:VEVENT
DTSTART;TZID=UTC:20251009T230000
DTEND;TZID=UTC:20251009T230000
DTSTAMP:20260423T000831
CREATED:20250921T202149Z
LAST-MODIFIED:20250921T202149Z
UID:4946-1760050800-1760050800@zaraband.es
SUMMARY:Rondas joteras: Vientos de Jota
DESCRIPTION:
URL:https://zaraband.es/evento/rondas-joteras-vientos-de-jota/
LOCATION:Plaza de San Miguel\, Plaza de San Miguel\, s/n\, Zaragoza\, 50001
CATEGORIES:Tradicional
END:VEVENT
BEGIN:VEVENT
DTSTART;TZID=UTC:20251009T230000
DTEND;TZID=UTC:20251009T230000
DTSTAMP:20260423T000831
CREATED:20250921T202149Z
LAST-MODIFIED:20250921T202149Z
UID:4947-1760050800-1760050800@zaraband.es
SUMMARY:Dj Mr. Pendejo
DESCRIPTION:
URL:https://zaraband.es/evento/dj-mr-pendejo/
LOCATION:Sala Creedence\, Plaza San Lamberto\, 3\, Zaragoza\, 50004
CATEGORIES:Música
END:VEVENT
BEGIN:VEVENT
DTSTART;TZID=UTC:20251009T220000
DTEND;TZID=UTC:20251009T220000
DTSTAMP:20260423T000831
CREATED:20250921T202149Z
LAST-MODIFIED:20250921T202149Z
UID:4945-1760047200-1760047200@zaraband.es
SUMMARY:Food Trucks: La oreja band
DESCRIPTION:
URL:https://zaraband.es/evento/food-trucks-la-oreja-band/
LOCATION:Ebro Food Festival\, P. Echegaray y Caballero\, 12\, Zaragoza\, 50003
CATEGORIES:Música
END:VEVENT
BEGIN:VEVENT
DTSTART;TZID=UTC:20251009T220000
DTEND;TZID=UTC:20251009T220000
DTSTAMP:20260423T000831
CREATED:20250911T194024Z
LAST-MODIFIED:20250921T202134Z
UID:4129-1760047200-1760047200@zaraband.es
SUMMARY:Circo del miedo
DESCRIPTION:
URL:https://zaraband.es/evento/circo-del-miedo-30/
LOCATION:Recinto Ferial Valdespartera\, Recinto ferial de valdespartera de zaragoza - zona atracciones\, Zaragoza\, 50019
CATEGORIES:Magia y circo
END:VEVENT
BEGIN:VEVENT
DTSTART;TZID=UTC:20251009T220000
DTEND;TZID=UTC:20251009T220000
DTSTAMP:20260423T000831
CREATED:20250908T225544Z
LAST-MODIFIED:20250921T202149Z
UID:3593-1760047200-1760047200@zaraband.es
SUMMARY:Baronesas y Vándalos
DESCRIPTION:
URL:https://zaraband.es/evento/baronesas-y-vandalos/
LOCATION:La casa del Loco\, Cl. Mayor\, 10\, Zaragoza\, 50001
CATEGORIES:Música
END:VEVENT
BEGIN:VEVENT
DTSTART;TZID=UTC:20251009T213000
DTEND;TZID=UTC:20251009T213000
DTSTAMP:20260423T000831
CREATED:20250921T202134Z
LAST-MODIFIED:20250921T202134Z
UID:4943-1760045400-1760045400@zaraband.es
SUMMARY:Delto’! (tributo a Extremoduro)
DESCRIPTION:
URL:https://zaraband.es/evento/delto-tributo-a-extremoduro/
LOCATION:Sala Z\, Calle Félix Latassa\, 14\, Zaragoza\, 50006
CATEGORIES:Música
END:VEVENT
BEGIN:VEVENT
DTSTART;TZID=UTC:20251009T213000
DTEND;TZID=UTC:20251009T213000
DTSTAMP:20260423T000831
CREATED:20250921T202134Z
LAST-MODIFIED:20250921T202134Z
UID:4944-1760045400-1760045400@zaraband.es
SUMMARY:Cadena 100 presenta Marlon
DESCRIPTION:
URL:https://zaraband.es/evento/cadena-100-presenta-marlon/
LOCATION:Plaza del Pilar\, Plaza del Pilar\, Zaragoza\, 50003
CATEGORIES:Música
END:VEVENT
BEGIN:VEVENT
DTSTART;TZID=UTC:20251009T213000
DTEND;TZID=UTC:20251009T213000
DTSTAMP:20260423T000831
CREATED:20250908T221725Z
LAST-MODIFIED:20250921T202053Z
UID:3501-1760045400-1760045400@zaraband.es
SUMMARY:Morad
DESCRIPTION:
URL:https://zaraband.es/evento/morad-2/
LOCATION:Espacio Zity\, Recinto ferial de valdespartera de zaragoza - zona atracciones\, Zaragoza\, 50019
CATEGORIES:Música
END:VEVENT
BEGIN:VEVENT
DTSTART;TZID=UTC:20251009T210000
DTEND;TZID=UTC:20251009T210000
DTSTAMP:20260423T000831
CREATED:20250921T202134Z
LAST-MODIFIED:20250921T202134Z
UID:4941-1760043600-1760043600@zaraband.es
SUMMARY:Di Versionni Trio
DESCRIPTION:
URL:https://zaraband.es/evento/di-versionni-trio/
LOCATION:Moliner 7 Sala\, Calle María Moliner\, 7\, Zaragoza\, 50007
CATEGORIES:Música
END:VEVENT
BEGIN:VEVENT
DTSTART;TZID=UTC:20251009T210000
DTEND;TZID=UTC:20251009T210000
DTSTAMP:20260423T000831
CREATED:20250921T202134Z
LAST-MODIFIED:20250921T202134Z
UID:4942-1760043600-1760043600@zaraband.es
SUMMARY:Paco Moreno
DESCRIPTION:
URL:https://zaraband.es/evento/paco-moreno/
LOCATION:Sala Creedence\, Plaza San Lamberto\, 3\, Zaragoza\, 50004
CATEGORIES:Música
END:VEVENT
BEGIN:VEVENT
DTSTART;TZID=UTC:20251009T210000
DTEND;TZID=UTC:20251009T210000
DTSTAMP:20260423T000831
CREATED:20250921T202053Z
LAST-MODIFIED:20250921T202053Z
UID:4940-1760043600-1760043600@zaraband.es
SUMMARY:Rondas joteras: Puente de Piedra.
DESCRIPTION:
URL:https://zaraband.es/evento/rondas-joteras-puente-de-piedra/
LOCATION:Plaza de San Miguel\, Plaza de San Miguel\, s/n\, Zaragoza\, 50001
CATEGORIES:Tradicional
END:VEVENT
BEGIN:VEVENT
DTSTART;TZID=UTC:20251009T210000
DTEND;TZID=UTC:20251009T210000
DTSTAMP:20260423T000831
CREATED:20250921T202053Z
LAST-MODIFIED:20250921T202053Z
UID:4939-1760043600-1760043600@zaraband.es
SUMMARY:Repion + Múltipla
DESCRIPTION:
URL:https://zaraband.es/evento/repion-multipla/
LOCATION:Jardin de Invierno\, Parque Grande – Jardín de Invierno\, s/n\, Zaragoza\, 50006
CATEGORIES:Música
END:VEVENT
BEGIN:VEVENT
DTSTART;TZID=UTC:20251009T210000
DTEND;TZID=UTC:20251009T210000
DTSTAMP:20260423T000831
CREATED:20250911T193359Z
LAST-MODIFIED:20250921T202053Z
UID:4117-1760043600-1760043600@zaraband.es
SUMMARY:¡¡Madre mia!! (Marisol Aznar)
DESCRIPTION:
URL:https://zaraband.es/evento/madre-mia-marisol-aznar-32/
LOCATION:Teatro de las Esquinas\, Vía Univérsitas\, 30\, Zaragoza\, 50017
CATEGORIES:Teatro
END:VEVENT
BEGIN:VEVENT
DTSTART;TZID=UTC:20251009T203000
DTEND;TZID=UTC:20251009T203000
DTSTAMP:20260423T000831
CREATED:20250921T202053Z
LAST-MODIFIED:20250921T202053Z
UID:4938-1760041800-1760041800@zaraband.es
SUMMARY:Mediterráneos
DESCRIPTION:
URL:https://zaraband.es/evento/mediterraneos-2/
LOCATION:C.C. Los Porches del Audiorama\, Pl. del Emperador Carlos\, 8\, Zaragoza\, 50009
CATEGORIES:Música
END:VEVENT
BEGIN:VEVENT
DTSTART;TZID=UTC:20251009T203000
DTEND;TZID=UTC:20251009T203000
DTSTAMP:20260423T000831
CREATED:20250921T202038Z
LAST-MODIFIED:20250921T202038Z
UID:4937-1760041800-1760041800@zaraband.es
SUMMARY:Juan Capilla  Indomable +18
DESCRIPTION:
URL:https://zaraband.es/evento/juan-capilla-indomable-18/
LOCATION:El Sótano Mágico\, Calle San Pablo\, 43\, Zaragoza\, 50003
CATEGORIES:Teatro
END:VEVENT
BEGIN:VEVENT
DTSTART;TZID=UTC:20251009T203000
DTEND;TZID=UTC:20251009T203000
DTSTAMP:20260423T000831
CREATED:20250921T200349Z
LAST-MODIFIED:20251003T154322Z
UID:4909-1760041800-1760041800@zaraband.es
SUMMARY:La barraca de los títeres
DESCRIPTION:
URL:https://zaraband.es/evento/la-barraca-de-los-titeres-27/
LOCATION:C/Moret\, C/Moret\, Zaragoza\, Zaragoza\, 50001\, Spain
CATEGORIES:Teatro
END:VEVENT
BEGIN:VEVENT
DTSTART;TZID=UTC:20251009T203000
DTEND;TZID=UTC:20251009T203000
DTSTAMP:20260423T000831
CREATED:20250908T221324Z
LAST-MODIFIED:20251003T211342Z
UID:3491-1760041800-1760041800@zaraband.es
SUMMARY:MAMMA MIA! Musical
DESCRIPTION:
URL:https://zaraband.es/evento/mamma-mia-musical-20/
LOCATION:Palacio de Congresos de Zaragoza\, Plaza Lucas Miret Rodriguez\, 1\, Zaragoza\, 50018
CATEGORIES:Teatro
END:VEVENT
BEGIN:VEVENT
DTSTART;TZID=UTC:20251009T203000
DTEND;TZID=UTC:20251009T203000
DTSTAMP:20260423T000831
CREATED:20250908T215514Z
LAST-MODIFIED:20250921T202038Z
UID:3443-1760041800-1760041800@zaraband.es
SUMMARY:La Zarzuela con los grande de La Jota
DESCRIPTION:
URL:https://zaraband.es/evento/la-zarzuela-con-los-grande-de-la-jota-3/
LOCATION:Auditorio de Zaragoza – Princesa Leonor\, C. de Eduardo Ibarra\, 3\, Zaragoza\, 50009
CATEGORIES:Música
END:VEVENT
BEGIN:VEVENT
DTSTART;TZID=UTC:20251009T201500
DTEND;TZID=UTC:20251009T201500
DTSTAMP:20260423T000831
CREATED:20250921T202038Z
LAST-MODIFIED:20250921T202038Z
UID:4936-1760040900-1760040900@zaraband.es
SUMMARY:Agua\, luz y sonido: grandes compositores de bandas sonoras
DESCRIPTION:
URL:https://zaraband.es/evento/agua-luz-y-sonido-grandes-compositores-de-bandas-sonoras-5/
LOCATION:Parque Grande J.A. Labordeta\, Pº Isabel la Católica\, s/n\, Zaragoza\, 50006
CATEGORIES:Música
END:VEVENT
BEGIN:VEVENT
DTSTART;TZID=UTC:20251009T200000
DTEND;TZID=UTC:20251009T200000
DTSTAMP:20260423T000831
CREATED:20250921T202038Z
LAST-MODIFIED:20250921T202038Z
UID:4935-1760040000-1760040000@zaraband.es
SUMMARY:Sarao con Javier Segarra\, Lola Moreno\, Silvia Fox y el Ballet Internacional
DESCRIPTION:
URL:https://zaraband.es/evento/sarao-con-javier-segarra-lola-moreno-silvia-fox-y-el-ballet-internacional-6/
LOCATION:Auditorio WTCZ\, Calle María Zambrano\, 31\, Zaragoza\, 50018
CATEGORIES:Teatro
END:VEVENT
BEGIN:VEVENT
DTSTART;TZID=UTC:20251009T200000
DTEND;TZID=UTC:20251009T200000
DTSTAMP:20260423T000831
CREATED:20250921T202023Z
LAST-MODIFIED:20250921T202023Z
UID:4933-1760040000-1760040000@zaraband.es
SUMMARY:Mea Culpa
DESCRIPTION:
URL:https://zaraband.es/evento/mea-culpa-4/
LOCATION:C.C. Delicias\, Avenida Navarra\, 54\, Zaragoza\, 50010
CATEGORIES:Teatro
END:VEVENT
BEGIN:VEVENT
DTSTART;TZID=UTC:20251009T200000
DTEND;TZID=UTC:20251009T200000
DTSTAMP:20260423T000831
CREATED:20250921T202023Z
LAST-MODIFIED:20250921T202023Z
UID:4934-1760040000-1760040000@zaraband.es
SUMMARY:2 kinder güenos\, Especial Pilares\, monologos
DESCRIPTION:
URL:https://zaraband.es/evento/2-kinder-guenos-especial-pilares-monologos-3/
LOCATION:El Refugio del Crápula\, Calle Mayor\, 56\, Zaragoza\, 50001
CATEGORIES:Teatro
END:VEVENT
BEGIN:VEVENT
DTSTART;TZID=UTC:20251009T200000
DTEND;TZID=UTC:20251009T200000
DTSTAMP:20260423T000831
CREATED:20250921T202008Z
LAST-MODIFIED:20250921T202008Z
UID:4929-1760040000-1760040000@zaraband.es
SUMMARY:Off de calle: Biribú Teatro
DESCRIPTION:
URL:https://zaraband.es/evento/off-de-calle-biribu-teatro/
LOCATION:Plaza Salamero\, Plaza Salamero\, s/n\, Zaragoza\, 50004
CATEGORIES:Magia y circo
END:VEVENT
END:VCALENDAR