BEGIN:VCALENDAR
VERSION:2.0
PRODID:-//Zaraband - ECPv6.15.14//NONSGML v1.0//EN
CALSCALE:GREGORIAN
METHOD:PUBLISH
X-WR-CALNAME:Zaraband
X-ORIGINAL-URL:https://zaraband.es
X-WR-CALDESC:Eventos para Zaraband
REFRESH-INTERVAL;VALUE=DURATION:PT1H
X-Robots-Tag:noindex
X-PUBLISHED-TTL:PT1H
BEGIN:VTIMEZONE
TZID:UTC
BEGIN:STANDARD
TZOFFSETFROM:+0000
TZOFFSETTO:+0000
TZNAME:UTC
DTSTART:20240101T000000
END:STANDARD
END:VTIMEZONE
BEGIN:VEVENT
DTSTART;TZID=UTC:20251013T180000
DTEND;TZID=UTC:20251013T180000
DTSTAMP:20260420T115958
CREATED:20250921T215054Z
LAST-MODIFIED:20250921T215054Z
UID:5234-1760378400-1760378400@zaraband.es
SUMMARY:Los pilares de la tierra\, el musical
DESCRIPTION:
URL:https://zaraband.es/evento/los-pilares-de-la-tierra-el-musical-43/
LOCATION:Teatro Principal\, Pl. de José Sinués Urbiola\, 2\, Zaragoza\, 50001
CATEGORIES:Teatro
END:VEVENT
BEGIN:VEVENT
DTSTART;TZID=UTC:20251013T180000
DTEND;TZID=UTC:20251013T180000
DTSTAMP:20260420T115958
CREATED:20250921T215054Z
LAST-MODIFIED:20250921T215054Z
UID:5235-1760378400-1760378400@zaraband.es
SUMMARY:The Cortos con Diego Peña y Juako Malavirgen
DESCRIPTION:
URL:https://zaraband.es/evento/the-cortos-con-diego-pena-y-juako-malavirgen-8/
LOCATION:C.C. Río Ebro\, Calle María Zambrano\, 56\, Zaragoza\, 50018
CATEGORIES:Teatro
END:VEVENT
BEGIN:VEVENT
DTSTART;TZID=UTC:20251013T180000
DTEND;TZID=UTC:20251013T180000
DTSTAMP:20260420T115958
CREATED:20250921T215054Z
LAST-MODIFIED:20250921T222151Z
UID:5232-1760378400-1760378400@zaraband.es
SUMMARY:El Pilar en Rosales del Canal: Tinin el Mago
DESCRIPTION:
URL:https://zaraband.es/evento/el-pilar-en-rosales-del-canal-tinin-el-mago/
LOCATION:Calle Enrique Granados\, Calle Enrique Granados\, Zaragoza\, 50012
CATEGORIES:Infantil
END:VEVENT
BEGIN:VEVENT
DTSTART;TZID=UTC:20251013T180000
DTEND;TZID=UTC:20251013T180000
DTSTAMP:20260420T115958
CREATED:20250921T215046Z
LAST-MODIFIED:20250921T222618Z
UID:5228-1760378400-1760378400@zaraband.es
SUMMARY:El Pilar en Torrero-La Paz: Chipilandia
DESCRIPTION:
URL:https://zaraband.es/evento/el-pilar-en-torrero-la-paz-chipilandia/
LOCATION:Plaza de la Memoria\, Plaza de la Memoria\, s/n\, Zaragoza\, Zaragoza\, 50013
CATEGORIES:Infantil
END:VEVENT
BEGIN:VEVENT
DTSTART;TZID=UTC:20251013T180000
DTEND;TZID=UTC:20251013T180000
DTSTAMP:20260420T115959
CREATED:20250921T215045Z
LAST-MODIFIED:20250921T215046Z
UID:5227-1760378400-1760378400@zaraband.es
SUMMARY:Entrega de Premios del Pilar 2025
DESCRIPTION:
URL:https://zaraband.es/evento/entrega-de-premios-del-pilar-2025/
LOCATION:Ayuntamiento de Zaragoza\, Pl. de Ntra. Sra. del Pilar\, 18\, Zaragoza\, 50003
CATEGORIES:Tradicional
END:VEVENT
BEGIN:VEVENT
DTSTART;TZID=UTC:20251013T173000
DTEND;TZID=UTC:20251013T173000
DTSTAMP:20260420T115959
CREATED:20250921T215045Z
LAST-MODIFIED:20250921T215046Z
UID:5226-1760376600-1760376600@zaraband.es
SUMMARY:Feria del Pilar 2025: corrida de rejones
DESCRIPTION:
URL:https://zaraband.es/evento/feria-del-pilar-2025-corrida-de-rejones/
LOCATION:Plaza de toros de la Misericordia\, C. de Ramón Pignatelli 120\, Zaragoza\, 50004
CATEGORIES:Tauromaquia
END:VEVENT
BEGIN:VEVENT
DTSTART;TZID=UTC:20251013T173000
DTEND;TZID=UTC:20251013T173000
DTSTAMP:20260420T115959
CREATED:20250921T215023Z
LAST-MODIFIED:20251003T154659Z
UID:5206-1760376600-1760376600@zaraband.es
SUMMARY:La barraca de los títeres
DESCRIPTION:
URL:https://zaraband.es/evento/la-barraca-de-los-titeres-48/
LOCATION:C/Moret\, C/Moret\, Zaragoza\, Zaragoza\, 50001\, Spain
CATEGORIES:Teatro
END:VEVENT
BEGIN:VEVENT
DTSTART;TZID=UTC:20251013T170000
DTEND;TZID=UTC:20251013T170000
DTSTAMP:20260420T115959
CREATED:20250921T215040Z
LAST-MODIFIED:20250921T215040Z
UID:5220-1760374800-1760374800@zaraband.es
SUMMARY:Food Trucks: Taller infantil de globoflexia
DESCRIPTION:
URL:https://zaraband.es/evento/food-trucks-taller-infantil-de-globoflexia-3/
LOCATION:Ebro Food Festival\, P. Echegaray y Caballero\, 12\, Zaragoza\, 50003
CATEGORIES:Ferias y mercados
END:VEVENT
BEGIN:VEVENT
DTSTART;TZID=UTC:20251013T170000
DTEND;TZID=UTC:20251013T170000
DTSTAMP:20260420T115959
CREATED:20250921T215037Z
LAST-MODIFIED:20250921T215037Z
UID:5214-1760374800-1760374800@zaraband.es
SUMMARY:Planeta Jurásico – Carpa blanca Valdespartera
DESCRIPTION:
URL:https://zaraband.es/evento/planeta-jurasico-carpa-blanca-valdespartera-18/
LOCATION:Recinto Ferial Valdespartera\, Recinto ferial de valdespartera de zaragoza - zona atracciones\, Zaragoza\, 50019
CATEGORIES:Infantil
END:VEVENT
BEGIN:VEVENT
DTSTART;TZID=UTC:20251013T170000
DTEND;TZID=UTC:20251013T170000
DTSTAMP:20260420T115959
CREATED:20250921T215006Z
LAST-MODIFIED:20250921T215006Z
UID:5192-1760374800-1760374800@zaraband.es
SUMMARY:Las tribus del parque: Magicus Zaragoza
DESCRIPTION:
URL:https://zaraband.es/evento/las-tribus-del-parque-magicus-zaragoza-9/
LOCATION:Parque Grande J.A. Labordeta\, Pº Isabel la Católica\, s/n\, Zaragoza\, 50006
CATEGORIES:Infantil
END:VEVENT
BEGIN:VEVENT
DTSTART;TZID=UTC:20251013T160000
DTEND;TZID=UTC:20251013T160000
DTSTAMP:20260420T115959
CREATED:20250921T215040Z
LAST-MODIFIED:20250921T215040Z
UID:5219-1760371200-1760371200@zaraband.es
SUMMARY:Food Trucks: Tardeo valiente con Dj Chelis
DESCRIPTION:
URL:https://zaraband.es/evento/food-trucks-tardeo-valiente-con-dj-chelis/
LOCATION:Ebro Food Festival\, P. Echegaray y Caballero\, 12\, Zaragoza\, 50003
CATEGORIES:Ferias y mercados
END:VEVENT
BEGIN:VEVENT
DTSTART;TZID=UTC:20251013T160000
DTEND;TZID=UTC:20251013T160000
DTSTAMP:20260420T115959
CREATED:20250921T215030Z
LAST-MODIFIED:20250921T215030Z
UID:5211-1760371200-1760371200@zaraband.es
SUMMARY:II Festival Internacional de Circo de Zaragoza
DESCRIPTION:
URL:https://zaraband.es/evento/ii-festival-internacional-de-circo-de-zaragoza-8/
LOCATION:Recinto Ferial Valdespartera\, Recinto ferial de valdespartera de zaragoza - zona atracciones\, Zaragoza\, 50019
CATEGORIES:Magia y circo
END:VEVENT
BEGIN:VEVENT
DTSTART;TZID=UTC:20251013T160000
DTEND;TZID=UTC:20251013T160000
DTSTAMP:20260420T115959
CREATED:20250921T215002Z
LAST-MODIFIED:20250921T215002Z
UID:5188-1760371200-1760371200@zaraband.es
SUMMARY:El Pilar en el centro: León Garganchón
DESCRIPTION:
URL:https://zaraband.es/evento/el-pilar-en-el-centro-leon-garganchon-5/
LOCATION:Plaza Salamero\, Plaza Salamero\, s/n\, Zaragoza\, 50004
CATEGORIES:Infantil
END:VEVENT
BEGIN:VEVENT
DTSTART;TZID=UTC:20251013T160000
DTEND;TZID=UTC:20251013T160000
DTSTAMP:20260420T115959
CREATED:20250921T215002Z
LAST-MODIFIED:20250921T215002Z
UID:5186-1760371200-1760371200@zaraband.es
SUMMARY:El Pilar en El Picarral: Tragachicos
DESCRIPTION:
URL:https://zaraband.es/evento/el-pilar-en-el-picarral-tragachicos-2/
LOCATION:IASS Hogar de personas mayores\, Picarral\, Camino de Juslibol\, 61\, Zaragoza\, 50015
CATEGORIES:Infantil
END:VEVENT
BEGIN:VEVENT
DTSTART;TZID=UTC:20251013T140000
DTEND;TZID=UTC:20251013T140000
DTSTAMP:20260420T115959
CREATED:20250921T215037Z
LAST-MODIFIED:20250921T215037Z
UID:5218-1760364000-1760364000@zaraband.es
SUMMARY:Food Trucks: Vermut party con Sweetdrinkz
DESCRIPTION:
URL:https://zaraband.es/evento/food-trucks-vermut-party-con-sweetdrinkz/
LOCATION:Ebro Food Festival\, P. Echegaray y Caballero\, 12\, Zaragoza\, 50003
CATEGORIES:Ferias y mercados
END:VEVENT
BEGIN:VEVENT
DTSTART;TZID=UTC:20251013T133000
DTEND;TZID=UTC:20251013T133000
DTSTAMP:20260420T115959
CREATED:20250921T215037Z
LAST-MODIFIED:20250921T215037Z
UID:5217-1760362200-1760362200@zaraband.es
SUMMARY:País invitado: Perú
DESCRIPTION:
URL:https://zaraband.es/evento/pais-invitado-peru/
LOCATION:Plaza del Pilar\, Plaza del Pilar\, Zaragoza\, 50003
CATEGORIES:Tradicional
END:VEVENT
BEGIN:VEVENT
DTSTART;TZID=UTC:20251013T130000
DTEND;TZID=UTC:20251013T130000
DTSTAMP:20260420T115959
CREATED:20250921T215037Z
LAST-MODIFIED:20250921T215037Z
UID:5215-1760360400-1760360400@zaraband.es
SUMMARY:Danza contemporánea: Circle of Trust
DESCRIPTION:
URL:https://zaraband.es/evento/danza-contemporanea-circle-of-trust/
LOCATION:Anfiteatro Residencia Xior\, Calle de la Madre Rafols\, 4\, Zaragoza\, 50004
CATEGORIES:Danza
END:VEVENT
BEGIN:VEVENT
DTSTART;TZID=UTC:20251013T130000
DTEND;TZID=UTC:20251013T130000
DTSTAMP:20260420T115959
CREATED:20250921T215037Z
LAST-MODIFIED:20250921T215037Z
UID:5216-1760360400-1760360400@zaraband.es
SUMMARY:Food Trucks: La Raspa artes escénicas
DESCRIPTION:
URL:https://zaraband.es/evento/food-trucks-la-raspa-artes-escenicas/
LOCATION:Ebro Food Festival\, P. Echegaray y Caballero\, 12\, Zaragoza\, 50003
CATEGORIES:Infantil
END:VEVENT
BEGIN:VEVENT
DTSTART;TZID=UTC:20251013T130000
DTEND;TZID=UTC:20251013T130000
DTSTAMP:20260420T115959
CREATED:20250921T215023Z
LAST-MODIFIED:20251003T154649Z
UID:5205-1760360400-1760360400@zaraband.es
SUMMARY:La barraca de los títeres
DESCRIPTION:
URL:https://zaraband.es/evento/la-barraca-de-los-titeres-47/
LOCATION:C/Moret\, C/Moret\, Zaragoza\, Zaragoza\, 50001\, Spain
CATEGORIES:Teatro
END:VEVENT
BEGIN:VEVENT
DTSTART;TZID=UTC:20251013T120000
DTEND;TZID=UTC:20251013T120000
DTSTAMP:20260420T115959
CREATED:20250921T215031Z
LAST-MODIFIED:20250921T215031Z
UID:5213-1760356800-1760356800@zaraband.es
SUMMARY:Planeta Jurásico – Carpa blanca Valdespartera
DESCRIPTION:
URL:https://zaraband.es/evento/planeta-jurasico-carpa-blanca-valdespartera-17/
LOCATION:Recinto Ferial Valdespartera\, Recinto ferial de valdespartera de zaragoza - zona atracciones\, Zaragoza\, 50019
CATEGORIES:Infantil
END:VEVENT
BEGIN:VEVENT
DTSTART;TZID=UTC:20251013T120000
DTEND;TZID=UTC:20251013T120000
DTSTAMP:20260420T115959
CREATED:20250921T215030Z
LAST-MODIFIED:20250921T215030Z
UID:5209-1760356800-1760356800@zaraband.es
SUMMARY:Los Gandules presentan Gandulfighter.
DESCRIPTION:
URL:https://zaraband.es/evento/los-gandules-presentan-gandulfighter-5/
LOCATION:C.C. Almozara\, Av. de la Puerta de Sancho\, 30\, Zaragoza\, 50003
CATEGORIES:Teatro
END:VEVENT
BEGIN:VEVENT
DTSTART;TZID=UTC:20251013T120000
DTEND;TZID=UTC:20251013T120000
DTSTAMP:20260420T115959
CREATED:20250921T215030Z
LAST-MODIFIED:20250921T215030Z
UID:5210-1760356800-1760356800@zaraband.es
SUMMARY:II Festival Internacional de Circo de Zaragoza
DESCRIPTION:
URL:https://zaraband.es/evento/ii-festival-internacional-de-circo-de-zaragoza-7/
LOCATION:Recinto Ferial Valdespartera\, Recinto ferial de valdespartera de zaragoza - zona atracciones\, Zaragoza\, 50019
CATEGORIES:Magia y circo
END:VEVENT
BEGIN:VEVENT
DTSTART;TZID=UTC:20251013T120000
DTEND;TZID=UTC:20251013T120000
DTSTAMP:20260420T115959
CREATED:20250921T215019Z
LAST-MODIFIED:20251003T154638Z
UID:5204-1760356800-1760356800@zaraband.es
SUMMARY:La barraca de los títeres
DESCRIPTION:
URL:https://zaraband.es/evento/la-barraca-de-los-titeres-46/
LOCATION:C/Moret\, C/Moret\, Zaragoza\, Zaragoza\, 50001\, Spain
CATEGORIES:Teatro
END:VEVENT
BEGIN:VEVENT
DTSTART;TZID=UTC:20251013T120000
DTEND;TZID=UTC:20251013T120000
DTSTAMP:20260420T115959
CREATED:20250921T215019Z
LAST-MODIFIED:20250921T215019Z
UID:5200-1760356800-1760356800@zaraband.es
SUMMARY:El Pilar en Monzalbarba: Comparsa de Gigantes y Cabezudos
DESCRIPTION:
URL:https://zaraband.es/evento/el-pilar-en-monzalbarba-comparsa-de-gigantes-y-cabezudos/
LOCATION:PDM Monzalbarba\, Andador de Quinto\, 4\, Zaragoza\, 50120
CATEGORIES:Infantil
END:VEVENT
BEGIN:VEVENT
DTSTART;TZID=UTC:20251013T120000
DTEND;TZID=UTC:20251013T120000
DTSTAMP:20260420T115959
CREATED:20250921T215019Z
LAST-MODIFIED:20250921T215019Z
UID:5201-1760356800-1760356800@zaraband.es
SUMMARY:El Pilar en Monzalbarba: Félix Brunet
DESCRIPTION:
URL:https://zaraband.es/evento/el-pilar-en-monzalbarba-felix-brunet/
LOCATION:Plaza España\, Plaza España\, Zaragoza\, 50001
CATEGORIES:Infantil
END:VEVENT
BEGIN:VEVENT
DTSTART;TZID=UTC:20251013T120000
DTEND;TZID=UTC:20251013T120000
DTSTAMP:20260420T115959
CREATED:20250921T215019Z
LAST-MODIFIED:20250921T215019Z
UID:5202-1760356800-1760356800@zaraband.es
SUMMARY:Danza contemporánea: Cía. Marroch
DESCRIPTION:
URL:https://zaraband.es/evento/danza-contemporanea-cia-marroch/
LOCATION:Anfiteatro Residencia Xior\, Calle de la Madre Rafols\, 4\, Zaragoza\, 50004
CATEGORIES:Danza
END:VEVENT
BEGIN:VEVENT
DTSTART;TZID=UTC:20251013T120000
DTEND;TZID=UTC:20251013T120000
DTSTAMP:20260420T115959
CREATED:20250921T215019Z
LAST-MODIFIED:20250921T215019Z
UID:5203-1760356800-1760356800@zaraband.es
SUMMARY:Food Trucks: Taller infantil de  globoflexia
DESCRIPTION:
URL:https://zaraband.es/evento/food-trucks-taller-infantil-de-globoflexia-2/
LOCATION:Ebro Food Festival\, P. Echegaray y Caballero\, 12\, Zaragoza\, 50003
CATEGORIES:Música
END:VEVENT
BEGIN:VEVENT
DTSTART;TZID=UTC:20251013T120000
DTEND;TZID=UTC:20251013T120000
DTSTAMP:20260420T115959
CREATED:20250908T220720Z
LAST-MODIFIED:20250921T215023Z
UID:3475-1760356800-1760356800@zaraband.es
SUMMARY:¡¡Madre mia!! (Marisol Aznar)
DESCRIPTION:
URL:https://zaraband.es/evento/madre-mia-marisol-aznar-20/
LOCATION:Teatro de las Esquinas\, Vía Univérsitas\, 30\, Zaragoza\, 50017
CATEGORIES:Teatro
END:VEVENT
BEGIN:VEVENT
DTSTART;TZID=UTC:20251013T113000
DTEND;TZID=UTC:20251013T113000
DTSTAMP:20260420T115959
CREATED:20250921T215016Z
LAST-MODIFIED:20250921T215016Z
UID:5199-1760355000-1760355000@zaraband.es
SUMMARY:II Vaquillas para jóvenes
DESCRIPTION:
URL:https://zaraband.es/evento/ii-vaquillas-para-jovenes/
LOCATION:Plaza de toros de la Misericordia\, C. de Ramón Pignatelli 120\, Zaragoza\, 50004
CATEGORIES:Tauromaquia
END:VEVENT
BEGIN:VEVENT
DTSTART;TZID=UTC:20251013T113000
DTEND;TZID=UTC:20251013T113000
DTSTAMP:20260420T115959
CREATED:20250921T215016Z
LAST-MODIFIED:20250921T215016Z
UID:5197-1760355000-1760355000@zaraband.es
SUMMARY:Danza contemporánea: Ayni Danza
DESCRIPTION:
URL:https://zaraband.es/evento/danza-contemporanea-ayni-danza/
LOCATION:Anfiteatro Residencia Xior\, Calle de la Madre Rafols\, 4\, Zaragoza\, 50004
CATEGORIES:Danza
END:VEVENT
END:VCALENDAR