BEGIN:VCALENDAR
VERSION:2.0
PRODID:-//Zaraband - ECPv6.15.14//NONSGML v1.0//EN
CALSCALE:GREGORIAN
METHOD:PUBLISH
X-WR-CALNAME:Zaraband
X-ORIGINAL-URL:https://zaraband.es
X-WR-CALDESC:Eventos para Zaraband
REFRESH-INTERVAL;VALUE=DURATION:PT1H
X-Robots-Tag:noindex
X-PUBLISHED-TTL:PT1H
BEGIN:VTIMEZONE
TZID:UTC
BEGIN:STANDARD
TZOFFSETFROM:+0000
TZOFFSETTO:+0000
TZNAME:UTC
DTSTART:20240101T000000
END:STANDARD
END:VTIMEZONE
BEGIN:VEVENT
DTSTART;TZID=UTC:20251011T130000
DTEND;TZID=UTC:20251011T130000
DTSTAMP:20260422T051844
CREATED:20250921T211054Z
LAST-MODIFIED:20250921T211054Z
UID:5062-1760187600-1760187600@zaraband.es
SUMMARY:Food Trucks: Almozandia Teatro – Rockolas TV
DESCRIPTION:
URL:https://zaraband.es/evento/food-trucks-almozandia-teatro-rockolas-tv/
LOCATION:Ebro Food Festival\, P. Echegaray y Caballero\, 12\, Zaragoza\, 50003
CATEGORIES:Música
END:VEVENT
BEGIN:VEVENT
DTSTART;TZID=UTC:20251011T130000
DTEND;TZID=UTC:20251011T130000
DTSTAMP:20260422T051844
CREATED:20250921T210637Z
LAST-MODIFIED:20251003T154452Z
UID:5051-1760187600-1760187600@zaraband.es
SUMMARY:La barraca de los títeres
DESCRIPTION:
URL:https://zaraband.es/evento/la-barraca-de-los-titeres-35/
LOCATION:C/Moret\, C/Moret\, Zaragoza\, Zaragoza\, 50001\, Spain
CATEGORIES:Infantil
END:VEVENT
BEGIN:VEVENT
DTSTART;TZID=UTC:20251011T123000
DTEND;TZID=UTC:20251011T123000
DTSTAMP:20260422T051844
CREATED:20250921T211054Z
LAST-MODIFIED:20250921T211054Z
UID:5060-1760185800-1760185800@zaraband.es
SUMMARY:In materia
DESCRIPTION:
URL:https://zaraband.es/evento/in-materia/
LOCATION:Rock & Blues\, Calle Cuatro de Agosto\, 5\, Zaragoza\, 50003
CATEGORIES:Música
END:VEVENT
BEGIN:VEVENT
DTSTART;TZID=UTC:20251011T123000
DTEND;TZID=UTC:20251011T123000
DTSTAMP:20260422T051844
CREATED:20250921T210854Z
LAST-MODIFIED:20250921T210854Z
UID:5059-1760185800-1760185800@zaraband.es
SUMMARY:Zity Comedy 2025: Monólogos All Star
DESCRIPTION:
URL:https://zaraband.es/evento/zity-comedy-2025-monologos-all-star/
LOCATION:Espacio Zity\, Recinto ferial de valdespartera de zaragoza - zona atracciones\, Zaragoza\, 50019
CATEGORIES:Teatro
END:VEVENT
BEGIN:VEVENT
DTSTART;TZID=UTC:20251011T120000
DTEND;TZID=UTC:20251011T120000
DTSTAMP:20260422T051844
CREATED:20250921T210854Z
LAST-MODIFIED:20250921T210854Z
UID:5057-1760184000-1760184000@zaraband.es
SUMMARY:Planeta Jurásico – Carpa blanca Valdespartera
DESCRIPTION:
URL:https://zaraband.es/evento/planeta-jurasico-carpa-blanca-valdespartera-13/
LOCATION:Recinto Ferial Valdespartera\, Recinto ferial de valdespartera de zaragoza - zona atracciones\, Zaragoza\, 50019
CATEGORIES:Infantil
END:VEVENT
BEGIN:VEVENT
DTSTART;TZID=UTC:20251011T120000
DTEND;TZID=UTC:20251011T120000
DTSTAMP:20260422T051844
CREATED:20250921T210637Z
LAST-MODIFIED:20250921T210637Z
UID:5049-1760184000-1760184000@zaraband.es
SUMMARY:El carro de la alegría
DESCRIPTION:
URL:https://zaraband.es/evento/el-carro-de-la-alegria-3/
LOCATION:Museo del Fuego y los Bomberos\, Calle Ramón y Cajal\, 32\, Zaragoza\, 50004
CATEGORIES:Infantil
END:VEVENT
BEGIN:VEVENT
DTSTART;TZID=UTC:20251011T120000
DTEND;TZID=UTC:20251011T120000
DTSTAMP:20260422T051844
CREATED:20250921T210637Z
LAST-MODIFIED:20251003T154443Z
UID:5050-1760184000-1760184000@zaraband.es
SUMMARY:La barraca de los títeres
DESCRIPTION:
URL:https://zaraband.es/evento/la-barraca-de-los-titeres-34/
LOCATION:C/Moret\, C/Moret\, Zaragoza\, Zaragoza\, 50001\, Spain
CATEGORIES:Infantil
END:VEVENT
BEGIN:VEVENT
DTSTART;TZID=UTC:20251011T120000
DTEND;TZID=UTC:20251011T120000
DTSTAMP:20260422T051844
CREATED:20250921T210622Z
LAST-MODIFIED:20250921T210622Z
UID:5047-1760184000-1760184000@zaraband.es
SUMMARY:Food Trucks: Taller infantil con  pintacaras
DESCRIPTION:
URL:https://zaraband.es/evento/food-trucks-taller-infantil-con-pintacaras/
LOCATION:Ebro Food Festival\, P. Echegaray y Caballero\, 12\, Zaragoza\, 50003
CATEGORIES:Música
END:VEVENT
BEGIN:VEVENT
DTSTART;TZID=UTC:20251011T120000
DTEND;TZID=UTC:20251011T120000
DTSTAMP:20260422T051844
CREATED:20250921T210622Z
LAST-MODIFIED:20250921T210652Z
UID:5048-1760184000-1760184000@zaraband.es
SUMMARY:Los Gandules presentan Gandulfighter.
DESCRIPTION:
URL:https://zaraband.es/evento/los-gandules-presentan-gandulfighter-3/
LOCATION:C.C. Almozara\, Av. de la Puerta de Sancho\, 30\, Zaragoza\, 50003
CATEGORIES:Teatro
END:VEVENT
BEGIN:VEVENT
DTSTART;TZID=UTC:20251011T120000
DTEND;TZID=UTC:20251011T120000
DTSTAMP:20260422T051844
CREATED:20250921T210622Z
LAST-MODIFIED:20250921T210622Z
UID:5044-1760184000-1760184000@zaraband.es
SUMMARY:El Pilar en Torrecilla de Valmadrid: K de calle
DESCRIPTION:
URL:https://zaraband.es/evento/el-pilar-en-torrecilla-de-valmadrid-k-de-calle/
LOCATION:C/ Paradero\, C/ Paradero\, Zaragoza\, 50011
CATEGORIES:Infantil
END:VEVENT
BEGIN:VEVENT
DTSTART;TZID=UTC:20251011T120000
DTEND;TZID=UTC:20251011T120000
DTSTAMP:20260422T051844
CREATED:20250921T210622Z
LAST-MODIFIED:20250921T210622Z
UID:5045-1760184000-1760184000@zaraband.es
SUMMARY:Off de calle: LaDinamo
DESCRIPTION:
URL:https://zaraband.es/evento/off-de-calle-ladinamo-2/
LOCATION:Plaza Aragon\, Plaza Aragón\, s/n\, Zaragoza\, 50004
CATEGORIES:Magia y circo
END:VEVENT
BEGIN:VEVENT
DTSTART;TZID=UTC:20251011T120000
DTEND;TZID=UTC:20251011T120000
DTSTAMP:20260422T051844
CREATED:20250921T210622Z
LAST-MODIFIED:20250921T210622Z
UID:5046-1760184000-1760184000@zaraband.es
SUMMARY:Danza contemporánea: Cía. LaMov
DESCRIPTION:
URL:https://zaraband.es/evento/danza-contemporanea-cia-lamov/
LOCATION:Anfiteatro Residencia Xior\, Calle de la Madre Rafols\, 4\, Zaragoza\, 50004
CATEGORIES:Danza
END:VEVENT
BEGIN:VEVENT
DTSTART;TZID=UTC:20251011T120000
DTEND;TZID=UTC:20251011T120000
DTSTAMP:20260422T051844
CREATED:20250921T210607Z
LAST-MODIFIED:20250921T210607Z
UID:5041-1760184000-1760184000@zaraband.es
SUMMARY:La subida de La Virgen del Pilar
DESCRIPTION:
URL:https://zaraband.es/evento/la-subida-de-la-virgen-del-pilar/
LOCATION:Plaza del Pilar\, Plaza del Pilar\, Zaragoza\, 50003
CATEGORIES:Tradicional
END:VEVENT
BEGIN:VEVENT
DTSTART;TZID=UTC:20251011T120000
DTEND;TZID=UTC:20251011T120000
DTSTAMP:20260422T051844
CREATED:20250921T210607Z
LAST-MODIFIED:20250921T210607Z
UID:5042-1760184000-1760184000@zaraband.es
SUMMARY:El Pilar en La Jota: Comparsa de Gigantes y Cabezudos
DESCRIPTION:
URL:https://zaraband.es/evento/el-pilar-en-la-jota-comparsa-de-gigantes-y-cabezudos/
LOCATION:PDM La Jota\, C/ Molino de las Armas\, 65\, Zaragoza\, 50014
CATEGORIES:Infantil
END:VEVENT
BEGIN:VEVENT
DTSTART;TZID=UTC:20251011T120000
DTEND;TZID=UTC:20251011T120000
DTSTAMP:20260422T051844
CREATED:20250921T210607Z
LAST-MODIFIED:20250921T210607Z
UID:5043-1760184000-1760184000@zaraband.es
SUMMARY:El Pilar en Alfocea: Charraire Caperucita feroz y el lobo de la lámpara
DESCRIPTION:
URL:https://zaraband.es/evento/el-pilar-en-alfocea-charraire-caperucita-feroz-y-el-lobo-de-la-lampara/
LOCATION:Parque Alfocea\, Parque Alfocea\, s/n\, Zaragoza\, 50120
CATEGORIES:Infantil
END:VEVENT
BEGIN:VEVENT
DTSTART;TZID=UTC:20251011T120000
DTEND;TZID=UTC:20251011T120000
DTSTAMP:20260422T051844
CREATED:20250908T223534Z
LAST-MODIFIED:20250921T210652Z
UID:3545-1760184000-1760184000@zaraband.es
SUMMARY:2do Festival Internacional de Circo de Zaragoza
DESCRIPTION:
URL:https://zaraband.es/evento/2do-festival-internacional-de-circo-de-zaragoza-16/
LOCATION:Recinto Ferial Valdespartera\, Recinto ferial de valdespartera de zaragoza - zona atracciones\, Zaragoza\, 50019
CATEGORIES:Magia y circo
END:VEVENT
BEGIN:VEVENT
DTSTART;TZID=UTC:20251011T120000
DTEND;TZID=UTC:20251011T120000
DTSTAMP:20260422T051844
CREATED:20250908T220720Z
LAST-MODIFIED:20250921T210637Z
UID:3473-1760184000-1760184000@zaraband.es
SUMMARY:¡¡Madre mia!! (Marisol Aznar)
DESCRIPTION:
URL:https://zaraband.es/evento/madre-mia-marisol-aznar-18/
LOCATION:Teatro de las Esquinas\, Vía Univérsitas\, 30\, Zaragoza\, 50017
CATEGORIES:Teatro
END:VEVENT
BEGIN:VEVENT
DTSTART;TZID=UTC:20251011T113000
DTEND;TZID=UTC:20251011T113000
DTSTAMP:20260422T051844
CREATED:20250921T210607Z
LAST-MODIFIED:20250921T210607Z
UID:5039-1760182200-1760182200@zaraband.es
SUMMARY:Cliff the magician
DESCRIPTION:
URL:https://zaraband.es/evento/cliff-the-magician-3/
LOCATION:El Sótano Mágico\, Calle San Pablo\, 43\, Zaragoza\, 50003
CATEGORIES:Magia y circo
END:VEVENT
BEGIN:VEVENT
DTSTART;TZID=UTC:20251011T113000
DTEND;TZID=UTC:20251011T113000
DTSTAMP:20260422T051844
CREATED:20250921T210607Z
LAST-MODIFIED:20250921T210607Z
UID:5040-1760182200-1760182200@zaraband.es
SUMMARY:Feria del Pilar 2025: Final del Grand Prix Campeonato de Aragón 2025
DESCRIPTION:
URL:https://zaraband.es/evento/feria-del-pilar-2025-final-del-grand-prix-campeonato-de-aragon-2025/
LOCATION:Plaza de toros de la Misericordia\, C. de Ramón Pignatelli 120\, Zaragoza\, 50004
CATEGORIES:Tauromaquia
END:VEVENT
BEGIN:VEVENT
DTSTART;TZID=UTC:20251011T113000
DTEND;TZID=UTC:20251011T113000
DTSTAMP:20260422T051844
CREATED:20250921T210552Z
LAST-MODIFIED:20250921T210552Z
UID:5036-1760182200-1760182200@zaraband.es
SUMMARY:Danza contemporánea: Manuel Jiménez & Andrea Carrión
DESCRIPTION:
URL:https://zaraband.es/evento/danza-contemporanea-manuel-jimenez-andrea-carrion/
LOCATION:Anfiteatro Residencia Xior\, Calle de la Madre Rafols\, 4\, Zaragoza\, 50004
CATEGORIES:Danza
END:VEVENT
BEGIN:VEVENT
DTSTART;TZID=UTC:20251011T113000
DTEND;TZID=UTC:20251011T113000
DTSTAMP:20260422T051844
CREATED:20250921T210552Z
LAST-MODIFIED:20250921T210552Z
UID:5037-1760182200-1760182200@zaraband.es
SUMMARY:Río y juego
DESCRIPTION:
URL:https://zaraband.es/evento/rio-y-juego-8/
LOCATION:Frente fluvial Expo\, Pabellon de España\, Zaragoza\, 50018
CATEGORIES:Infantil
END:VEVENT
BEGIN:VEVENT
DTSTART;TZID=UTC:20251011T111500
DTEND;TZID=UTC:20251011T111500
DTSTAMP:20260422T051844
CREATED:20250921T210552Z
LAST-MODIFIED:20250921T210552Z
UID:5035-1760181300-1760181300@zaraband.es
SUMMARY:Visita guiada a los cuatro museos de la Ruta Caesaraugusta
DESCRIPTION:
URL:https://zaraband.es/evento/visita-guiada-a-los-cuatro-museos-de-la-ruta-caesaraugusta/
LOCATION:Museo del Foro de Caesaraugusta\, Plaza de la Seo\, 2\, Zaragoza\, 50001
CATEGORIES:Actividades
END:VEVENT
BEGIN:VEVENT
DTSTART;TZID=UTC:20251011T110000
DTEND;TZID=UTC:20251011T110000
DTSTAMP:20260422T051844
CREATED:20250921T210552Z
LAST-MODIFIED:20250921T210552Z
UID:5034-1760180400-1760180400@zaraband.es
SUMMARY:El Pilar en Las Armas: Mercadillo artesano
DESCRIPTION:
URL:https://zaraband.es/evento/el-pilar-en-las-armas-mercadillo-artesano-3/
LOCATION:Plaza Mariano de Cavia\, Plaza Mariano de Cavia\, s/n\, Zaragoza\, 50003
CATEGORIES:Ferias y mercados
END:VEVENT
BEGIN:VEVENT
DTSTART;TZID=UTC:20251011T110000
DTEND;TZID=UTC:20251011T110000
DTSTAMP:20260422T051844
CREATED:20250921T210538Z
LAST-MODIFIED:20250921T210538Z
UID:5032-1760180400-1760180400@zaraband.es
SUMMARY:Parque de las Marionetas. XV Festival Internacional de Teatro de Feria
DESCRIPTION:
URL:https://zaraband.es/evento/parque-de-las-marionetas-xv-festival-internacional-de-teatro-de-feria-5/
LOCATION:Parque Grande J.A. Labordeta\, Pº Isabel la Católica\, s/n\, Zaragoza\, 50006
CATEGORIES:Infantil
END:VEVENT
BEGIN:VEVENT
DTSTART;TZID=UTC:20251011T110000
DTEND;TZID=UTC:20251011T110000
DTSTAMP:20260422T051844
CREATED:20250921T210538Z
LAST-MODIFIED:20250921T210538Z
UID:5033-1760180400-1760180400@zaraband.es
SUMMARY:Las tribus del parque: Magicus Zaragoza
DESCRIPTION:
URL:https://zaraband.es/evento/las-tribus-del-parque-magicus-zaragoza-7/
LOCATION:Parque Grande J.A. Labordeta\, Pº Isabel la Católica\, s/n\, Zaragoza\, 50006
CATEGORIES:Infantil
END:VEVENT
BEGIN:VEVENT
DTSTART;TZID=UTC:20251011T110000
DTEND;TZID=UTC:20251011T110000
DTSTAMP:20260422T051844
CREATED:20250921T210537Z
LAST-MODIFIED:20250921T210537Z
UID:5030-1760180400-1760180400@zaraband.es
SUMMARY:El Pilar en La Jota: León Garganchón
DESCRIPTION:
URL:https://zaraband.es/evento/el-pilar-en-la-jota-leon-garganchon/
LOCATION:Plaza Albada\, Plaza de la Albada\, 3\, Zaragoza\, 50014
CATEGORIES:Infantil
END:VEVENT
BEGIN:VEVENT
DTSTART;TZID=UTC:20251011T110000
DTEND;TZID=UTC:20251011T110000
DTSTAMP:20260422T051844
CREATED:20250921T204448Z
LAST-MODIFIED:20250921T204448Z
UID:5028-1760180400-1760180400@zaraband.es
SUMMARY:El Pilar en Miralbueno: Tragachicos
DESCRIPTION:
URL:https://zaraband.es/evento/el-pilar-en-miralbueno-tragachicos/
LOCATION:Parque Vistabella\, C/ Salomón y la Reina de Saba\, s/n\, Zaragoza\, 50011
CATEGORIES:Infantil
END:VEVENT
BEGIN:VEVENT
DTSTART;TZID=UTC:20251011T110000
DTEND;TZID=UTC:20251011T110000
DTSTAMP:20260422T051844
CREATED:20250911T194229Z
LAST-MODIFIED:20250921T210538Z
UID:4134-1760180400-1760180400@zaraband.es
SUMMARY:Muestra Artesanía y Agroalimentaría
DESCRIPTION:
URL:https://zaraband.es/evento/muestra-artesania-y-agroalimentaria-20/
LOCATION:Plaza de los Sitios\, Plaza de los Sitios\, Zaragoza\, 50001
CATEGORIES:Ferias y mercados
END:VEVENT
BEGIN:VEVENT
DTSTART;TZID=UTC:20251011T100000
DTEND;TZID=UTC:20251011T100000
DTSTAMP:20260422T051844
CREATED:20250921T204448Z
LAST-MODIFIED:20250921T204448Z
UID:5027-1760176800-1760176800@zaraband.es
SUMMARY:Escuelas infantiles de jota (ffama): Alma de Aragón
DESCRIPTION:
URL:https://zaraband.es/evento/escuelas-infantiles-de-jota-ffama-alma-de-aragon/
LOCATION:Plaza del Pilar\, Plaza del Pilar\, Zaragoza\, 50003
CATEGORIES:Tradicional
END:VEVENT
BEGIN:VEVENT
DTSTART;TZID=UTC:20251011T093500
DTEND;TZID=UTC:20251011T093500
DTSTAMP:20260422T051844
CREATED:20250921T204447Z
LAST-MODIFIED:20250921T204447Z
UID:5026-1760175300-1760175300@zaraband.es
SUMMARY:Ofrenda fluvial
DESCRIPTION:
URL:https://zaraband.es/evento/ofrenda-fluvial/
LOCATION:Embarcadero Expo\, Av. de Ranillas\, 109 (Parque del Agua)\, Zaragoza\, 50018
CATEGORIES:Tradicional
END:VEVENT
END:VCALENDAR