BEGIN:VCALENDAR
VERSION:2.0
PRODID:-//Zaraband - ECPv6.15.14//NONSGML v1.0//EN
CALSCALE:GREGORIAN
METHOD:PUBLISH
X-ORIGINAL-URL:https://zaraband.es
X-WR-CALDESC:Eventos para Zaraband
REFRESH-INTERVAL;VALUE=DURATION:PT1H
X-Robots-Tag:noindex
X-PUBLISHED-TTL:PT1H
BEGIN:VTIMEZONE
TZID:UTC
BEGIN:STANDARD
TZOFFSETFROM:+0000
TZOFFSETTO:+0000
TZNAME:UTC
DTSTART:20240101T000000
END:STANDARD
END:VTIMEZONE
BEGIN:VEVENT
DTSTART;TZID=UTC:20251011T180000
DTEND;TZID=UTC:20251011T180000
DTSTAMP:20260422T014437
CREATED:20250921T213053Z
LAST-MODIFIED:20250921T213053Z
UID:5079-1760205600-1760205600@zaraband.es
SUMMARY:El Pilar en Arcosur: Maricuela
DESCRIPTION:
URL:https://zaraband.es/evento/el-pilar-en-arcosur-maricuela/
LOCATION:Casa de Arcosur\, Paseo de los Arqueros\, 22\, Zaragoza\, 50022
CATEGORIES:Infantil
END:VEVENT
BEGIN:VEVENT
DTSTART;TZID=UTC:20251011T180000
DTEND;TZID=UTC:20251011T180000
DTSTAMP:20260422T014437
CREATED:20250921T213053Z
LAST-MODIFIED:20250921T213053Z
UID:5080-1760205600-1760205600@zaraband.es
SUMMARY:El Pilar en Santa Isabel: Asier Nuei
DESCRIPTION:
URL:https://zaraband.es/evento/el-pilar-en-santa-isabel-asier-nuei/
LOCATION:Plaza de la Libertad\, Plaza de la Libertad\, s/n\, Zaragoza\, 50016
CATEGORIES:Infantil
END:VEVENT
BEGIN:VEVENT
DTSTART;TZID=UTC:20251011T173000
DTEND;TZID=UTC:20251011T173000
DTSTAMP:20260422T014437
CREATED:20250921T213053Z
LAST-MODIFIED:20250921T213053Z
UID:5077-1760203800-1760203800@zaraband.es
SUMMARY:Taller familiar Notas de ciencia
DESCRIPTION:
URL:https://zaraband.es/evento/taller-familiar-notas-de-ciencia-3/
LOCATION:CaixaForum Zaragoza\, Avenida Anselmo Clavé\, 4\, Zaragoza\, 50004
CATEGORIES:Infantil
END:VEVENT
BEGIN:VEVENT
DTSTART;TZID=UTC:20251011T173000
DTEND;TZID=UTC:20251011T173000
DTSTAMP:20260422T014437
CREATED:20250921T211658Z
LAST-MODIFIED:20250921T211658Z
UID:5076-1760203800-1760203800@zaraband.es
SUMMARY:We are not djs + Juancasupersub Dj + Rialto + Mikel Izal + Miss Caffeina
DESCRIPTION:
URL:https://zaraband.es/evento/we-are-not-djs-juancasupersub-dj-rialto-mikel-izal-miss-caffeina/
LOCATION:Espacio Zity\, Recinto ferial de valdespartera de zaragoza - zona atracciones\, Zaragoza\, 50019
CATEGORIES:Música
END:VEVENT
BEGIN:VEVENT
DTSTART;TZID=UTC:20251011T173000
DTEND;TZID=UTC:20251011T173000
DTSTAMP:20260422T014437
CREATED:20250921T210637Z
LAST-MODIFIED:20251003T154501Z
UID:5052-1760203800-1760203800@zaraband.es
SUMMARY:La barraca de los títeres
DESCRIPTION:
URL:https://zaraband.es/evento/la-barraca-de-los-titeres-36/
LOCATION:C/Moret\, C/Moret\, Zaragoza\, Zaragoza\, 50001\, Spain
CATEGORIES:Infantil
END:VEVENT
BEGIN:VEVENT
DTSTART;TZID=UTC:20251011T173000
DTEND;TZID=UTC:20251011T173000
DTSTAMP:20260422T014437
CREATED:20250921T210552Z
LAST-MODIFIED:20250921T210552Z
UID:5038-1760203800-1760203800@zaraband.es
SUMMARY:Río y juego
DESCRIPTION:
URL:https://zaraband.es/evento/rio-y-juego-9/
LOCATION:Frente fluvial Expo\, Pabellon de España\, Zaragoza\, 50018
CATEGORIES:Infantil
END:VEVENT
BEGIN:VEVENT
DTSTART;TZID=UTC:20251011T173000
DTEND;TZID=UTC:20251011T173000
DTSTAMP:20260422T014437
CREATED:20250908T225142Z
LAST-MODIFIED:20250921T211456Z
UID:3586-1760203800-1760203800@zaraband.es
SUMMARY:Corrida de toros (Tristán Barroso\, Roca Rey\, Alejandro Talavante)
DESCRIPTION:
URL:https://zaraband.es/evento/corrida-de-toros-tristan-barroso-roca-rey-alejandro-talavante/
LOCATION:Plaza de toros de la Misericordia\, C. de Ramón Pignatelli 120\, Zaragoza\, 50004
CATEGORIES:Tauromaquia
END:VEVENT
BEGIN:VEVENT
DTSTART;TZID=UTC:20251011T170000
DTEND;TZID=UTC:20251011T170000
DTSTAMP:20260422T014437
CREATED:20250921T211456Z
LAST-MODIFIED:20250921T211456Z
UID:5069-1760202000-1760202000@zaraband.es
SUMMARY:Food Trucks: Taller infantil con pintacaras
DESCRIPTION:
URL:https://zaraband.es/evento/food-trucks-taller-infantil-con-pintacaras-2/
LOCATION:Ebro Food Festival\, P. Echegaray y Caballero\, 12\, Zaragoza\, 50003
CATEGORIES:Infantil
END:VEVENT
BEGIN:VEVENT
DTSTART;TZID=UTC:20251011T170000
DTEND;TZID=UTC:20251011T170000
DTSTAMP:20260422T014437
CREATED:20250921T211456Z
LAST-MODIFIED:20250921T211456Z
UID:5070-1760202000-1760202000@zaraband.es
SUMMARY:Cliff the magician
DESCRIPTION:
URL:https://zaraband.es/evento/cliff-the-magician-4/
LOCATION:El Sótano Mágico\, Calle San Pablo\, 43\, Zaragoza\, 50003
CATEGORIES:Infantil
END:VEVENT
BEGIN:VEVENT
DTSTART;TZID=UTC:20251011T170000
DTEND;TZID=UTC:20251011T170000
DTSTAMP:20260422T014437
CREATED:20250921T211256Z
LAST-MODIFIED:20250921T211256Z
UID:5067-1760202000-1760202000@zaraband.es
SUMMARY:Denominación de Origen: Usanza aragonesa
DESCRIPTION:
URL:https://zaraband.es/evento/denominacion-de-origen-usanza-aragonesa/
LOCATION:Plaza del Pilar\, Plaza del Pilar\, Zaragoza\, 50003
CATEGORIES:Tradicional
END:VEVENT
BEGIN:VEVENT
DTSTART;TZID=UTC:20251011T170000
DTEND;TZID=UTC:20251011T170000
DTSTAMP:20260422T014437
CREATED:20250921T211256Z
LAST-MODIFIED:20250921T211256Z
UID:5068-1760202000-1760202000@zaraband.es
SUMMARY:Parque de las Marionetas. XV Festival Internacional de Teatro de Feria
DESCRIPTION:
URL:https://zaraband.es/evento/parque-de-las-marionetas-xv-festival-internacional-de-teatro-de-feria-6/
LOCATION:Parque Grande J.A. Labordeta\, Pº Isabel la Católica\, s/n\, Zaragoza\, 50006
CATEGORIES:Infantil
END:VEVENT
BEGIN:VEVENT
DTSTART;TZID=UTC:20251011T170000
DTEND;TZID=UTC:20251011T170000
DTSTAMP:20260422T014437
CREATED:20250921T210854Z
LAST-MODIFIED:20250921T210854Z
UID:5058-1760202000-1760202000@zaraband.es
SUMMARY:Planeta Jurásico – Carpa blanca Valdespartera
DESCRIPTION:
URL:https://zaraband.es/evento/planeta-jurasico-carpa-blanca-valdespartera-14/
LOCATION:Recinto Ferial Valdespartera\, Recinto ferial de valdespartera de zaragoza - zona atracciones\, Zaragoza\, 50019
CATEGORIES:Infantil
END:VEVENT
BEGIN:VEVENT
DTSTART;TZID=UTC:20251011T170000
DTEND;TZID=UTC:20251011T170000
DTSTAMP:20260422T014437
CREATED:20250908T221524Z
LAST-MODIFIED:20251003T211318Z
UID:3493-1760202000-1760202000@zaraband.es
SUMMARY:MAMMA MIA! Musical
DESCRIPTION:
URL:https://zaraband.es/evento/mamma-mia-musical-22/
LOCATION:Palacio de Congresos de Zaragoza\, Plaza Lucas Miret Rodriguez\, 1\, Zaragoza\, 50018
CATEGORIES:Teatro
END:VEVENT
BEGIN:VEVENT
DTSTART;TZID=UTC:20251011T163000
DTEND;TZID=UTC:20251011T163000
DTSTAMP:20260422T014437
CREATED:20250921T211256Z
LAST-MODIFIED:20250921T211256Z
UID:5066-1760200200-1760200200@zaraband.es
SUMMARY:Tardeo Remember Isma Nordic
DESCRIPTION:
URL:https://zaraband.es/evento/tardeo-remember-isma-nordic/
LOCATION:Sala Oasis\, Calle Boggiero\, 28\, Zaragoza\, 50003
CATEGORIES:Música
END:VEVENT
BEGIN:VEVENT
DTSTART;TZID=UTC:20251011T163000
DTEND;TZID=UTC:20251011T163000
DTSTAMP:20260422T014437
CREATED:20250911T193115Z
LAST-MODIFIED:20250921T211256Z
UID:4108-1760200200-1760200200@zaraband.es
SUMMARY:Los pilares de la tierra\, el musical
DESCRIPTION:
URL:https://zaraband.es/evento/los-pilares-de-la-tierra-el-musical-41/
LOCATION:Teatro Principal\, Pl. de José Sinués Urbiola\, 2\, Zaragoza\, 50001
CATEGORIES:Teatro
END:VEVENT
BEGIN:VEVENT
DTSTART;TZID=UTC:20251011T160000
DTEND;TZID=UTC:20251011T160000
DTSTAMP:20260422T014437
CREATED:20250921T211256Z
LAST-MODIFIED:20250921T211256Z
UID:5065-1760198400-1760198400@zaraband.es
SUMMARY:Food Trucks: Canalla Club
DESCRIPTION:
URL:https://zaraband.es/evento/food-trucks-canalla-club/
LOCATION:Ebro Food Festival\, P. Echegaray y Caballero\, 12\, Zaragoza\, 50003
CATEGORIES:Música
END:VEVENT
BEGIN:VEVENT
DTSTART;TZID=UTC:20251011T160000
DTEND;TZID=UTC:20251011T160000
DTSTAMP:20260422T014437
CREATED:20250921T210538Z
LAST-MODIFIED:20250921T211054Z
UID:5031-1760198400-1760198400@zaraband.es
SUMMARY:El Pilar en La Jota: León Garganchón
DESCRIPTION:
URL:https://zaraband.es/evento/el-pilar-en-la-jota-leon-garganchon-2/
LOCATION:Plaza Albada\, Plaza de la Albada\, 3\, Zaragoza\, 50014
CATEGORIES:Infantil
END:VEVENT
BEGIN:VEVENT
DTSTART;TZID=UTC:20251011T160000
DTEND;TZID=UTC:20251011T160000
DTSTAMP:20260422T014437
CREATED:20250921T204448Z
LAST-MODIFIED:20250921T211054Z
UID:5029-1760198400-1760198400@zaraband.es
SUMMARY:El Pilar en Miralbueno: Tragachicos
DESCRIPTION:
URL:https://zaraband.es/evento/el-pilar-en-miralbueno-tragachicos-2/
LOCATION:Parque Vistabella\, C/ Salomón y la Reina de Saba\, s/n\, Zaragoza\, 50011
CATEGORIES:Infantil
END:VEVENT
BEGIN:VEVENT
DTSTART;TZID=UTC:20251011T160000
DTEND;TZID=UTC:20251011T160000
DTSTAMP:20260422T014437
CREATED:20250908T223534Z
LAST-MODIFIED:20250921T210854Z
UID:3546-1760198400-1760198400@zaraband.es
SUMMARY:2do Festival Internacional de Circo de Zaragoza
DESCRIPTION:
URL:https://zaraband.es/evento/2do-festival-internacional-de-circo-de-zaragoza-17/
LOCATION:Recinto Ferial Valdespartera\, Recinto ferial de valdespartera de zaragoza - zona atracciones\, Zaragoza\, 50019
CATEGORIES:Magia y circo
END:VEVENT
BEGIN:VEVENT
DTSTART;TZID=UTC:20251011T130000
DTEND;TZID=UTC:20251011T130000
DTSTAMP:20260422T014437
CREATED:20250921T211054Z
LAST-MODIFIED:20250921T211054Z
UID:5061-1760187600-1760187600@zaraband.es
SUMMARY:Danza contemporánea: Manuel Jiménez & Andrea Carrión
DESCRIPTION:
URL:https://zaraband.es/evento/danza-contemporanea-manuel-jimenez-andrea-carrion-2/
LOCATION:Anfiteatro Residencia Xior\, Calle de la Madre Rafols\, 4\, Zaragoza\, 50004
CATEGORIES:Danza
END:VEVENT
BEGIN:VEVENT
DTSTART;TZID=UTC:20251011T130000
DTEND;TZID=UTC:20251011T130000
DTSTAMP:20260422T014437
CREATED:20250921T211054Z
LAST-MODIFIED:20250921T211054Z
UID:5062-1760187600-1760187600@zaraband.es
SUMMARY:Food Trucks: Almozandia Teatro – Rockolas TV
DESCRIPTION:
URL:https://zaraband.es/evento/food-trucks-almozandia-teatro-rockolas-tv/
LOCATION:Ebro Food Festival\, P. Echegaray y Caballero\, 12\, Zaragoza\, 50003
CATEGORIES:Música
END:VEVENT
BEGIN:VEVENT
DTSTART;TZID=UTC:20251011T130000
DTEND;TZID=UTC:20251011T130000
DTSTAMP:20260422T014437
CREATED:20250921T210637Z
LAST-MODIFIED:20251003T154452Z
UID:5051-1760187600-1760187600@zaraband.es
SUMMARY:La barraca de los títeres
DESCRIPTION:
URL:https://zaraband.es/evento/la-barraca-de-los-titeres-35/
LOCATION:C/Moret\, C/Moret\, Zaragoza\, Zaragoza\, 50001\, Spain
CATEGORIES:Infantil
END:VEVENT
BEGIN:VEVENT
DTSTART;TZID=UTC:20251011T123000
DTEND;TZID=UTC:20251011T123000
DTSTAMP:20260422T014437
CREATED:20250921T211054Z
LAST-MODIFIED:20250921T211054Z
UID:5060-1760185800-1760185800@zaraband.es
SUMMARY:In materia
DESCRIPTION:
URL:https://zaraband.es/evento/in-materia/
LOCATION:Rock & Blues\, Calle Cuatro de Agosto\, 5\, Zaragoza\, 50003
CATEGORIES:Música
END:VEVENT
BEGIN:VEVENT
DTSTART;TZID=UTC:20251011T123000
DTEND;TZID=UTC:20251011T123000
DTSTAMP:20260422T014437
CREATED:20250921T210854Z
LAST-MODIFIED:20250921T210854Z
UID:5059-1760185800-1760185800@zaraband.es
SUMMARY:Zity Comedy 2025: Monólogos All Star
DESCRIPTION:
URL:https://zaraband.es/evento/zity-comedy-2025-monologos-all-star/
LOCATION:Espacio Zity\, Recinto ferial de valdespartera de zaragoza - zona atracciones\, Zaragoza\, 50019
CATEGORIES:Teatro
END:VEVENT
BEGIN:VEVENT
DTSTART;TZID=UTC:20251011T120000
DTEND;TZID=UTC:20251011T120000
DTSTAMP:20260422T014437
CREATED:20250921T210854Z
LAST-MODIFIED:20250921T210854Z
UID:5057-1760184000-1760184000@zaraband.es
SUMMARY:Planeta Jurásico – Carpa blanca Valdespartera
DESCRIPTION:
URL:https://zaraband.es/evento/planeta-jurasico-carpa-blanca-valdespartera-13/
LOCATION:Recinto Ferial Valdespartera\, Recinto ferial de valdespartera de zaragoza - zona atracciones\, Zaragoza\, 50019
CATEGORIES:Infantil
END:VEVENT
BEGIN:VEVENT
DTSTART;TZID=UTC:20251011T120000
DTEND;TZID=UTC:20251011T120000
DTSTAMP:20260422T014437
CREATED:20250921T210637Z
LAST-MODIFIED:20250921T210637Z
UID:5049-1760184000-1760184000@zaraband.es
SUMMARY:El carro de la alegría
DESCRIPTION:
URL:https://zaraband.es/evento/el-carro-de-la-alegria-3/
LOCATION:Museo del Fuego y los Bomberos\, Calle Ramón y Cajal\, 32\, Zaragoza\, 50004
CATEGORIES:Infantil
END:VEVENT
BEGIN:VEVENT
DTSTART;TZID=UTC:20251011T120000
DTEND;TZID=UTC:20251011T120000
DTSTAMP:20260422T014437
CREATED:20250921T210637Z
LAST-MODIFIED:20251003T154443Z
UID:5050-1760184000-1760184000@zaraband.es
SUMMARY:La barraca de los títeres
DESCRIPTION:
URL:https://zaraband.es/evento/la-barraca-de-los-titeres-34/
LOCATION:C/Moret\, C/Moret\, Zaragoza\, Zaragoza\, 50001\, Spain
CATEGORIES:Infantil
END:VEVENT
BEGIN:VEVENT
DTSTART;TZID=UTC:20251011T120000
DTEND;TZID=UTC:20251011T120000
DTSTAMP:20260422T014437
CREATED:20250921T210622Z
LAST-MODIFIED:20250921T210622Z
UID:5047-1760184000-1760184000@zaraband.es
SUMMARY:Food Trucks: Taller infantil con  pintacaras
DESCRIPTION:
URL:https://zaraband.es/evento/food-trucks-taller-infantil-con-pintacaras/
LOCATION:Ebro Food Festival\, P. Echegaray y Caballero\, 12\, Zaragoza\, 50003
CATEGORIES:Música
END:VEVENT
BEGIN:VEVENT
DTSTART;TZID=UTC:20251011T120000
DTEND;TZID=UTC:20251011T120000
DTSTAMP:20260422T014437
CREATED:20250921T210622Z
LAST-MODIFIED:20250921T210652Z
UID:5048-1760184000-1760184000@zaraband.es
SUMMARY:Los Gandules presentan Gandulfighter.
DESCRIPTION:
URL:https://zaraband.es/evento/los-gandules-presentan-gandulfighter-3/
LOCATION:C.C. Almozara\, Av. de la Puerta de Sancho\, 30\, Zaragoza\, 50003
CATEGORIES:Teatro
END:VEVENT
BEGIN:VEVENT
DTSTART;TZID=UTC:20251011T120000
DTEND;TZID=UTC:20251011T120000
DTSTAMP:20260422T014437
CREATED:20250921T210622Z
LAST-MODIFIED:20250921T210622Z
UID:5044-1760184000-1760184000@zaraband.es
SUMMARY:El Pilar en Torrecilla de Valmadrid: K de calle
DESCRIPTION:
URL:https://zaraband.es/evento/el-pilar-en-torrecilla-de-valmadrid-k-de-calle/
LOCATION:C/ Paradero\, C/ Paradero\, Zaragoza\, 50011
CATEGORIES:Infantil
END:VEVENT
END:VCALENDAR