BEGIN:VCALENDAR
VERSION:2.0
PRODID:-//Zaraband - ECPv6.15.14//NONSGML v1.0//EN
CALSCALE:GREGORIAN
METHOD:PUBLISH
X-ORIGINAL-URL:https://zaraband.es
X-WR-CALDESC:Eventos para Zaraband
REFRESH-INTERVAL;VALUE=DURATION:PT1H
X-Robots-Tag:noindex
X-PUBLISHED-TTL:PT1H
BEGIN:VTIMEZONE
TZID:UTC
BEGIN:STANDARD
TZOFFSETFROM:+0000
TZOFFSETTO:+0000
TZNAME:UTC
DTSTART:20240101T000000
END:STANDARD
END:VTIMEZONE
BEGIN:VEVENT
DTSTART;TZID=UTC:20251011T235900
DTEND;TZID=UTC:20251011T235900
DTSTAMP:20260421T165819
CREATED:20250921T214535Z
LAST-MODIFIED:20250921T214535Z
UID:5116-1760227140-1760227140@zaraband.es
SUMMARY:Espacio Zity: Coliseum
DESCRIPTION:
URL:https://zaraband.es/evento/espacio-zity-coliseum/
LOCATION:Espacio Zity\, Recinto ferial de valdespartera de zaragoza - zona atracciones\, Zaragoza\, 50019
CATEGORIES:Música
END:VEVENT
BEGIN:VEVENT
DTSTART;TZID=UTC:20251011T230000
DTEND;TZID=UTC:20251011T230000
DTSTAMP:20260421T165819
CREATED:20250921T214535Z
LAST-MODIFIED:20250921T214535Z
UID:5115-1760223600-1760223600@zaraband.es
SUMMARY:XIII Concurso de recortes con  toros de fuego
DESCRIPTION:
URL:https://zaraband.es/evento/xiii-concurso-de-recortes-con-toros-de-fuego/
LOCATION:Plaza de toros de la Misericordia\, C. de Ramón Pignatelli 120\, Zaragoza\, 50004
CATEGORIES:Tauromaquia
END:VEVENT
BEGIN:VEVENT
DTSTART;TZID=UTC:20251011T230000
DTEND;TZID=UTC:20251011T230000
DTSTAMP:20260421T165819
CREATED:20250921T214534Z
LAST-MODIFIED:20250921T214534Z
UID:5113-1760223600-1760223600@zaraband.es
SUMMARY:Rondas joteras: Castañuelas de Aragón
DESCRIPTION:
URL:https://zaraband.es/evento/rondas-joteras-castanuelas-de-aragon/
LOCATION:Plaza de San Miguel\, Plaza de San Miguel\, s/n\, Zaragoza\, 50001
CATEGORIES:Tradicional
END:VEVENT
BEGIN:VEVENT
DTSTART;TZID=UTC:20251011T230000
DTEND;TZID=UTC:20251011T230000
DTSTAMP:20260421T165819
CREATED:20250921T214534Z
LAST-MODIFIED:20250921T214534Z
UID:5114-1760223600-1760223600@zaraband.es
SUMMARY:V Encuentro Djs. Vieja escuela
DESCRIPTION:
URL:https://zaraband.es/evento/v-encuentro-djs-vieja-escuela/
LOCATION:Sala Creedence\, Plaza San Lamberto\, 3\, Zaragoza\, 50004
CATEGORIES:Música
END:VEVENT
BEGIN:VEVENT
DTSTART;TZID=UTC:20251011T220000
DTEND;TZID=UTC:20251011T220000
DTSTAMP:20260421T165819
CREATED:20250921T214140Z
LAST-MODIFIED:20250921T214140Z
UID:5112-1760220000-1760220000@zaraband.es
SUMMARY:Food Trucks: Fiesta Dj Perdidos en  los 80's
DESCRIPTION:
URL:https://zaraband.es/evento/food-trucks-fiesta-dj-perdidos-en-los-80s/
LOCATION:Ebro Food Festival\, P. Echegaray y Caballero\, 12\, Zaragoza\, 50003
CATEGORIES:Música
END:VEVENT
BEGIN:VEVENT
DTSTART;TZID=UTC:20251011T220000
DTEND;TZID=UTC:20251011T220000
DTSTAMP:20260421T165819
CREATED:20250908T223132Z
LAST-MODIFIED:20250921T214140Z
UID:3533-1760220000-1760220000@zaraband.es
SUMMARY:Circo del miedo
DESCRIPTION:
URL:https://zaraband.es/evento/circo-del-miedo-18/
LOCATION:Recinto Ferial Valdespartera\, Recinto ferial de valdespartera de zaragoza - zona atracciones\, Zaragoza\, 50019
CATEGORIES:Magia y circo
END:VEVENT
BEGIN:VEVENT
DTSTART;TZID=UTC:20251011T213000
DTEND;TZID=UTC:20251011T213000
DTSTAMP:20260421T165819
CREATED:20250921T214140Z
LAST-MODIFIED:20250921T214140Z
UID:5110-1760218200-1760218200@zaraband.es
SUMMARY:Cadena SER presenta Los40 Independance
DESCRIPTION:
URL:https://zaraband.es/evento/cadena-ser-presenta-los40-independance/
LOCATION:Plaza del Pilar\, Plaza del Pilar\, Zaragoza\, 50003
CATEGORIES:Música
END:VEVENT
BEGIN:VEVENT
DTSTART;TZID=UTC:20251011T213000
DTEND;TZID=UTC:20251011T213000
DTSTAMP:20260421T165819
CREATED:20250921T214140Z
LAST-MODIFIED:20250921T214140Z
UID:5111-1760218200-1760218200@zaraband.es
SUMMARY:¡Esas palmas\, coño! Tributo a Siniestro Total
DESCRIPTION:
URL:https://zaraband.es/evento/esas-palmas-cono-tributo-a-siniestro-total/
LOCATION:Sala Z\, Calle Félix Latassa\, 14\, Zaragoza\, 50006
CATEGORIES:Música
END:VEVENT
BEGIN:VEVENT
DTSTART;TZID=UTC:20251011T210000
DTEND;TZID=UTC:20251011T210000
DTSTAMP:20260421T165819
CREATED:20250921T214140Z
LAST-MODIFIED:20250921T214140Z
UID:5109-1760216400-1760216400@zaraband.es
SUMMARY:Inmigrants + Virgo The Superclusters
DESCRIPTION:
URL:https://zaraband.es/evento/inmigrants-virgo-the-superclusters/
LOCATION:La Ley Seca\, Calle Sevilla\, 2\, Zaragoza\, 50014
CATEGORIES:Música
END:VEVENT
BEGIN:VEVENT
DTSTART;TZID=UTC:20251011T210000
DTEND;TZID=UTC:20251011T210000
DTSTAMP:20260421T165819
CREATED:20250921T213939Z
LAST-MODIFIED:20250921T213939Z
UID:5108-1760216400-1760216400@zaraband.es
SUMMARY:Slow Burn Drifters
DESCRIPTION:
URL:https://zaraband.es/evento/slow-burn-drifters/
LOCATION:Sala Creedence\, Plaza San Lamberto\, 3\, Zaragoza\, 50004
CATEGORIES:Música
END:VEVENT
BEGIN:VEVENT
DTSTART;TZID=UTC:20251011T210000
DTEND;TZID=UTC:20251011T210000
DTSTAMP:20260421T165819
CREATED:20250921T213939Z
LAST-MODIFIED:20250921T213939Z
UID:5106-1760216400-1760216400@zaraband.es
SUMMARY:Nita & The Wild Cats
DESCRIPTION:
URL:https://zaraband.es/evento/nita-the-wild-cats/
LOCATION:Moliner 7 Sala\, Calle María Moliner\, 7\, Zaragoza\, 50007
CATEGORIES:Música
END:VEVENT
BEGIN:VEVENT
DTSTART;TZID=UTC:20251011T210000
DTEND;TZID=UTC:20251011T210000
DTSTAMP:20260421T165819
CREATED:20250921T213939Z
LAST-MODIFIED:20250921T213939Z
UID:5107-1760216400-1760216400@zaraband.es
SUMMARY:PRIVATE FUNCTION + LOS BIEN BIEN
DESCRIPTION:
URL:https://zaraband.es/evento/private-function-los-bien-bien/
LOCATION:La casa del Loco\, Cl. Mayor\, 10\, Zaragoza\, 50001
CATEGORIES:Música
END:VEVENT
BEGIN:VEVENT
DTSTART;TZID=UTC:20251011T210000
DTEND;TZID=UTC:20251011T210000
DTSTAMP:20260421T165819
CREATED:20250921T213938Z
LAST-MODIFIED:20250921T213938Z
UID:5105-1760216400-1760216400@zaraband.es
SUMMARY:Dani Martinez presenta Remember!
DESCRIPTION:
URL:https://zaraband.es/evento/dani-martinez-presenta-remember-2/
LOCATION:Auditorio de Zaragoza – Princesa Leonor\, C. de Eduardo Ibarra\, 3\, Zaragoza\, 50009
CATEGORIES:Teatro
END:VEVENT
BEGIN:VEVENT
DTSTART;TZID=UTC:20251011T210000
DTEND;TZID=UTC:20251011T210000
DTSTAMP:20260421T165819
CREATED:20250921T213737Z
LAST-MODIFIED:20250921T213737Z
UID:5103-1760216400-1760216400@zaraband.es
SUMMARY:Fuegos artificiales
DESCRIPTION:
URL:https://zaraband.es/evento/fuegos-artificiales/
LOCATION:Parque Pignatelli\, Parque Pignatelli\, s/n\, Zaragoza\, 50006
CATEGORIES:Tradicional
END:VEVENT
BEGIN:VEVENT
DTSTART;TZID=UTC:20251011T210000
DTEND;TZID=UTC:20251011T210000
DTSTAMP:20260421T165819
CREATED:20250921T213737Z
LAST-MODIFIED:20250921T213737Z
UID:5102-1760216400-1760216400@zaraband.es
SUMMARY:Killer Barbies + La Doloritas
DESCRIPTION:
URL:https://zaraband.es/evento/killer-barbies-la-doloritas/
LOCATION:Parque Grande J.A. Labordeta\, Pº Isabel la Católica\, s/n\, Zaragoza\, 50006
CATEGORIES:Música
END:VEVENT
BEGIN:VEVENT
DTSTART;TZID=UTC:20251011T210000
DTEND;TZID=UTC:20251011T210000
DTSTAMP:20260421T165819
CREATED:20250911T193444Z
LAST-MODIFIED:20250921T213737Z
UID:4119-1760216400-1760216400@zaraband.es
SUMMARY:Remátame otra vez
DESCRIPTION:
URL:https://zaraband.es/evento/rematame-otra-vez-27/
LOCATION:Teatro de las Esquinas\, Vía Univérsitas\, 30\, Zaragoza\, 50017
CATEGORIES:Teatro
END:VEVENT
BEGIN:VEVENT
DTSTART;TZID=UTC:20251011T210000
DTEND;TZID=UTC:20251011T210000
DTSTAMP:20260421T165819
CREATED:20250908T222328Z
LAST-MODIFIED:20250921T213939Z
UID:3516-1760216400-1760216400@zaraband.es
SUMMARY:Loquillo "Corazones Legendarios"
DESCRIPTION:
URL:https://zaraband.es/evento/loquillo-corazones-legendarios-2/
LOCATION:Pabellón Príncipe Felipe\, Av. de Cesáreo Alierta\, 120\, Zaragoza\, 50013
CATEGORIES:Música
END:VEVENT
BEGIN:VEVENT
DTSTART;TZID=UTC:20251011T210000
DTEND;TZID=UTC:20251011T210000
DTSTAMP:20260421T165819
CREATED:20250908T221524Z
LAST-MODIFIED:20251003T211306Z
UID:3494-1760216400-1760216400@zaraband.es
SUMMARY:MAMMA MIA! Musical
DESCRIPTION:
URL:https://zaraband.es/evento/mamma-mia-musical-23/
LOCATION:Palacio de Congresos de Zaragoza\, Plaza Lucas Miret Rodriguez\, 1\, Zaragoza\, 50018
CATEGORIES:Teatro
END:VEVENT
BEGIN:VEVENT
DTSTART;TZID=UTC:20251011T203000
DTEND;TZID=UTC:20251011T203000
DTSTAMP:20260421T165819
CREATED:20250921T213537Z
LAST-MODIFIED:20250921T213537Z
UID:5101-1760214600-1760214600@zaraband.es
SUMMARY:Juan Capilla (Zaragoza) Indomable +18
DESCRIPTION:
URL:https://zaraband.es/evento/juan-capilla-zaragoza-indomable-18-2/
LOCATION:El Sótano Mágico\, Calle San Pablo\, 43\, Zaragoza\, 50003
CATEGORIES:Magia y circo
END:VEVENT
BEGIN:VEVENT
DTSTART;TZID=UTC:20251011T203000
DTEND;TZID=UTC:20251011T203000
DTSTAMP:20260421T165819
CREATED:20250921T210652Z
LAST-MODIFIED:20251003T154529Z
UID:5055-1760214600-1760214600@zaraband.es
SUMMARY:La barraca de los títeres
DESCRIPTION:
URL:https://zaraband.es/evento/la-barraca-de-los-titeres-39/
LOCATION:C/Moret\, C/Moret\, Zaragoza\, Zaragoza\, 50001\, Spain
CATEGORIES:Teatro
END:VEVENT
BEGIN:VEVENT
DTSTART;TZID=UTC:20251011T201500
DTEND;TZID=UTC:20251011T201500
DTSTAMP:20260421T165819
CREATED:20250921T213537Z
LAST-MODIFIED:20250921T213537Z
UID:5100-1760213700-1760213700@zaraband.es
SUMMARY:Agua\, luz y sonido: grandes compositores de bandas sonoras: Ennio Morricone
DESCRIPTION:
URL:https://zaraband.es/evento/agua-luz-y-sonido-grandes-compositores-de-bandas-sonoras-ennio-morricone/
LOCATION:Parque Grande J.A. Labordeta\, Pº Isabel la Católica\, s/n\, Zaragoza\, 50006
CATEGORIES:Música
END:VEVENT
BEGIN:VEVENT
DTSTART;TZID=UTC:20251011T200000
DTEND;TZID=UTC:20251011T200000
DTSTAMP:20260421T165819
CREATED:20250921T213536Z
LAST-MODIFIED:20250921T213536Z
UID:5098-1760212800-1760212800@zaraband.es
SUMMARY:2 kinder güenos\, Especial Pilares\, monologos
DESCRIPTION:
URL:https://zaraband.es/evento/2-kinder-guenos-especial-pilares-monologos-5/
LOCATION:El Refugio del Crápula\, Calle Mayor\, 56\, Zaragoza\, 50001
CATEGORIES:Teatro
END:VEVENT
BEGIN:VEVENT
DTSTART;TZID=UTC:20251011T200000
DTEND;TZID=UTC:20251011T200000
DTSTAMP:20260421T165819
CREATED:20250921T213536Z
LAST-MODIFIED:20250921T213536Z
UID:5099-1760212800-1760212800@zaraband.es
SUMMARY:Sarao con Javier Segarra\, Lola Moreno\, Silvia Fox y el Ballet Internacional
DESCRIPTION:
URL:https://zaraband.es/evento/sarao-con-javier-segarra-lola-moreno-silvia-fox-y-el-ballet-internacional-8/
LOCATION:Auditorio WTCZ\, Calle María Zambrano\, 31\, Zaragoza\, 50018
CATEGORIES:Teatro
END:VEVENT
BEGIN:VEVENT
DTSTART;TZID=UTC:20251011T200000
DTEND;TZID=UTC:20251011T200000
DTSTAMP:20260421T165819
CREATED:20250921T213335Z
LAST-MODIFIED:20250921T213335Z
UID:5097-1760212800-1760212800@zaraband.es
SUMMARY:Food Trucks: Modelo
DESCRIPTION:
URL:https://zaraband.es/evento/food-trucks-modelo/
LOCATION:Ebro Food Festival\, P. Echegaray y Caballero\, 12\, Zaragoza\, 50003
CATEGORIES:Infantil
END:VEVENT
BEGIN:VEVENT
DTSTART;TZID=UTC:20251011T200000
DTEND;TZID=UTC:20251011T200000
DTSTAMP:20260421T165819
CREATED:20250911T194820Z
LAST-MODIFIED:20250921T213335Z
UID:4141-1760212800-1760212800@zaraband.es
SUMMARY:Fabiolo Conecction (Rafa Maza)
DESCRIPTION:
URL:https://zaraband.es/evento/fabiolo-conecction-rafa-maza-10/
LOCATION:Patio de la Infanta. Fundación Ibercaja\, C. de San Ignacio de Loyola\, 16\, Zaragoza\, 50008
CATEGORIES:Teatro
END:VEVENT
BEGIN:VEVENT
DTSTART;TZID=UTC:20251011T200000
DTEND;TZID=UTC:20251011T200000
DTSTAMP:20260421T165819
CREATED:20250908T220318Z
LAST-MODIFIED:20250921T213536Z
UID:3464-1760212800-1760212800@zaraband.es
SUMMARY:Comisaria en fiestas: El reality
DESCRIPTION:
URL:https://zaraband.es/evento/comisaria-en-fiestas-el-reality-22/
LOCATION:Teatro del Mercado\, Pl. de Santo Domingo\, 27\, Zaragoza\, 50003
CATEGORIES:Teatro
END:VEVENT
BEGIN:VEVENT
DTSTART;TZID=UTC:20251011T200000
DTEND;TZID=UTC:20251011T200000
DTSTAMP:20260421T165819
CREATED:20250908T215916Z
LAST-MODIFIED:20250921T213336Z
UID:3454-1760212800-1760212800@zaraband.es
SUMMARY:Pee\, Minovas\, Hervás\, un show de Stand Up
DESCRIPTION:
URL:https://zaraband.es/evento/pee-minovas-hervas-un-show-de-stand-up-2/
LOCATION:Teatro Arbolé\, Parque del Agua Luis Buñuel\, Pl Fluvi\, Zaragoza\, 50018
CATEGORIES:Teatro
END:VEVENT
BEGIN:VEVENT
DTSTART;TZID=UTC:20251011T200000
DTEND;TZID=UTC:20251011T200000
DTSTAMP:20260421T165819
CREATED:20250908T215313Z
LAST-MODIFIED:20250921T213335Z
UID:3437-1760212800-1760212800@zaraband.es
SUMMARY:Los pilares de la tierra\, el musical
DESCRIPTION:
URL:https://zaraband.es/evento/los-pilares-de-la-tierra-el-musical-24/
LOCATION:Teatro Principal\, Pl. de José Sinués Urbiola\, 2\, Zaragoza\, 50001
CATEGORIES:Teatro
END:VEVENT
BEGIN:VEVENT
DTSTART;TZID=UTC:20251011T193000
DTEND;TZID=UTC:20251011T193000
DTSTAMP:20260421T165819
CREATED:20250921T213335Z
LAST-MODIFIED:20250921T213335Z
UID:5096-1760211000-1760211000@zaraband.es
SUMMARY:Umbra en concierto
DESCRIPTION:
URL:https://zaraband.es/evento/umbra-en-concierto/
LOCATION:C.C. Delicias\, Avenida Navarra\, 54\, Zaragoza\, 50010
CATEGORIES:Música
END:VEVENT
BEGIN:VEVENT
DTSTART;TZID=UTC:20251011T193000
DTEND;TZID=UTC:20251011T193000
DTSTAMP:20260421T165819
CREATED:20250921T213134Z
LAST-MODIFIED:20250921T213134Z
UID:5094-1760211000-1760211000@zaraband.es
SUMMARY:Hermanos Martínez + Volador
DESCRIPTION:
URL:https://zaraband.es/evento/hermanos-martinez-volador/
LOCATION:Estación del Norte\, C/ Perdiguera\, 7\, Zaragoza\, 50014
CATEGORIES:Música
END:VEVENT
END:VCALENDAR