BEGIN:VCALENDAR
VERSION:2.0
PRODID:-//Zaraband - ECPv6.15.14//NONSGML v1.0//EN
CALSCALE:GREGORIAN
METHOD:PUBLISH
X-WR-CALNAME:Zaraband
X-ORIGINAL-URL:https://zaraband.es
X-WR-CALDESC:Eventos para Zaraband
REFRESH-INTERVAL;VALUE=DURATION:PT1H
X-Robots-Tag:noindex
X-PUBLISHED-TTL:PT1H
BEGIN:VTIMEZONE
TZID:UTC
BEGIN:STANDARD
TZOFFSETFROM:+0000
TZOFFSETTO:+0000
TZNAME:UTC
DTSTART:20240101T000000
END:STANDARD
END:VTIMEZONE
BEGIN:VEVENT
DTSTART;TZID=UTC:20251012T160000
DTEND;TZID=UTC:20251012T160000
DTSTAMP:20260421T114620
CREATED:20250921T214826Z
LAST-MODIFIED:20250921T214826Z
UID:5146-1760284800-1760284800@zaraband.es
SUMMARY:El Pilar en el centro: León Garganchón
DESCRIPTION:
URL:https://zaraband.es/evento/el-pilar-en-el-centro-leon-garganchon-3/
LOCATION:Glorieta Esperanto\, Casco Antiguo\, Zaragoza\, 50008
CATEGORIES:Infantil
END:VEVENT
BEGIN:VEVENT
DTSTART;TZID=UTC:20251012T160000
DTEND;TZID=UTC:20251012T160000
DTSTAMP:20260421T114620
CREATED:20250921T214826Z
LAST-MODIFIED:20250921T214826Z
UID:5147-1760284800-1760284800@zaraband.es
SUMMARY:Food Trucks: Tardeo valiente con Dj Fantasmas Amarillos
DESCRIPTION:
URL:https://zaraband.es/evento/food-trucks-tardeo-valiente-con-dj-fantasmas-amarillos/
LOCATION:Ebro Food Festival\, P. Echegaray y Caballero\, 12\, Zaragoza\, 50003
CATEGORIES:Música
END:VEVENT
BEGIN:VEVENT
DTSTART;TZID=UTC:20251012T160000
DTEND;TZID=UTC:20251012T160000
DTSTAMP:20260421T114620
CREATED:20250921T214826Z
LAST-MODIFIED:20250921T214826Z
UID:5148-1760284800-1760284800@zaraband.es
SUMMARY:II Festival Internacional de Circo de Zaragoza
DESCRIPTION:
URL:https://zaraband.es/evento/ii-festival-internacional-de-circo-de-zaragoza-5/
LOCATION:Recinto Ferial Valdespartera\, Recinto ferial de valdespartera de zaragoza - zona atracciones\, Zaragoza\, 50019
CATEGORIES:Magia y circo
END:VEVENT
BEGIN:VEVENT
DTSTART;TZID=UTC:20251012T130000
DTEND;TZID=UTC:20251012T130000
DTSTAMP:20260421T114620
CREATED:20250921T214811Z
LAST-MODIFIED:20250921T214811Z
UID:5142-1760274000-1760274000@zaraband.es
SUMMARY:Danza contemporánea: Cía. Crisis Danza
DESCRIPTION:
URL:https://zaraband.es/evento/danza-contemporanea-cia-crisis-danza/
LOCATION:Anfiteatro Residencia Xior\, Calle de la Madre Rafols\, 4\, Zaragoza\, 50004
CATEGORIES:Danza
END:VEVENT
BEGIN:VEVENT
DTSTART;TZID=UTC:20251012T130000
DTEND;TZID=UTC:20251012T130000
DTSTAMP:20260421T114620
CREATED:20250921T214811Z
LAST-MODIFIED:20250921T214811Z
UID:5143-1760274000-1760274000@zaraband.es
SUMMARY:Food Trucks:  Carlos Sicilia presenta Magia pato2
DESCRIPTION:
URL:https://zaraband.es/evento/food-trucks-carlos-sicilia-presenta-magia-pato2/
LOCATION:Ebro Food Festival\, P. Echegaray y Caballero\, 12\, Zaragoza\, 50003
CATEGORIES:Infantil
END:VEVENT
BEGIN:VEVENT
DTSTART;TZID=UTC:20251012T130000
DTEND;TZID=UTC:20251012T130000
DTSTAMP:20260421T114620
CREATED:20250921T214811Z
LAST-MODIFIED:20250921T214811Z
UID:5144-1760274000-1760274000@zaraband.es
SUMMARY:Food Trucks: Valiente Club con Álvaro Subías
DESCRIPTION:
URL:https://zaraband.es/evento/food-trucks-valiente-club-con-alvaro-subias/
LOCATION:Ebro Food Festival\, P. Echegaray y Caballero\, 12\, Zaragoza\, 50003
CATEGORIES:Ferias y mercados
END:VEVENT
BEGIN:VEVENT
DTSTART;TZID=UTC:20251012T130000
DTEND;TZID=UTC:20251012T130000
DTSTAMP:20260421T114620
CREATED:20250921T214720Z
LAST-MODIFIED:20251003T154546Z
UID:5134-1760274000-1760274000@zaraband.es
SUMMARY:La barraca de los títeres
DESCRIPTION:
URL:https://zaraband.es/evento/la-barraca-de-los-titeres-41/
LOCATION:C/Moret\, C/Moret\, Zaragoza\, Zaragoza\, 50001\, Spain
CATEGORIES:Infantil
END:VEVENT
BEGIN:VEVENT
DTSTART;TZID=UTC:20251012T120000
DTEND;TZID=UTC:20251012T120000
DTSTAMP:20260421T114620
CREATED:20250921T214811Z
LAST-MODIFIED:20250921T214811Z
UID:5140-1760270400-1760270400@zaraband.es
SUMMARY:II Festival Internacional de Circo de Zaragoza
DESCRIPTION:
URL:https://zaraband.es/evento/ii-festival-internacional-de-circo-de-zaragoza-4/
LOCATION:Recinto Ferial Valdespartera\, Recinto ferial de valdespartera de zaragoza - zona atracciones\, Zaragoza\, 50019
CATEGORIES:Magia y circo
END:VEVENT
BEGIN:VEVENT
DTSTART;TZID=UTC:20251012T120000
DTEND;TZID=UTC:20251012T120000
DTSTAMP:20260421T114620
CREATED:20250921T214811Z
LAST-MODIFIED:20250921T214811Z
UID:5141-1760270400-1760270400@zaraband.es
SUMMARY:Planeta Jurásico – Carpa blanca Valdespartera
DESCRIPTION:
URL:https://zaraband.es/evento/planeta-jurasico-carpa-blanca-valdespartera-15/
LOCATION:Recinto Ferial Valdespartera\, Recinto ferial de valdespartera de zaragoza - zona atracciones\, Zaragoza\, 50019
CATEGORIES:Infantil
END:VEVENT
BEGIN:VEVENT
DTSTART;TZID=UTC:20251012T120000
DTEND;TZID=UTC:20251012T120000
DTSTAMP:20260421T114620
CREATED:20250921T214756Z
LAST-MODIFIED:20250921T214756Z
UID:5139-1760270400-1760270400@zaraband.es
SUMMARY:El carro de la alegría
DESCRIPTION:
URL:https://zaraband.es/evento/el-carro-de-la-alegria-4/
LOCATION:Museo del Fuego y los Bomberos\, Calle Ramón y Cajal\, 32\, Zaragoza\, 50004
CATEGORIES:Infantil
END:VEVENT
BEGIN:VEVENT
DTSTART;TZID=UTC:20251012T120000
DTEND;TZID=UTC:20251012T120000
DTSTAMP:20260421T114620
CREATED:20250921T214720Z
LAST-MODIFIED:20250921T214720Z
UID:5130-1760270400-1760270400@zaraband.es
SUMMARY:Solemne misa pontifical
DESCRIPTION:
URL:https://zaraband.es/evento/solemne-misa-pontifical/
LOCATION:La Santa y Angélica Capilla de la Basílica del Pilar\, Plaza del Pilar\, Zaragoza\, 50003
CATEGORIES:Religioso
END:VEVENT
BEGIN:VEVENT
DTSTART;TZID=UTC:20251012T120000
DTEND;TZID=UTC:20251012T120000
DTSTAMP:20260421T114620
CREATED:20250921T214720Z
LAST-MODIFIED:20250921T214720Z
UID:5131-1760270400-1760270400@zaraband.es
SUMMARY:Danza contemporánea: Ambae Company
DESCRIPTION:
URL:https://zaraband.es/evento/danza-contemporanea-ambae-company/
LOCATION:Anfiteatro Residencia Xior\, Calle de la Madre Rafols\, 4\, Zaragoza\, 50004
CATEGORIES:Danza
END:VEVENT
BEGIN:VEVENT
DTSTART;TZID=UTC:20251012T120000
DTEND;TZID=UTC:20251012T120000
DTSTAMP:20260421T114620
CREATED:20250921T214720Z
LAST-MODIFIED:20250921T214720Z
UID:5132-1760270400-1760270400@zaraband.es
SUMMARY:Food Trucks: Taller infantil de  marionetas de cabezudos
DESCRIPTION:
URL:https://zaraband.es/evento/food-trucks-taller-infantil-de-marionetas-de-cabezudos/
LOCATION:Ebro Food Festival\, P. Echegaray y Caballero\, 12\, Zaragoza\, 50003
CATEGORIES:Infantil
END:VEVENT
BEGIN:VEVENT
DTSTART;TZID=UTC:20251012T120000
DTEND;TZID=UTC:20251012T120000
DTSTAMP:20260421T114620
CREATED:20250921T214720Z
LAST-MODIFIED:20251003T154538Z
UID:5133-1760270400-1760270400@zaraband.es
SUMMARY:La barraca de los títeres
DESCRIPTION:
URL:https://zaraband.es/evento/la-barraca-de-los-titeres-40/
LOCATION:C/Moret\, C/Moret\, Zaragoza\, Zaragoza\, 50001\, Spain
CATEGORIES:Infantil
END:VEVENT
BEGIN:VEVENT
DTSTART;TZID=UTC:20251012T113000
DTEND;TZID=UTC:20251012T113000
DTSTAMP:20260421T114620
CREATED:20250921T214705Z
LAST-MODIFIED:20250921T214705Z
UID:5129-1760268600-1760268600@zaraband.es
SUMMARY:XXV Campeonato de España  Goyesco de recortes con toros
DESCRIPTION:
URL:https://zaraband.es/evento/xxv-campeonato-de-espana-goyesco-de-recortes-con-toros/
LOCATION:Plaza de toros de la Misericordia\, C. de Ramón Pignatelli 120\, Zaragoza\, 50004
CATEGORIES:Tauromaquia
END:VEVENT
BEGIN:VEVENT
DTSTART;TZID=UTC:20251012T113000
DTEND;TZID=UTC:20251012T113000
DTSTAMP:20260421T114620
CREATED:20250921T214705Z
LAST-MODIFIED:20250921T214705Z
UID:5127-1760268600-1760268600@zaraband.es
SUMMARY:Danza contemporánea: Andrés García
DESCRIPTION:
URL:https://zaraband.es/evento/danza-contemporanea-andres-garcia/
LOCATION:Anfiteatro Residencia Xior\, Calle de la Madre Rafols\, 4\, Zaragoza\, 50004
CATEGORIES:Danza
END:VEVENT
BEGIN:VEVENT
DTSTART;TZID=UTC:20251012T113000
DTEND;TZID=UTC:20251012T113000
DTSTAMP:20260421T114620
CREATED:20250921T214705Z
LAST-MODIFIED:20250921T214705Z
UID:5128-1760268600-1760268600@zaraband.es
SUMMARY:Río y juego
DESCRIPTION:
URL:https://zaraband.es/evento/rio-y-juego-10/
LOCATION:Frente fluvial Expo\, Pabellon de España\, Zaragoza\, 50018
CATEGORIES:Infantil
END:VEVENT
BEGIN:VEVENT
DTSTART;TZID=UTC:20251012T110000
DTEND;TZID=UTC:20251012T110000
DTSTAMP:20260421T114620
CREATED:20250921T214704Z
LAST-MODIFIED:20250921T214704Z
UID:5125-1760266800-1760266800@zaraband.es
SUMMARY:Muestra Artesanía y Agroalimentaría
DESCRIPTION:
URL:https://zaraband.es/evento/muestra-artesania-y-agroalimentaria-21/
LOCATION:Plaza de los Sitios\, Plaza de los Sitios\, Zaragoza\, 50001
CATEGORIES:Ferias y mercados
END:VEVENT
BEGIN:VEVENT
DTSTART;TZID=UTC:20251012T110000
DTEND;TZID=UTC:20251012T110000
DTSTAMP:20260421T114620
CREATED:20250921T214704Z
LAST-MODIFIED:20250921T214704Z
UID:5126-1760266800-1760266800@zaraband.es
SUMMARY:El Pilar en Las Armas. Mercadillo artesano
DESCRIPTION:
URL:https://zaraband.es/evento/el-pilar-en-las-armas-mercadillo-artesano-4/
LOCATION:Plaza Mariano de Cavia\, Plaza Mariano de Cavia\, s/n\, Zaragoza\, 50003
CATEGORIES:Ferias y mercados
END:VEVENT
BEGIN:VEVENT
DTSTART;TZID=UTC:20251012T110000
DTEND;TZID=UTC:20251012T110000
DTSTAMP:20260421T114620
CREATED:20250921T214606Z
LAST-MODIFIED:20250921T214606Z
UID:5124-1760266800-1760266800@zaraband.es
SUMMARY:Parque de las Marionetas. XV Festival Internacional de Teatro de Feria
DESCRIPTION:
URL:https://zaraband.es/evento/parque-de-las-marionetas-xv-festival-internacional-de-teatro-de-feria-7/
LOCATION:Parque Grande J.A. Labordeta\, Pº Isabel la Católica\, s/n\, Zaragoza\, 50006
CATEGORIES:Infantil
END:VEVENT
BEGIN:VEVENT
DTSTART;TZID=UTC:20251012T100000
DTEND;TZID=UTC:20251012T100000
DTSTAMP:20260421T114620
CREATED:20250921T214606Z
LAST-MODIFIED:20250921T214606Z
UID:5123-1760263200-1760263200@zaraband.es
SUMMARY:Entrada gratuita a los museos y salas de exposiciones municipales
DESCRIPTION:
URL:https://zaraband.es/evento/entrada-gratuita-a-los-museos-y-salas-de-exposiciones-municipales/
LOCATION:Zaragoza
CATEGORIES:Actividades
END:VEVENT
BEGIN:VEVENT
DTSTART;TZID=UTC:20251012T093500
DTEND;TZID=UTC:20251012T093500
DTSTAMP:20260421T114620
CREATED:20250921T214605Z
LAST-MODIFIED:20250921T214605Z
UID:5122-1760261700-1760261700@zaraband.es
SUMMARY:Ofrenda fluvial
DESCRIPTION:
URL:https://zaraband.es/evento/ofrenda-fluvial-2/
LOCATION:Puente de Piedra-Club Náutico Zaragoza\, P.º Echegaray y Caballero\, 101\, Zaragoza\, 50003
CATEGORIES:Tradicional
END:VEVENT
BEGIN:VEVENT
DTSTART;TZID=UTC:20251012T090000
DTEND;TZID=UTC:20251012T090000
DTSTAMP:20260421T114620
CREATED:20250921T214605Z
LAST-MODIFIED:20250921T214605Z
UID:5121-1760259600-1760259600@zaraband.es
SUMMARY:Xinglar (FFAMA)
DESCRIPTION:
URL:https://zaraband.es/evento/xinglar-ffama/
LOCATION:Plaza del Pilar\, Plaza del Pilar\, Zaragoza\, 50003
CATEGORIES:Tradicional
END:VEVENT
BEGIN:VEVENT
DTSTART;TZID=UTC:20251012T080000
DTEND;TZID=UTC:20251012T080000
DTSTAMP:20260421T114620
CREATED:20250908T224740Z
LAST-MODIFIED:20250921T214605Z
UID:3573-1760256000-1760256000@zaraband.es
SUMMARY:Mañanas Vaquilleras (vaquillas)
DESCRIPTION:
URL:https://zaraband.es/evento/mananas-vaquilleras-vaquillas-7/
LOCATION:Plaza de toros de la Misericordia\, C. de Ramón Pignatelli 120\, Zaragoza\, 50004
CATEGORIES:Tauromaquia
END:VEVENT
BEGIN:VEVENT
DTSTART;TZID=UTC:20251012T073000
DTEND;TZID=UTC:20251012T073000
DTSTAMP:20260421T114620
CREATED:20250921T214549Z
LAST-MODIFIED:20250921T214549Z
UID:5120-1760254200-1760254200@zaraband.es
SUMMARY:Inicio del montaje de la alfombra floral
DESCRIPTION:
URL:https://zaraband.es/evento/inicio-del-montaje-de-la-alfombra-floral/
LOCATION:Plaza del Pilar\, Plaza del Pilar\, Zaragoza\, 50003
CATEGORIES:Tradicional
END:VEVENT
BEGIN:VEVENT
DTSTART;TZID=UTC:20251012T063000
DTEND;TZID=UTC:20251012T063000
DTSTAMP:20260421T114620
CREATED:20250921T214549Z
LAST-MODIFIED:20250921T214549Z
UID:5119-1760250600-1760250600@zaraband.es
SUMMARY:Misa solemne
DESCRIPTION:
URL:https://zaraband.es/evento/misa-solemne/
LOCATION:Iglesia de San Pablo\, C. de San Pablo\, 42\, Zaragoza\, 50003
CATEGORIES:Religioso
END:VEVENT
BEGIN:VEVENT
DTSTART;TZID=UTC:20251012T063000
DTEND;TZID=UTC:20251012T063000
DTSTAMP:20260421T114620
CREATED:20250908T214710Z
LAST-MODIFIED:20250921T214549Z
UID:3422-1760250600-1760250600@zaraband.es
SUMMARY:Ofrenda de Flores
DESCRIPTION:Ofrenda floral a la Virgen del Pilar
URL:https://zaraband.es/evento/ofrenda-de-flores/
LOCATION:Plaza del Pilar\, Plaza del Pilar\, Zaragoza\, 50003
CATEGORIES:Tradicional
END:VEVENT
BEGIN:VEVENT
DTSTART;TZID=UTC:20251012T050000
DTEND;TZID=UTC:20251012T050000
DTSTAMP:20260421T114620
CREATED:20250911T194850Z
LAST-MODIFIED:20250921T214549Z
UID:4143-1760245200-1760245200@zaraband.es
SUMMARY:Rosario de la Aurora
DESCRIPTION:
URL:https://zaraband.es/evento/rosario-de-la-aurora-2/
LOCATION:Iglesia de San Pablo\, C. de San Pablo\, 42\, Zaragoza\, 50003
CATEGORIES:Religioso
END:VEVENT
BEGIN:VEVENT
DTSTART;TZID=UTC:20251012T043000
DTEND;TZID=UTC:20251012T043000
DTSTAMP:20260421T114620
CREATED:20250921T214549Z
LAST-MODIFIED:20250921T214549Z
UID:5118-1760243400-1760243400@zaraband.es
SUMMARY:Tradicional y solemne misa de infantes
DESCRIPTION:
URL:https://zaraband.es/evento/tradicional-y-solemne-misa-de-infantes/
LOCATION:La Santa y Angélica Capilla de la Basílica del Pilar\, Plaza del Pilar\, Zaragoza\, 50003
CATEGORIES:Religioso
END:VEVENT
BEGIN:VEVENT
DTSTART;TZID=UTC:20251012T041500
DTEND;TZID=UTC:20251012T041500
DTSTAMP:20260421T114620
CREATED:20250921T214535Z
LAST-MODIFIED:20250921T214535Z
UID:5117-1760242500-1760242500@zaraband.es
SUMMARY:Misa en la Parroquia de San Pablo
DESCRIPTION:
URL:https://zaraband.es/evento/misa-en-la-parroquia-de-san-pablo/
LOCATION:Iglesia de San Pablo\, C. de San Pablo\, 42\, Zaragoza\, 50003
CATEGORIES:Religioso
END:VEVENT
END:VCALENDAR